Workbook

Sheet  DC_MTOA 
A1: TOTAL MU | B1: MU | C1: =SUM(C101:AF101) -> 16.6274 | D1: =SUM(C4:AF99)/4000 -> 16.6274 | E1: =D1*1000/(30*24) -> 23.093611 | F1: MW | P1: BLOCKWISE LTA OF MTPCL
A2: DATE | C2: 46174 | D2: 46175 | E2: 46176 | F2: 46177 | G2: 46178 | H2: 46179 | I2: 46180 | J2: 46181 | K2: 46182 | L2: 46183 | M2: 46184 | N2: 46185 | O2: 46186 | P2: 46187 | Q2: 46188 | R2: 46189 | S2: 46190 | T2: 46191 | U2: 46192 | V2: 46193 | W2: 46194 | X2: 46195 | Y2: 46196 | Z2: 46197 | AA2: 46198 | AB2: 46199 | AC2: 46200 | AD2: 46201 | AE2: 46202 | AF2: 46203
A3: Time | B3: Block
A4: 0 | B4: 1 | C4: 24.7 | D4: 24.7 | E4: 24.7 | F4: 24.7 | G4: 24.7 | H4: 24.7 | I4: 24.7 | J4: 24.7 | K4: 24.7 | L4: 24.7 | M4: 24.7 | N4: 24.7 | O4: 24.7 | P4: 24.38 | Q4: 24.38 | R4: 24.38 | S4: 24.38 | T4: 24.38 | U4: 24.38 | V4: 24.38 | W4: 24.38 | X4: 24.38 | Y4: 24.38 | Z4: 24.38 | AA4: 24.38 | AB4: 24.38 | AC4: 24.38 | AD4: 24.38 | AE4: 24.38 | AF4: 0
A5: 0.010416667 | B5: 2 | C5: 24.7 | D5: 24.7 | E5: 24.7 | F5: 24.7 | G5: 24.7 | H5: 24.7 | I5: 24.7 | J5: 24.7 | K5: 24.7 | L5: 24.7 | M5: 24.7 | N5: 24.7 | O5: 24.7 | P5: 24.38 | Q5: 24.38 | R5: 24.38 | S5: 24.38 | T5: 24.38 | U5: 24.38 | V5: 24.38 | W5: 24.38 | X5: 24.38 | Y5: 24.38 | Z5: 24.38 | AA5: 24.38 | AB5: 24.38 | AC5: 24.38 | AD5: 24.38 | AE5: 24.38 | AF5: 0
A6: 0.020833333 | B6: 3 | C6: 24.7 | D6: 24.7 | E6: 24.7 | F6: 24.7 | G6: 24.7 | H6: 24.7 | I6: 24.7 | J6: 24.7 | K6: 24.7 | L6: 24.7 | M6: 24.7 | N6: 24.7 | O6: 24.7 | P6: 24.38 | Q6: 24.38 | R6: 24.38 | S6: 24.38 | T6: 24.38 | U6: 24.38 | V6: 24.38 | W6: 24.38 | X6: 24.38 | Y6: 24.38 | Z6: 24.38 | AA6: 24.38 | AB6: 24.38 | AC6: 24.38 | AD6: 24.38 | AE6: 24.38 | AF6: 0
A7: 0.03125 | B7: 4 | C7: 24.7 | D7: 24.7 | E7: 24.7 | F7: 24.7 | G7: 24.7 | H7: 24.7 | I7: 24.7 | J7: 24.7 | K7: 24.7 | L7: 24.7 | M7: 24.7 | N7: 24.7 | O7: 24.7 | P7: 24.38 | Q7: 24.38 | R7: 24.38 | S7: 24.38 | T7: 24.38 | U7: 24.38 | V7: 24.38 | W7: 24.38 | X7: 24.38 | Y7: 24.38 | Z7: 24.38 | AA7: 24.38 | AB7: 24.38 | AC7: 24.38 | AD7: 24.38 | AE7: 24.38 | AF7: 0
A8: 0.041666667 | B8: 5 | C8: 24.7 | D8: 24.7 | E8: 24.7 | F8: 24.7 | G8: 24.7 | H8: 24.7 | I8: 24.7 | J8: 24.7 | K8: 24.7 | L8: 24.7 | M8: 24.7 | N8: 24.7 | O8: 24.7 | P8: 24.38 | Q8: 24.38 | R8: 24.38 | S8: 24.38 | T8: 24.38 | U8: 24.38 | V8: 24.38 | W8: 24.38 | X8: 24.38 | Y8: 24.38 | Z8: 24.38 | AA8: 24.38 | AB8: 24.38 | AC8: 24.38 | AD8: 24.38 | AE8: 24.38 | AF8: 0
A9: 0.052083333 | B9: 6 | C9: 24.7 | D9: 24.7 | E9: 24.7 | F9: 24.7 | G9: 24.7 | H9: 24.7 | I9: 24.7 | J9: 24.7 | K9: 24.7 | L9: 24.7 | M9: 24.7 | N9: 24.7 | O9: 24.7 | P9: 24.38 | Q9: 24.38 | R9: 24.38 | S9: 24.38 | T9: 24.38 | U9: 24.38 | V9: 24.38 | W9: 24.38 | X9: 24.38 | Y9: 24.38 | Z9: 24.38 | AA9: 24.38 | AB9: 24.38 | AC9: 24.38 | AD9: 24.38 | AE9: 24.38 | AF9: 0
A10: 0.0625 | B10: 7 | C10: 24.7 | D10: 24.7 | E10: 24.7 | F10: 24.7 | G10: 24.7 | H10: 24.7 | I10: 24.7 | J10: 24.7 | K10: 24.7 | L10: 24.7 | M10: 24.7 | N10: 24.7 | O10: 24.7 | P10: 24.38 | Q10: 24.38 | R10: 24.38 | S10: 24.38 | T10: 24.38 | U10: 24.38 | V10: 24.38 | W10: 24.38 | X10: 24.38 | Y10: 24.38 | Z10: 24.38 | AA10: 24.38 | AB10: 24.38 | AC10: 24.38 | AD10: 24.38 | AE10: 24.38 | AF10: 0
A11: 0.072916667 | B11: 8 | C11: 24.7 | D11: 24.7 | E11: 24.7 | F11: 24.7 | G11: 24.7 | H11: 24.7 | I11: 24.7 | J11: 24.7 | K11: 24.7 | L11: 24.7 | M11: 24.7 | N11: 24.7 | O11: 24.7 | P11: 24.38 | Q11: 24.38 | R11: 24.38 | S11: 24.38 | T11: 24.38 | U11: 24.38 | V11: 24.38 | W11: 24.38 | X11: 24.38 | Y11: 24.38 | Z11: 24.38 | AA11: 24.38 | AB11: 24.38 | AC11: 24.38 | AD11: 24.38 | AE11: 24.38 | AF11: 0
A12: 0.083333333 | B12: 9 | C12: 24.7 | D12: 24.7 | E12: 24.7 | F12: 24.7 | G12: 24.7 | H12: 24.7 | I12: 24.7 | J12: 24.7 | K12: 24.7 | L12: 24.7 | M12: 24.7 | N12: 24.7 | O12: 24.7 | P12: 24.38 | Q12: 24.38 | R12: 24.38 | S12: 24.38 | T12: 24.38 | U12: 24.38 | V12: 24.38 | W12: 24.38 | X12: 24.38 | Y12: 24.38 | Z12: 24.38 | AA12: 24.38 | AB12: 24.38 | AC12: 24.38 | AD12: 24.38 | AE12: 24.38 | AF12: 0
A13: 0.09375 | B13: 10 | C13: 24.7 | D13: 24.7 | E13: 24.7 | F13: 24.7 | G13: 24.7 | H13: 24.7 | I13: 24.7 | J13: 24.7 | K13: 24.7 | L13: 24.7 | M13: 24.7 | N13: 24.7 | O13: 24.7 | P13: 24.38 | Q13: 24.38 | R13: 24.38 | S13: 24.38 | T13: 24.38 | U13: 24.38 | V13: 24.38 | W13: 24.38 | X13: 24.38 | Y13: 24.38 | Z13: 24.38 | AA13: 24.38 | AB13: 24.38 | AC13: 24.38 | AD13: 24.38 | AE13: 24.38 | AF13: 0
A14: 0.10416667 | B14: 11 | C14: 24.7 | D14: 24.7 | E14: 24.7 | F14: 24.7 | G14: 24.7 | H14: 24.7 | I14: 24.7 | J14: 24.7 | K14: 24.7 | L14: 24.7 | M14: 24.7 | N14: 24.7 | O14: 24.7 | P14: 24.38 | Q14: 24.38 | R14: 24.38 | S14: 24.38 | T14: 24.38 | U14: 24.38 | V14: 24.38 | W14: 24.38 | X14: 24.38 | Y14: 24.38 | Z14: 24.38 | AA14: 24.38 | AB14: 24.38 | AC14: 24.38 | AD14: 24.38 | AE14: 24.38 | AF14: 0
A15: 0.11458333 | B15: 12 | C15: 24.7 | D15: 24.7 | E15: 24.7 | F15: 24.7 | G15: 24.7 | H15: 24.7 | I15: 24.7 | J15: 24.7 | K15: 24.7 | L15: 24.7 | M15: 24.7 | N15: 24.7 | O15: 24.7 | P15: 24.38 | Q15: 24.38 | R15: 24.38 | S15: 24.38 | T15: 24.38 | U15: 24.38 | V15: 24.38 | W15: 24.38 | X15: 24.38 | Y15: 24.38 | Z15: 24.38 | AA15: 24.38 | AB15: 24.38 | AC15: 24.38 | AD15: 24.38 | AE15: 24.38 | AF15: 0
... A99: 0.98958333 | B99: 96 | C99: 24.7 | D99: 24.7 | E99: 24.7 | F99: 24.7 | G99: 24.7 | H99: 24.7 | I99: 24.7 | J99: 24.7 | K99: 24.7 | L99: 24.7 | M99: 24.7 | N99: 24.7 | O99: 24.7 | P99: 24.38 | Q99: 24.38 | R99: 24.38 | S99: 24.38 | T99: 24.38 | U99: 24.38 | V99: 24.38 | W99: 24.38 | X99: 24.38 | Y99: 24.38 | Z99: 24.38 | AA99: 24.38 | AB99: 24.38 | AC99: 24.38 | AD99: 24.38 | AE99: 0 | AF99: 0
A100: AVERAGE | C100: =AVERAGE(C4:C99) -> 24.7 | D100: =AVERAGE(D4:D99) -> 18.010417 | E100: =AVERAGE(E4:E99) -> 24.7 | F100: =AVERAGE(F4:F99) -> 24.7 | G100: =AVERAGE(G4:G99) -> 24.7 | H100: =AVERAGE(H4:H99) -> 24.7 | I100: =AVERAGE(I4:I99) -> 24.7 | J100: =AVERAGE(J4:J99) -> 24.7 | ... AF100: =AVERAGE(AF4:AF99) -> 0
A101: MU | C101: =C100*24/1000 -> 0.5928 | D101: =D100*24/1000 -> 0.43225 | E101: =E100*24/1000 -> 0.5928 | F101: =F100*24/1000 -> 0.5928 | G101: =G100*24/1000 -> 0.5928 | H101: =H100*24/1000 -> 0.5928 | I101: =I100*24/1000 -> 0.5928 | J101: =J100*24/1000 -> 0.5928 | ... AF101: =AF100*24/1000 -> 0

Sheet DC_LTA 
A1: TOTAL MU | B1: MU | C1: =SUM(C101:AF101) -> 3.9421048 | D1: =SUM(C4:AF99)/4000 -> 3.9421048 | E1: =D1*1000/(30*24) -> 5.4751455 | F1: MW | P1: BLOCKWISE LTA OF MTPCL
A2: DATE | C2: =' DC_MTOA '!C2 -> 46174 | D2: =' DC_MTOA '!D2 -> 46175 | E2: =' DC_MTOA '!E2 -> 46176 | F2: =' DC_MTOA '!F2 -> 46177 | G2: =' DC_MTOA '!G2 -> 46178 | H2: =' DC_MTOA '!H2 -> 46179 | I2: =' DC_MTOA '!I2 -> 46180 | J2: =' DC_MTOA '!J2 -> 46181 | ... AF2: =' DC_MTOA '!AF2 -> 46203
A3: Time | B3: Block
A4: 0 | B4: 1 | C4: 6.644 | D4: 6.644 | E4: 6.644 | F4: 6.644 | G4: 6.644 | H4: 6.644 | I4: 6.644 | J4: 6.644 | K4: 6.644 | L4: 6.644 | M4: 6.644 | N4: 5.171 | O4: 6.644 | P4: 6.6 | Q4: 6.6 | R4: 6.6 | S4: 6.6 | T4: 6.6 | U4: 6.6 | V4: 6.6 | W4: 6.6 | X4: 6.6 | Y4: 6.6 | Z4: 6.6 | AA4: 6.6 | AB4: 6.6 | AC4: 6.6 | AD4: 6.6 | AE4: 3.788 | AF4: 0
A5: 0.010416667 | B5: 2 | C5: 6.644 | D5: 6.644 | E5: 6.644 | F5: 6.644 | G5: 6.644 | H5: 6.644 | I5: 6.644 | J5: 6.644 | K5: 6.644 | L5: 6.644 | M5: 6.644 | N5: 5.171 | O5: 6.644 | P5: 6.6 | Q5: 6.6 | R5: 6.6 | S5: 6.6 | T5: 6.6 | U5: 6.6 | V5: 6.6 | W5: 6.6 | X5: 6.6 | Y5: 6.6 | Z5: 6.6 | AA5: 6.6 | AB5: 6.6 | AC5: 6.6 | AD5: 6.6 | AE5: 3.788 | AF5: 0
A6: 0.020833333 | B6: 3 | C6: 6.644 | D6: 6.644 | E6: 6.644 | F6: 6.644 | G6: 6.644 | H6: 6.644 | I6: 6.644 | J6: 6.644 | K6: 6.644 | L6: 6.644 | M6: 6.644 | N6: 5.899 | O6: 6.644 | P6: 6.6 | Q6: 6.6 | R6: 6.6 | S6: 6.6 | T6: 6.6 | U6: 6.6 | V6: 6.6 | W6: 6.6 | X6: 6.6 | Y6: 6.6 | Z6: 6.6 | AA6: 6.6 | AB6: 6.6 | AC6: 6.6 | AD6: 6.6 | AE6: 3.788 | AF6: 0
A7: 0.03125 | B7: 4 | C7: 6.644 | D7: 6.644 | E7: 6.644 | F7: 6.644 | G7: 6.644 | H7: 6.644 | I7: 6.644 | J7: 6.644 | K7: 6.644 | L7: 6.644 | M7: 6.644 | N7: 6.644 | O7: 6.644 | P7: 6.6 | Q7: 6.6 | R7: 6.6 | S7: 6.6 | T7: 6.6 | U7: 6.6 | V7: 6.6 | W7: 6.6 | X7: 6.6 | Y7: 6.6 | Z7: 6.6 | AA7: 6.6 | AB7: 6.6 | AC7: 6.6 | AD7: 6.6 | AE7: 3.788 | AF7: 0
A8: 0.041666667 | B8: 5 | C8: 6.644 | D8: 6.644 | E8: 6.644 | F8: 6.644 | G8: 6.644 | H8: 6.644 | I8: 6.644 | J8: 6.644 | K8: 6.644 | L8: 6.644 | M8: 6.644 | N8: 5.899 | O8: 6.644 | P8: 6.6 | Q8: 6.6 | R8: 6.6 | S8: 6.6 | T8: 6.6 | U8: 6.6 | V8: 6.6 | W8: 6.6 | X8: 6.6 | Y8: 6.6 | Z8: 6.6 | AA8: 6.6 | AB8: 6.6 | AC8: 6.6 | AD8: 6.6 | AE8: 3.788 | AF8: 0
A9: 0.052083333 | B9: 6 | C9: 6.644 | D9: 6.644 | E9: 6.644 | F9: 6.644 | G9: 6.644 | H9: 6.644 | I9: 6.644 | J9: 6.644 | K9: 6.644 | L9: 6.644 | M9: 6.644 | N9: 5.171 | O9: 6.644 | P9: 6.6 | Q9: 6.6 | R9: 6.6 | S9: 6.6 | T9: 6.6 | U9: 6.6 | V9: 6.6 | W9: 6.6 | X9: 6.6 | Y9: 6.6 | Z9: 6.6 | AA9: 6.6 | AB9: 6.6 | AC9: 6.6 | AD9: 6.6 | AE9: 3.788 | AF9: 0
A10: 0.0625 | B10: 7 | C10: 6.644 | D10: 6.644 | E10: 6.644 | F10: 6.644 | G10: 6.644 | H10: 6.644 | I10: 6.644 | J10: 6.644 | K10: 6.644 | L10: 6.644 | M10: 6.644 | N10: 5.171 | O10: 6.644 | P10: 6.6 | Q10: 6.6 | R10: 6.6 | S10: 6.6 | T10: 6.6 | U10: 6.6 | V10: 6.6 | W10: 6.6 | X10: 6.6 | Y10: 6.6 | Z10: 6.6 | AA10: 6.6 | AB10: 6.6 | AC10: 6.6 | AD10: 6.6 | AE10: 3.788 | AF10: 0
A11: 0.072916667 | B11: 8 | C11: 6.644 | D11: 6.644 | E11: 6.644 | F11: 6.644 | G11: 6.644 | H11: 6.644 | I11: 6.644 | J11: 6.644 | K11: 6.644 | L11: 6.644 | M11: 6.644 | N11: 5.171 | O11: 6.644 | P11: 6.6 | Q11: 6.6 | R11: 6.6 | S11: 6.6 | T11: 6.6 | U11: 6.6 | V11: 6.6 | W11: 6.6 | X11: 6.6 | Y11: 6.6 | Z11: 6.6 | AA11: 6.6 | AB11: 6.6 | AC11: 6.6 | AD11: 6.6 | AE11: 3.788 | AF11: 0
A12: 0.083333333 | B12: 9 | C12: 6.644 | D12: 6.644 | E12: 6.644 | F12: 6.644 | G12: 6.644 | H12: 6.644 | I12: 6.644 | J12: 5.941 | K12: 6.644 | L12: 6.644 | M12: 6.644 | N12: 5.171 | O12: 5.899 | P12: 6.6 | Q12: 6.6 | R12: 6.6 | S12: 6.6 | T12: 6.6 | U12: 6.6 | V12: 6.6 | W12: 6.6 | X12: 6.6 | Y12: 6.6 | Z12: 6.6 | AA12: 6.6 | AB12: 6.6 | AC12: 6.6 | AD12: 6.6 | AE12: 3.788 | AF12: 0
A13: 0.09375 | B13: 10 | C13: 6.644 | D13: 6.644 | E13: 6.644 | F13: 6.644 | G13: 6.644 | H13: 6.644 | I13: 6.644 | J13: 5.941 | K13: 6.644 | L13: 6.644 | M13: 6.644 | N13: 5.171 | O13: 5.171 | P13: 6.6 | Q13: 6.6 | R13: 6.6 | S13: 6.6 | T13: 6.6 | U13: 6.6 | V13: 6.6 | W13: 6.6 | X13: 6.6 | Y13: 6.6 | Z13: 6.6 | AA13: 6.6 | AB13: 6.6 | AC13: 6.6 | AD13: 6.6 | AE13: 3.788 | AF13: 0
A14: 0.10416667 | B14: 11 | C14: 6.644 | D14: 6.644 | E14: 6.644 | F14: 6.644 | G14: 6.644 | H14: 6.644 | I14: 6.644 | J14: 6.644 | K14: 6.644 | L14: 6.644 | M14: 6.644 | N14: 5.171 | O14: 5.171 | P14: 6.6 | Q14: 6.6 | R14: 6.6 | S14: 6.6 | T14: 6.6 | U14: 6.6 | V14: 6.6 | W14: 6.6 | X14: 6.6 | Y14: 6.6 | Z14: 6.6 | AA14: 6.6 | AB14: 6.6 | AC14: 6.6 | AD14: 6.6 | AE14: 3.788 | AF14: 0
A15: 0.11458333 | B15: 12 | C15: 6.644 | D15: 6.644 | E15: 6.644 | F15: 6.644 | G15: 6.644 | H15: 6.644 | I15: 6.644 | J15: 6.644 | K15: 6.644 | L15: 6.644 | M15: 6.644 | N15: 5.171 | O15: 5.171 | P15: 6.6 | Q15: 6.6 | R15: 6.6 | S15: 6.6 | T15: 6.6 | U15: 6.6 | V15: 6.6 | W15: 6.6 | X15: 6.6 | Y15: 6.6 | Z15: 6.6 | AA15: 6.6 | AB15: 6.6 | AC15: 6.6 | AD15: 6.6 | AE15: 3.788 | AF15: 0
... A99: 0.98958333 | B99: 96 | C99: 6.644 | D99: 6.644 | E99: 6.644 | F99: 6.644 | G99: 6.644 | H99: 6.644 | I99: 6.644 | J99: 6.644 | K99: 6.644 | L99: 6.644 | M99: 5.171 | N99: 6.644 | O99: 6.644 | P99: 6.6 | Q99: 6.6 | R99: 6.6 | S99: 6.6 | T99: 6.6 | U99: 6.6 | V99: 6.6 | W99: 6.6 | X99: 6.6 | Y99: 6.6 | Z99: 6.6 | AA99: 6.6 | AB99: 6.6 | AC99: 6.6 | AD99: 3.788 | AE99: 0 | AF99: 0
A100: AVERAGE | C100: =AVERAGE(C4:C99) -> 6.2760833 | D100: =AVERAGE(D4:D99) -> 4.7825625 | E100: =AVERAGE(E4:E99) -> 5.7535208 | F100: =AVERAGE(F4:F99) -> 5.6305833 | G100: =AVERAGE(G4:G99) -> 5.6959479 | H100: =AVERAGE(H4:H99) -> 5.7945417 | I100: =AVERAGE(I4:I99) -> 5.6578542 | J100: =AVERAGE(J4:J99) -> 5.7403438 | ... AF100: =AVERAGE(AF4:AF99) -> 0
A101: MU | C101: =C100*24/1000 -> 0.150626 | D101: =D100*24/1000 -> 0.1147815 | E101: =E100*24/1000 -> 0.1380845 | F101: =F100*24/1000 -> 0.135134 | G101: =G100*24/1000 -> 0.13670275 | H101: =H100*24/1000 -> 0.139069 | I101: =I100*24/1000 -> 0.1357885 | J101: =J100*24/1000 -> 0.13776825 | ... AF101: =AF100*24/1000 -> 0

Sheet SCH_LTA
A1: TOTAL MU | B1: MU | C1: =SUM(C101:AF101) -> 3.1279201 | D1: =SUM(C4:AF99)/4000 -> 3.1279201 | E1: =D1*1000/(30*24) -> 4.3443335 | F1: MW | P1: BLOCKWISE DC OF MTPCL
A2: DATE | C2: =' DC_MTOA '!C2 -> 46174 | D2: =' DC_MTOA '!D2 -> 46175 | E2: =' DC_MTOA '!E2 -> 46176 | F2: =' DC_MTOA '!F2 -> 46177 | G2: =' DC_MTOA '!G2 -> 46178 | H2: =' DC_MTOA '!H2 -> 46179 | I2: =' DC_MTOA '!I2 -> 46180 | J2: =' DC_MTOA '!J2 -> 46181 | ... AF2: =' DC_MTOA '!AF2 -> 46203
A3: Time | B3: Block
A4: 0 | B4: 1 | C4: 6.6436364 | D4: 6.6436364 | E4: 6.6436364 | F4: 6.6436364 | G4: 6.6436364 | H4: 6.6436364 | I4: 6.6436364 | J4: 6.6436364 | K4: 6.6436364 | L4: 6.6436364 | M4: 6.6436364 | N4: 5.1709091 | O4: 6.6436364 | P4: 6.6 | Q4: 6.6 | R4: 6.6 | S4: 6.6 | T4: 6.6 | U4: 6.6 | V4: 6.6 | W4: 6.6 | X4: 6.6 | Y4: 6.6 | Z4: 6.6 | AA4: 6.6 | AB4: 6.6 | AC4: 6.6 | AD4: 6.6 | AE4: 3.7881818 | AF4: 0
A5: 0.010416667 | B5: 2 | C5: 6.6436364 | D5: 6.6436364 | E5: 6.6436364 | F5: 6.6436364 | G5: 6.6436364 | H5: 6.6436364 | I5: 6.6436364 | J5: 6.6436364 | K5: 6.6436364 | L5: 6.6436364 | M5: 6.6436364 | N5: 5.1709091 | O5: 6.6436364 | P5: 6.6 | Q5: 6.6 | R5: 6.6 | S5: 6.6 | T5: 6.6 | U5: 6.6 | V5: 6.6 | W5: 6.6 | X5: 6.6 | Y5: 6.6 | Z5: 6.6 | AA5: 6.6 | AB5: 6.6 | AC5: 6.6 | AD5: 6.6 | AE5: 3.7881818 | AF5: 0
A6: 0.020833333 | B6: 3 | C6: 6.6436364 | D6: 6.6436364 | E6: 6.6436364 | F6: 6.6436364 | G6: 6.6436364 | H6: 6.6436364 | I6: 6.6436364 | J6: 6.6436364 | K6: 6.6436364 | L6: 6.6436364 | M6: 6.6436364 | N6: 5.8990909 | O6: 6.6436364 | P6: 6.6 | Q6: 6.6 | R6: 6.6 | S6: 6.6 | T6: 6.6 | U6: 6.6 | V6: 6.6 | W6: 6.6 | X6: 6.6 | Y6: 6.6 | Z6: 6.6 | AA6: 6.6 | AB6: 6.6 | AC6: 6.6 | AD6: 6.6 | AE6: 3.7881818 | AF6: 0
A7: 0.03125 | B7: 4 | C7: 6.6436364 | D7: 6.6436364 | E7: 6.6436364 | F7: 6.6436364 | G7: 6.6436364 | H7: 6.6436364 | I7: 6.6436364 | J7: 6.6436364 | K7: 6.6436364 | L7: 6.6436364 | M7: 6.6436364 | N7: 6.6436364 | O7: 6.6436364 | P7: 6.6 | Q7: 6.6 | R7: 6.6 | S7: 6.6 | T7: 6.6 | U7: 6.6 | V7: 6.6 | W7: 6.6 | X7: 6.6 | Y7: 6.6 | Z7: 6.6 | AA7: 6.6 | AB7: 6.6 | AC7: 6.6 | AD7: 6.6 | AE7: 3.7881818 | AF7: 0
A8: 0.041666667 | B8: 5 | C8: 6.6436364 | D8: 6.6436364 | E8: 6.6436364 | F8: 6.6436364 | G8: 6.6436364 | H8: 6.6436364 | I8: 6.6436364 | J8: 6.6436364 | K8: 6.6436364 | L8: 6.6436364 | M8: 6.6436364 | N8: 5.8990909 | O8: 6.6436364 | P8: 6.6 | Q8: 6.6 | R8: 6.6 | S8: 6.6 | T8: 6.6 | U8: 6.6 | V8: 6.6 | W8: 6.6 | X8: 6.6 | Y8: 6.6 | Z8: 6.6 | AA8: 6.6 | AB8: 6.6 | AC8: 6.6 | AD8: 6.6 | AE8: 3.7881818 | AF8: 0
A9: 0.052083333 | B9: 6 | C9: 6.6436364 | D9: 6.6436364 | E9: 6.6436364 | F9: 6.6436364 | G9: 6.6436364 | H9: 6.6436364 | I9: 6.6436364 | J9: 6.6436364 | K9: 6.6436364 | L9: 6.6436364 | M9: 6.6436364 | N9: 5.1709091 | O9: 6.6436364 | P9: 6.6 | Q9: 6.6 | R9: 6.6 | S9: 6.6 | T9: 6.6 | U9: 6.6 | V9: 6.6 | W9: 6.6 | X9: 6.6 | Y9: 6.6 | Z9: 6.6 | AA9: 6.6 | AB9: 6.6 | AC9: 6.6 | AD9: 6.6 | AE9: 3.7881818 | AF9: 0
A10: 0.0625 | B10: 7 | C10: 6.6436364 | D10: 6.6436364 | E10: 6.6436364 | F10: 6.6436364 | G10: 6.6436364 | H10: 6.6436364 | I10: 6.6436364 | J10: 6.6436364 | K10: 6.6436364 | L10: 6.6436364 | M10: 6.6436364 | N10: 5.1709091 | O10: 6.6436364 | P10: 6.6 | Q10: 6.6 | R10: 6.6 | S10: 6.6 | T10: 6.6 | U10: 6.6 | V10: 6.6 | W10: 6.6 | X10: 6.6 | Y10: 6.6 | Z10: 6.6 | AA10: 6.6 | AB10: 6.6 | AC10: 6.6 | AD10: 6.6 | AE10: 3.7881818 | AF10: 0
A11: 0.072916667 | B11: 8 | C11: 6.6436364 | D11: 6.6436364 | E11: 6.6436364 | F11: 6.6436364 | G11: 6.6436364 | H11: 6.6436364 | I11: 6.6436364 | J11: 6.6436364 | K11: 6.6436364 | L11: 6.6436364 | M11: 6.6436364 | N11: 5.1709091 | O11: 6.6436364 | P11: 6.6 | Q11: 6.6 | R11: 6.6 | S11: 6.6 | T11: 6.6 | U11: 6.6 | V11: 6.6 | W11: 6.6 | X11: 6.6 | Y11: 6.6 | Z11: 6.6 | AA11: 6.6 | AB11: 6.6 | AC11: 6.6 | AD11: 6.6 | AE11: 3.7881818 | AF11: 0
A12: 0.083333333 | B12: 9 | C12: 6.6436364 | D12: 6.6436364 | E12: 6.6436364 | F12: 6.6436364 | G12: 6.6436364 | H12: 6.6436364 | I12: 6.6436364 | J12: 5.9413636 | K12: 6.6436364 | L12: 6.6436364 | M12: 6.6436364 | N12: 5.1709091 | O12: 5.8990909 | P12: 6.6 | Q12: 6.6 | R12: 6.6 | S12: 6.6 | T12: 6.6 | U12: 6.6 | V12: 6.6 | W12: 6.6 | X12: 6.6 | Y12: 6.6 | Z12: 6.6 | AA12: 6.6 | AB12: 6.6 | AC12: 6.6 | AD12: 6.6 | AE12: 3.7881818 | AF12: 0
A13: 0.09375 | B13: 10 | C13: 6.6436364 | D13: 6.6436364 | E13: 6.6436364 | F13: 6.6436364 | G13: 6.6436364 | H13: 6.6436364 | I13: 6.6436364 | J13: 5.9413636 | K13: 6.6436364 | L13: 6.6436364 | M13: 6.6436364 | N13: 5.1709091 | O13: 5.1709091 | P13: 6.6 | Q13: 6.6 | R13: 6.6 | S13: 6.6 | T13: 6.6 | U13: 6.6 | V13: 6.6 | W13: 6.6 | X13: 6.6 | Y13: 6.6 | Z13: 6.6 | AA13: 6.6 | AB13: 6.6 | AC13: 6.6 | AD13: 6.6 | AE13: 3.7881818 | AF13: 0
A14: 0.10416667 | B14: 11 | C14: 6.6436364 | D14: 6.6436364 | E14: 6.6436364 | F14: 6.6436364 | G14: 6.6436364 | H14: 6.6436364 | I14: 6.6436364 | J14: 6.6436364 | K14: 6.6436364 | L14: 6.6436364 | M14: 6.6436364 | N14: 5.1709091 | O14: 5.1709091 | P14: 6.6 | Q14: 6.6 | R14: 6.6 | S14: 6.6 | T14: 6.6 | U14: 6.6 | V14: 6.6 | W14: 6.6 | X14: 6.6 | Y14: 6.6 | Z14: 6.6 | AA14: 6.6 | AB14: 6.6 | AC14: 6.6 | AD14: 6.6 | AE14: 3.7881818 | AF14: 0
A15: 0.11458333 | B15: 12 | C15: 6.6436364 | D15: 6.6436364 | E15: 6.6436364 | F15: 6.6436364 | G15: 6.6436364 | H15: 6.6436364 | I15: 6.6436364 | J15: 6.6436364 | K15: 6.6436364 | L15: 6.6436364 | M15: 6.6436364 | N15: 5.1709091 | O15: 5.1709091 | P15: 6.6 | Q15: 6.6 | R15: 6.6 | S15: 6.6 | T15: 6.6 | U15: 6.6 | V15: 6.6 | W15: 6.6 | X15: 6.6 | Y15: 6.6 | Z15: 6.6 | AA15: 6.6 | AB15: 6.6 | AC15: 6.6 | AD15: 6.6 | AE15: 3.7881818 | AF15: 0
... A99: 0.98958333 | B99: 96 | C99: 6.6436364 | D99: 6.6436364 | E99: 6.6436364 | F99: 6.6436364 | G99: 6.6436364 | H99: 6.6436364 | I99: 6.6436364 | J99: 6.6436364 | K99: 6.6436364 | L99: 6.6436364 | M99: 5.1709091 | N99: 6.6436364 | O99: 6.6436364 | P99: 6.6 | Q99: 6.6 | R99: 6.6 | S99: 6.6 | T99: 6.6 | U99: 6.6 | V99: 6.6 | W99: 6.6 | X99: 6.6 | Y99: 6.6 | Z99: 6.6 | AA99: 6.6 | AB99: 6.6 | AC99: 6.6 | AD99: 3.7881818 | AE99: 0 | AF99: 0
A100: AVERAGE | C100: =AVERAGE(C4:C99) -> 4.9416288 | D100: =AVERAGE(D4:D99) -> 4.4360701 | E100: =AVERAGE(E4:E99) -> 5.7532528 | F100: =AVERAGE(F4:F99) -> 4.8835701 | G100: =AVERAGE(G4:G99) -> 5.2648437 | H100: =AVERAGE(H4:H99) -> 5.2355587 | I100: =AVERAGE(I4:I99) -> 4.8969366 | J100: =AVERAGE(J4:J99) -> 5.1806487 | ... AF100: =AVERAGE(AF4:AF99) -> 0
A101: MU | C101: =C100*24/1000 -> 0.11859909 | D101: =D100*24/1000 -> 0.10646568 | E101: =E100*24/1000 -> 0.13807807 | F101: =F100*24/1000 -> 0.11720568 | G101: =G100*24/1000 -> 0.12635625 | H101: =H100*24/1000 -> 0.12565341 | I101: =I100*24/1000 -> 0.11752648 | J101: =J100*24/1000 -> 0.12433557 | ... AF101: =AF100*24/1000 -> 0

Sheet SCH_MTOA 
A1: TOTAL MU | B1: MU | C1: =SUM(C101:AF101) -> 15.855266 | D1: =SUM(C4:AF99)/4000 -> 15.855266 | E1: =D1*1000/(30*24) -> 22.021203 | F1: MW | P1: BLOCKWISE DC OF MTPCL
A2: DATE | C2: =' DC_MTOA '!C2 -> 46174 | D2: =' DC_MTOA '!D2 -> 46175 | E2: =' DC_MTOA '!E2 -> 46176 | F2: =' DC_MTOA '!F2 -> 46177 | G2: =' DC_MTOA '!G2 -> 46178 | H2: =' DC_MTOA '!H2 -> 46179 | I2: =' DC_MTOA '!I2 -> 46180 | J2: =' DC_MTOA '!J2 -> 46181 | ... AF2: =' DC_MTOA '!AF2 -> 46203
A3: Time | B3: Block
A4: 0 | B4: 1 | C4: 24.7 | D4: 24.7 | E4: 24.7 | F4: 24.7 | G4: 24.7 | H4: 24.7 | I4: 24.7 | J4: 24.7 | K4: 24.7 | L4: 24.7 | M4: 24.7 | N4: 24.7 | O4: 24.7 | P4: 24.38 | Q4: 24.38 | R4: 24.38 | S4: 24.38 | T4: 24.38 | U4: 24.38 | V4: 24.38 | W4: 24.38 | X4: 24.38 | Y4: 24.38 | Z4: 24.38 | AA4: 24.38 | AB4: 24.38 | AC4: 24.38 | AD4: 24.38 | AE4: 24.38 | AF4: 0
A5: 0.010416667 | B5: 2 | C5: 24.7 | D5: 24.7 | E5: 24.7 | F5: 24.7 | G5: 24.7 | H5: 24.7 | I5: 24.7 | J5: 24.7 | K5: 24.7 | L5: 24.7 | M5: 24.7 | N5: 24.7 | O5: 24.7 | P5: 24.38 | Q5: 24.38 | R5: 24.38 | S5: 24.38 | T5: 24.38 | U5: 24.38 | V5: 24.38 | W5: 24.38 | X5: 24.38 | Y5: 24.38 | Z5: 24.38 | AA5: 24.38 | AB5: 24.38 | AC5: 24.38 | AD5: 24.38 | AE5: 24.38 | AF5: 0
A6: 0.020833333 | B6: 3 | C6: 24.7 | D6: 24.7 | E6: 24.7 | F6: 24.7 | G6: 24.7 | H6: 24.7 | I6: 24.7 | J6: 24.7 | K6: 24.7 | L6: 24.7 | M6: 24.7 | N6: 24.7 | O6: 24.7 | P6: 24.38 | Q6: 24.38 | R6: 24.38 | S6: 24.38 | T6: 24.38 | U6: 24.38 | V6: 24.38 | W6: 24.38 | X6: 24.38 | Y6: 24.38 | Z6: 24.38 | AA6: 24.38 | AB6: 24.38 | AC6: 24.38 | AD6: 24.38 | AE6: 24.38 | AF6: 0
A7: 0.03125 | B7: 4 | C7: 24.7 | D7: 24.7 | E7: 24.7 | F7: 24.7 | G7: 24.7 | H7: 24.7 | I7: 24.7 | J7: 24.7 | K7: 24.7 | L7: 24.7 | M7: 24.7 | N7: 24.7 | O7: 24.7 | P7: 24.38 | Q7: 24.38 | R7: 24.38 | S7: 24.38 | T7: 24.38 | U7: 24.38 | V7: 24.38 | W7: 24.38 | X7: 24.38 | Y7: 24.38 | Z7: 24.38 | AA7: 24.38 | AB7: 24.38 | AC7: 24.38 | AD7: 24.38 | AE7: 24.38 | AF7: 0
A8: 0.041666667 | B8: 5 | C8: 24.7 | D8: 24.7 | E8: 24.7 | F8: 24.7 | G8: 24.7 | H8: 24.7 | I8: 24.7 | J8: 24.7 | K8: 24.7 | L8: 24.7 | M8: 24.7 | N8: 24.7 | O8: 24.7 | P8: 24.38 | Q8: 24.38 | R8: 24.38 | S8: 24.38 | T8: 24.38 | U8: 24.38 | V8: 24.38 | W8: 24.38 | X8: 24.38 | Y8: 24.38 | Z8: 24.38 | AA8: 24.38 | AB8: 24.38 | AC8: 24.38 | AD8: 24.38 | AE8: 24.38 | AF8: 0
A9: 0.052083333 | B9: 6 | C9: 24.7 | D9: 24.7 | E9: 24.7 | F9: 24.7 | G9: 24.7 | H9: 24.7 | I9: 24.7 | J9: 24.7 | K9: 24.7 | L9: 24.7 | M9: 24.7 | N9: 24.7 | O9: 24.7 | P9: 24.38 | Q9: 24.38 | R9: 24.38 | S9: 24.38 | T9: 24.38 | U9: 24.38 | V9: 24.38 | W9: 24.38 | X9: 24.38 | Y9: 24.38 | Z9: 24.38 | AA9: 24.38 | AB9: 24.38 | AC9: 24.38 | AD9: 24.38 | AE9: 24.38 | AF9: 0
A10: 0.0625 | B10: 7 | C10: 24.7 | D10: 24.7 | E10: 24.7 | F10: 24.7 | G10: 24.7 | H10: 24.7 | I10: 24.7 | J10: 24.7 | K10: 24.7 | L10: 24.7 | M10: 24.7 | N10: 24.7 | O10: 24.7 | P10: 24.38 | Q10: 24.38 | R10: 24.38 | S10: 24.38 | T10: 24.38 | U10: 24.38 | V10: 24.38 | W10: 24.38 | X10: 24.38 | Y10: 24.38 | Z10: 24.38 | AA10: 24.38 | AB10: 24.38 | AC10: 24.38 | AD10: 24.38 | AE10: 24.38 | AF10: 0
A11: 0.072916667 | B11: 8 | C11: 24.7 | D11: 24.7 | E11: 24.7 | F11: 24.7 | G11: 24.7 | H11: 24.7 | I11: 24.7 | J11: 24.7 | K11: 24.7 | L11: 24.7 | M11: 24.7 | N11: 24.7 | O11: 24.7 | P11: 24.38 | Q11: 24.38 | R11: 24.38 | S11: 24.38 | T11: 24.38 | U11: 24.38 | V11: 24.38 | W11: 24.38 | X11: 24.38 | Y11: 24.38 | Z11: 24.38 | AA11: 24.38 | AB11: 24.38 | AC11: 24.38 | AD11: 24.38 | AE11: 24.38 | AF11: 0
A12: 0.083333333 | B12: 9 | C12: 24.7 | D12: 24.7 | E12: 24.7 | F12: 24.7 | G12: 24.7 | H12: 24.7 | I12: 24.7 | J12: 24.7 | K12: 24.7 | L12: 24.7 | M12: 24.7 | N12: 24.7 | O12: 24.7 | P12: 24.38 | Q12: 24.38 | R12: 24.38 | S12: 24.38 | T12: 24.38 | U12: 24.38 | V12: 24.38 | W12: 24.38 | X12: 24.38 | Y12: 24.38 | Z12: 24.38 | AA12: 24.38 | AB12: 24.38 | AC12: 24.38 | AD12: 24.38 | AE12: 24.38 | AF12: 0
A13: 0.09375 | B13: 10 | C13: 24.7 | D13: 24.7 | E13: 24.7 | F13: 24.7 | G13: 24.7 | H13: 24.7 | I13: 24.7 | J13: 24.7 | K13: 24.7 | L13: 24.7 | M13: 24.7 | N13: 24.7 | O13: 24.7 | P13: 24.38 | Q13: 24.38 | R13: 24.38 | S13: 24.38 | T13: 24.38 | U13: 24.38 | V13: 24.38 | W13: 24.38 | X13: 24.38 | Y13: 24.38 | Z13: 24.38 | AA13: 24.38 | AB13: 24.38 | AC13: 24.38 | AD13: 24.38 | AE13: 24.38 | AF13: 0
A14: 0.10416667 | B14: 11 | C14: 24.7 | D14: 24.7 | E14: 24.7 | F14: 24.7 | G14: 24.7 | H14: 24.7 | I14: 24.7 | J14: 24.7 | K14: 24.7 | L14: 24.7 | M14: 24.7 | N14: 24.7 | O14: 24.7 | P14: 24.38 | Q14: 24.38 | R14: 24.38 | S14: 24.38 | T14: 24.38 | U14: 24.38 | V14: 24.38 | W14: 24.38 | X14: 24.38 | Y14: 24.38 | Z14: 24.38 | AA14: 24.38 | AB14: 24.38 | AC14: 24.38 | AD14: 24.38 | AE14: 24.38 | AF14: 0
A15: 0.11458333 | B15: 12 | C15: 24.7 | D15: 24.7 | E15: 24.7 | F15: 24.7 | G15: 24.7 | H15: 24.7 | I15: 24.7 | J15: 24.7 | K15: 24.7 | L15: 24.7 | M15: 24.7 | N15: 24.7 | O15: 24.7 | P15: 24.38 | Q15: 24.38 | R15: 24.38 | S15: 24.38 | T15: 24.38 | U15: 24.38 | V15: 24.38 | W15: 24.38 | X15: 24.38 | Y15: 24.38 | Z15: 24.38 | AA15: 24.38 | AB15: 24.38 | AC15: 24.38 | AD15: 24.38 | AE15: 24.38 | AF15: 0
... A99: 0.98958333 | B99: 96 | C99: 24.7 | D99: 24.7 | E99: 24.7 | F99: 24.7 | G99: 24.7 | H99: 24.7 | I99: 24.7 | J99: 24.7 | K99: 24.7 | L99: 24.7 | M99: 24.7 | N99: 24.7 | O99: 24.7 | P99: 24.38 | Q99: 24.38 | R99: 24.38 | S99: 24.38 | T99: 24.38 | U99: 24.38 | V99: 24.38 | W99: 24.38 | X99: 24.38 | Y99: 24.38 | Z99: 24.38 | AA99: 24.38 | AB99: 24.38 | AC99: 24.38 | AD99: 24.38 | AE99: 0 | AF99: 0
A100: AVERAGE | C100: =AVERAGE(C4:C99) -> 22.833258 | D100: =AVERAGE(D4:D99) -> 17.696468 | E100: =AVERAGE(E4:E99) -> 24.7 | F100: =AVERAGE(F4:F99) -> 24.536117 | G100: =AVERAGE(G4:G99) -> 24.367827 | H100: =AVERAGE(H4:H99) -> 24.695161 | I100: =AVERAGE(I4:I99) -> 24.626553 | J100: =AVERAGE(J4:J99) -> 24.658078 | ... AF100: =AVERAGE(AF4:AF99) -> 0
A101: MU | C101: =C100*24/1000 -> 0.54799818 | D101: =D100*24/1000 -> 0.42471523 | E101: =E100*24/1000 -> 0.5928 | F101: =F100*24/1000 -> 0.58886682 | G101: =G100*24/1000 -> 0.58482784 | H101: =H100*24/1000 -> 0.59268386 | I101: =I100*24/1000 -> 0.59103727 | J101: =J100*24/1000 -> 0.59179386 | ... AF101: =AF100*24/1000 -> 0

Sheet TOTAL OA 
A1: TOTAL MU | B1: MU | C1: =SUM(C101:AF101) -> 12.201985 | D1: =SUM(C4:AF99)/4000 -> 12.201985 | E1: =D1*1000/(30*24) -> 16.947201 | F1: MW | P1: BLOCKWISE DC OF MTPCL
A2: DATE | C2: =' DC_MTOA '!C2 -> 46174 | D2: =' DC_MTOA '!D2 -> 46175 | E2: =' DC_MTOA '!E2 -> 46176 | F2: =' DC_MTOA '!F2 -> 46177 | G2: =' DC_MTOA '!G2 -> 46178 | H2: =' DC_MTOA '!H2 -> 46179 | I2: =' DC_MTOA '!I2 -> 46180 | J2: =' DC_MTOA '!J2 -> 46181 | ... AF2: =' DC_MTOA '!AF2 -> 46203
A3: Time | B3: Block
A4: 0 | B4: 1 | C4: 24.02 | D4: 24.02 | E4: 24.02 | F4: 24.02 | G4: 24.02 | H4: 24.02 | I4: 24.02 | J4: 24.02 | K4: 24.02 | L4: 24.02 | M4: 24.02 | N4: 13.22 | O4: 24.02 | P4: 24.02 | Q4: 24.02 | R4: 24.02 | S4: 24.02 | T4: 24.02 | U4: 24.02 | V4: 24.02 | W4: 24.02 | X4: 24.02 | Y4: 24.02 | Z4: 24.02 | AA4: 24.02 | AB4: 24.02 | AC4: 24.02 | AD4: 24.02 | AE4: 3.4 | AF4: 0
A5: 0.010416667 | B5: 2 | C5: 24.02 | D5: 24.02 | E5: 24.02 | F5: 24.02 | G5: 24.02 | H5: 24.02 | I5: 24.02 | J5: 24.02 | K5: 24.02 | L5: 24.02 | M5: 24.02 | N5: 13.22 | O5: 24.02 | P5: 24.02 | Q5: 24.02 | R5: 24.02 | S5: 24.02 | T5: 24.02 | U5: 24.02 | V5: 24.02 | W5: 24.02 | X5: 24.02 | Y5: 24.02 | Z5: 24.02 | AA5: 24.02 | AB5: 24.02 | AC5: 24.02 | AD5: 24.02 | AE5: 3.4 | AF5: 0
A6: 0.020833333 | B6: 3 | C6: 24.02 | D6: 24.02 | E6: 24.02 | F6: 24.02 | G6: 24.02 | H6: 24.02 | I6: 24.02 | J6: 24.02 | K6: 24.02 | L6: 24.02 | M6: 24.02 | N6: 18.56 | O6: 24.02 | P6: 24.02 | Q6: 24.02 | R6: 24.02 | S6: 24.02 | T6: 24.02 | U6: 24.02 | V6: 24.02 | W6: 24.02 | X6: 24.02 | Y6: 24.02 | Z6: 24.02 | AA6: 24.02 | AB6: 24.02 | AC6: 24.02 | AD6: 24.02 | AE6: 3.4 | AF6: 0
A7: 0.03125 | B7: 4 | C7: 24.02 | D7: 24.02 | E7: 24.02 | F7: 24.02 | G7: 24.02 | H7: 24.02 | I7: 24.02 | J7: 24.02 | K7: 24.02 | L7: 24.02 | M7: 24.02 | N7: 24.02 | O7: 24.02 | P7: 24.02 | Q7: 24.02 | R7: 24.02 | S7: 24.02 | T7: 24.02 | U7: 24.02 | V7: 24.02 | W7: 24.02 | X7: 24.02 | Y7: 24.02 | Z7: 24.02 | AA7: 24.02 | AB7: 24.02 | AC7: 24.02 | AD7: 24.02 | AE7: 3.4 | AF7: 0
A8: 0.041666667 | B8: 5 | C8: 24.02 | D8: 24.02 | E8: 24.02 | F8: 24.02 | G8: 24.02 | H8: 24.02 | I8: 24.02 | J8: 24.02 | K8: 24.02 | L8: 24.02 | M8: 24.02 | N8: 18.56 | O8: 24.02 | P8: 24.02 | Q8: 24.02 | R8: 24.02 | S8: 24.02 | T8: 24.02 | U8: 24.02 | V8: 24.02 | W8: 24.02 | X8: 24.02 | Y8: 24.02 | Z8: 24.02 | AA8: 24.02 | AB8: 24.02 | AC8: 24.02 | AD8: 24.02 | AE8: 3.4 | AF8: 0
A9: 0.052083333 | B9: 6 | C9: 24.02 | D9: 24.02 | E9: 24.02 | F9: 24.02 | G9: 24.02 | H9: 24.02 | I9: 24.02 | J9: 24.02 | K9: 24.02 | L9: 24.02 | M9: 24.02 | N9: 13.22 | O9: 24.02 | P9: 24.02 | Q9: 24.02 | R9: 24.02 | S9: 24.02 | T9: 24.02 | U9: 24.02 | V9: 24.02 | W9: 24.02 | X9: 24.02 | Y9: 24.02 | Z9: 24.02 | AA9: 24.02 | AB9: 24.02 | AC9: 24.02 | AD9: 24.02 | AE9: 3.4 | AF9: 0
A10: 0.0625 | B10: 7 | C10: 24.02 | D10: 24.02 | E10: 24.02 | F10: 24.02 | G10: 24.02 | H10: 24.02 | I10: 24.02 | J10: 24.02 | K10: 24.02 | L10: 24.02 | M10: 24.02 | N10: 13.22 | O10: 24.02 | P10: 24.02 | Q10: 24.02 | R10: 24.02 | S10: 24.02 | T10: 24.02 | U10: 24.02 | V10: 24.02 | W10: 24.02 | X10: 24.02 | Y10: 24.02 | Z10: 24.02 | AA10: 24.02 | AB10: 24.02 | AC10: 24.02 | AD10: 24.02 | AE10: 3.4 | AF10: 0
A11: 0.072916667 | B11: 8 | C11: 24.02 | D11: 24.02 | E11: 24.02 | F11: 24.02 | G11: 24.02 | H11: 24.02 | I11: 24.02 | J11: 24.02 | K11: 24.02 | L11: 24.02 | M11: 24.02 | N11: 13.22 | O11: 24.02 | P11: 24.02 | Q11: 24.02 | R11: 24.02 | S11: 24.02 | T11: 24.02 | U11: 24.02 | V11: 24.02 | W11: 24.02 | X11: 24.02 | Y11: 24.02 | Z11: 24.02 | AA11: 24.02 | AB11: 24.02 | AC11: 24.02 | AD11: 24.02 | AE11: 3.4 | AF11: 0
A12: 0.083333333 | B12: 9 | C12: 24.02 | D12: 24.02 | E12: 24.02 | F12: 24.02 | G12: 24.02 | H12: 24.02 | I12: 24.02 | J12: 18.87 | K12: 24.02 | L12: 24.02 | M12: 24.02 | N12: 13.22 | O12: 18.56 | P12: 24.02 | Q12: 24.02 | R12: 24.02 | S12: 24.02 | T12: 24.02 | U12: 24.02 | V12: 24.02 | W12: 24.02 | X12: 24.02 | Y12: 24.02 | Z12: 24.02 | AA12: 24.02 | AB12: 24.02 | AC12: 24.02 | AD12: 24.02 | AE12: 3.4 | AF12: 0
A13: 0.09375 | B13: 10 | C13: 24.02 | D13: 24.02 | E13: 24.02 | F13: 24.02 | G13: 24.02 | H13: 24.02 | I13: 24.02 | J13: 18.87 | K13: 24.02 | L13: 24.02 | M13: 24.02 | N13: 13.22 | O13: 13.22 | P13: 24.02 | Q13: 24.02 | R13: 24.02 | S13: 24.02 | T13: 24.02 | U13: 24.02 | V13: 24.02 | W13: 24.02 | X13: 24.02 | Y13: 24.02 | Z13: 24.02 | AA13: 24.02 | AB13: 24.02 | AC13: 24.02 | AD13: 24.02 | AE13: 3.4 | AF13: 0
A14: 0.10416667 | B14: 11 | C14: 24.02 | D14: 24.02 | E14: 24.02 | F14: 24.02 | G14: 24.02 | H14: 24.02 | I14: 24.02 | J14: 24.02 | K14: 24.02 | L14: 24.02 | M14: 24.02 | N14: 13.22 | O14: 13.22 | P14: 24.02 | Q14: 24.02 | R14: 24.02 | S14: 24.02 | T14: 24.02 | U14: 24.02 | V14: 24.02 | W14: 24.02 | X14: 24.02 | Y14: 24.02 | Z14: 24.02 | AA14: 24.02 | AB14: 24.02 | AC14: 24.02 | AD14: 24.02 | AE14: 3.4 | AF14: 0
A15: 0.11458333 | B15: 12 | C15: 24.02 | D15: 24.02 | E15: 24.02 | F15: 24.02 | G15: 24.02 | H15: 24.02 | I15: 24.02 | J15: 24.02 | K15: 24.02 | L15: 24.02 | M15: 24.02 | N15: 13.22 | O15: 13.22 | P15: 24.02 | Q15: 24.02 | R15: 24.02 | S15: 24.02 | T15: 24.02 | U15: 24.02 | V15: 24.02 | W15: 24.02 | X15: 24.02 | Y15: 24.02 | Z15: 24.02 | AA15: 24.02 | AB15: 24.02 | AC15: 24.02 | AD15: 24.02 | AE15: 3.4 | AF15: 0
... A99: 0.98958333 | B99: 96 | C99: 24.02 | D99: 24.02 | E99: 24.02 | F99: 24.02 | G99: 24.02 | H99: 24.02 | I99: 24.02 | J99: 24.02 | K99: 24.02 | L99: 24.02 | M99: 13.22 | N99: 24.02 | O99: 24.02 | P99: 24.02 | Q99: 24.02 | R99: 24.02 | S99: 24.02 | T99: 24.02 | U99: 24.02 | V99: 24.02 | W99: 24.02 | X99: 24.02 | Y99: 24.02 | Z99: 24.02 | AA99: 24.02 | AB99: 24.02 | AC99: 24.02 | AD99: 3.4 | AE99: 0 | AF99: 0
A100: AVERAGE | C100: =AVERAGE(C4:C99) -> 21.322604 | D100: =AVERAGE(D4:D99) -> 17.06 | E100: =AVERAGE(E4:E99) -> 17.490521 | F100: =AVERAGE(F4:F99) -> 16.589583 | G100: =AVERAGE(G4:G99) -> 16.501875 | H100: =AVERAGE(H4:H99) -> 17.79125 | I100: =AVERAGE(I4:I99) -> 16.789062 | J100: =AVERAGE(J4:J99) -> 17.394062 | ... AF100: =AVERAGE(AF4:AF99) -> 0
A101: MU | C101: =C100*24/1000 -> 0.5117425 | D101: =D100*24/1000 -> 0.40944 | E101: =E100*24/1000 -> 0.4197725 | F101: =F100*24/1000 -> 0.39815 | G101: =G100*24/1000 -> 0.396045 | H101: =H100*24/1000 -> 0.42699 | I101: =I100*24/1000 -> 0.4029375 | J101: =J100*24/1000 -> 0.4174575 | ... AF101: =AF100*24/1000 -> 0

Sheet TOTAL SCH 
A1: TOTAL MU | B1: MU | C1: =SUM(C101:AF101) -> 31.185287 | D1: =SUM(C4:AF99)/4000 -> 31.185287 | E1: =D1*1000/(30*24) -> 43.312899 | F1: MW | P1: BLOCKWISE DC OF MTPCL
A2: DATE | C2: =' DC_MTOA '!C2 -> 46174 | D2: =' DC_MTOA '!D2 -> 46175 | E2: =' DC_MTOA '!E2 -> 46176 | F2: =' DC_MTOA '!F2 -> 46177 | G2: =' DC_MTOA '!G2 -> 46178 | H2: =' DC_MTOA '!H2 -> 46179 | I2: =' DC_MTOA '!I2 -> 46180 | J2: =' DC_MTOA '!J2 -> 46181 | ... AF2: =' DC_MTOA '!AF2 -> 46203
A3: Time | B3: Block
A4: 0 | B4: 1 | C4: 55.363636 | D4: 55.363636 | E4: 55.363636 | F4: 55.363636 | G4: 55.363636 | H4: 55.363636 | I4: 55.363636 | J4: 55.363636 | K4: 55.363636 | L4: 55.363636 | M4: 55.363636 | N4: 43.090909 | O4: 55.363636 | P4: 55 | Q4: 55 | R4: 55 | S4: 55 | T4: 55 | U4: 55 | V4: 55 | W4: 55 | X4: 55 | Y4: 55 | Z4: 55 | AA4: 55 | AB4: 55 | AC4: 55 | AD4: 55 | AE4: 31.568182 | AF4: 0
A5: 0.010416667 | B5: 2 | C5: 55.363636 | D5: 55.363636 | E5: 55.363636 | F5: 55.363636 | G5: 55.363636 | H5: 55.363636 | I5: 55.363636 | J5: 55.363636 | K5: 55.363636 | L5: 55.363636 | M5: 55.363636 | N5: 43.090909 | O5: 55.363636 | P5: 55 | Q5: 55 | R5: 55 | S5: 55 | T5: 55 | U5: 55 | V5: 55 | W5: 55 | X5: 55 | Y5: 55 | Z5: 55 | AA5: 55 | AB5: 55 | AC5: 55 | AD5: 55 | AE5: 31.568182 | AF5: 0
A6: 0.020833333 | B6: 3 | C6: 55.363636 | D6: 55.363636 | E6: 55.363636 | F6: 55.363636 | G6: 55.363636 | H6: 55.363636 | I6: 55.363636 | J6: 55.363636 | K6: 55.363636 | L6: 55.363636 | M6: 55.363636 | N6: 49.159091 | O6: 55.363636 | P6: 55 | Q6: 55 | R6: 55 | S6: 55 | T6: 55 | U6: 55 | V6: 55 | W6: 55 | X6: 55 | Y6: 55 | Z6: 55 | AA6: 55 | AB6: 55 | AC6: 55 | AD6: 55 | AE6: 31.568182 | AF6: 0
A7: 0.03125 | B7: 4 | C7: 55.363636 | D7: 55.363636 | E7: 55.363636 | F7: 55.363636 | G7: 55.363636 | H7: 55.363636 | I7: 55.363636 | J7: 55.363636 | K7: 55.363636 | L7: 55.363636 | M7: 55.363636 | N7: 55.363636 | O7: 55.363636 | P7: 55 | Q7: 55 | R7: 55 | S7: 55 | T7: 55 | U7: 55 | V7: 55 | W7: 55 | X7: 55 | Y7: 55 | Z7: 55 | AA7: 55 | AB7: 55 | AC7: 55 | AD7: 55 | AE7: 31.568182 | AF7: 0
A8: 0.041666667 | B8: 5 | C8: 55.363636 | D8: 55.363636 | E8: 55.363636 | F8: 55.363636 | G8: 55.363636 | H8: 55.363636 | I8: 55.363636 | J8: 55.363636 | K8: 55.363636 | L8: 55.363636 | M8: 55.363636 | N8: 49.159091 | O8: 55.363636 | P8: 55 | Q8: 55 | R8: 55 | S8: 55 | T8: 55 | U8: 55 | V8: 55 | W8: 55 | X8: 55 | Y8: 55 | Z8: 55 | AA8: 55 | AB8: 55 | AC8: 55 | AD8: 55 | AE8: 31.568182 | AF8: 0
A9: 0.052083333 | B9: 6 | C9: 55.363636 | D9: 55.363636 | E9: 55.363636 | F9: 55.363636 | G9: 55.363636 | H9: 55.363636 | I9: 55.363636 | J9: 55.363636 | K9: 55.363636 | L9: 55.363636 | M9: 55.363636 | N9: 43.090909 | O9: 55.363636 | P9: 55 | Q9: 55 | R9: 55 | S9: 55 | T9: 55 | U9: 55 | V9: 55 | W9: 55 | X9: 55 | Y9: 55 | Z9: 55 | AA9: 55 | AB9: 55 | AC9: 55 | AD9: 55 | AE9: 31.568182 | AF9: 0
A10: 0.0625 | B10: 7 | C10: 55.363636 | D10: 55.363636 | E10: 55.363636 | F10: 55.363636 | G10: 55.363636 | H10: 55.363636 | I10: 55.363636 | J10: 55.363636 | K10: 55.363636 | L10: 55.363636 | M10: 55.363636 | N10: 43.090909 | O10: 55.363636 | P10: 55 | Q10: 55 | R10: 55 | S10: 55 | T10: 55 | U10: 55 | V10: 55 | W10: 55 | X10: 55 | Y10: 55 | Z10: 55 | AA10: 55 | AB10: 55 | AC10: 55 | AD10: 55 | AE10: 31.568182 | AF10: 0
A11: 0.072916667 | B11: 8 | C11: 55.363636 | D11: 55.363636 | E11: 55.363636 | F11: 55.363636 | G11: 55.363636 | H11: 55.363636 | I11: 55.363636 | J11: 55.363636 | K11: 55.363636 | L11: 55.363636 | M11: 55.363636 | N11: 43.090909 | O11: 55.363636 | P11: 55 | Q11: 55 | R11: 55 | S11: 55 | T11: 55 | U11: 55 | V11: 55 | W11: 55 | X11: 55 | Y11: 55 | Z11: 55 | AA11: 55 | AB11: 55 | AC11: 55 | AD11: 55 | AE11: 31.568182 | AF11: 0
A12: 0.083333333 | B12: 9 | C12: 55.363636 | D12: 55.363636 | E12: 55.363636 | F12: 55.363636 | G12: 55.363636 | H12: 55.363636 | I12: 55.363636 | J12: 49.511364 | K12: 55.363636 | L12: 55.363636 | M12: 55.363636 | N12: 43.090909 | O12: 49.159091 | P12: 55 | Q12: 55 | R12: 55 | S12: 55 | T12: 55 | U12: 55 | V12: 55 | W12: 55 | X12: 55 | Y12: 55 | Z12: 55 | AA12: 55 | AB12: 55 | AC12: 55 | AD12: 55 | AE12: 31.568182 | AF12: 0
A13: 0.09375 | B13: 10 | C13: 55.363636 | D13: 55.363636 | E13: 55.363636 | F13: 55.363636 | G13: 55.363636 | H13: 55.363636 | I13: 55.363636 | J13: 49.511364 | K13: 55.363636 | L13: 55.363636 | M13: 55.363636 | N13: 43.090909 | O13: 43.090909 | P13: 55 | Q13: 55 | R13: 55 | S13: 55 | T13: 55 | U13: 55 | V13: 55 | W13: 55 | X13: 55 | Y13: 55 | Z13: 55 | AA13: 55 | AB13: 55 | AC13: 55 | AD13: 55 | AE13: 31.568182 | AF13: 0
A14: 0.10416667 | B14: 11 | C14: 55.363636 | D14: 55.363636 | E14: 55.363636 | F14: 55.363636 | G14: 55.363636 | H14: 55.363636 | I14: 55.363636 | J14: 55.363636 | K14: 55.363636 | L14: 55.363636 | M14: 55.363636 | N14: 43.090909 | O14: 43.090909 | P14: 55 | Q14: 55 | R14: 55 | S14: 55 | T14: 55 | U14: 55 | V14: 55 | W14: 55 | X14: 55 | Y14: 55 | Z14: 55 | AA14: 55 | AB14: 55 | AC14: 55 | AD14: 55 | AE14: 31.568182 | AF14: 0
A15: 0.11458333 | B15: 12 | C15: 55.363636 | D15: 55.363636 | E15: 55.363636 | F15: 55.363636 | G15: 55.363636 | H15: 55.363636 | I15: 55.363636 | J15: 55.363636 | K15: 55.363636 | L15: 55.363636 | M15: 55.363636 | N15: 43.090909 | O15: 43.090909 | P15: 55 | Q15: 55 | R15: 55 | S15: 55 | T15: 55 | U15: 55 | V15: 55 | W15: 55 | X15: 55 | Y15: 55 | Z15: 55 | AA15: 55 | AB15: 55 | AC15: 55 | AD15: 55 | AE15: 31.568182 | AF15: 0
... A99: 0.98958333 | B99: 96 | C99: 55.363636 | D99: 55.363636 | E99: 55.363636 | F99: 55.363636 | G99: 55.363636 | H99: 55.363636 | I99: 55.363636 | J99: 55.363636 | K99: 55.363636 | L99: 55.363636 | M99: 43.090909 | N99: 55.363636 | O99: 55.363636 | P99: 55 | Q99: 55 | R99: 55 | S99: 55 | T99: 55 | U99: 55 | V99: 55 | W99: 55 | X99: 55 | Y99: 55 | Z99: 55 | AA99: 55 | AB99: 55 | AC99: 55 | AD99: 31.568182 | AE99: 0 | AF99: 0
A100: AVERAGE | C100: =AVERAGE(C4:C99) -> 49.097491 | D100: =AVERAGE(D4:D99) -> 39.192538 | E100: =AVERAGE(E4:E99) -> 47.943774 | F100: =AVERAGE(F4:F99) -> 46.009271 | G100: =AVERAGE(G4:G99) -> 46.134545 | H100: =AVERAGE(H4:H99) -> 47.726809 | I100: =AVERAGE(I4:I99) -> 46.312552 | J100: =AVERAGE(J4:J99) -> 47.232784 | ... AF100: =AVERAGE(AF4:AF99) -> 0
A101: MU | C101: =C100*24/1000 -> 1.1783398 | D101: =D100*24/1000 -> 0.94062091 | E101: =E100*24/1000 -> 1.1506506 | F101: =F100*24/1000 -> 1.1042225 | G101: =G100*24/1000 -> 1.1072291 | H101: =H100*24/1000 -> 1.1454434 | I101: =I100*24/1000 -> 1.1115012 | J101: =J100*24/1000 -> 1.1335868 | ... AF101: =AF100*24/1000 -> 0
