Workbook

Sheet CGP SCHEDULE
A2: OFFICE OF CLD(POWER SYSTEM), BHUBANESWAR - 751 017, FAX-0674-2748509/2748218
A3: DESPATCH SCHEDULE [ MW / MVAR ] FOR CGPs
A4: (FROM SLDC BHUBANESWAR BY 20:00 HRS. EVERYDAY)
A5: MESSAGE No. NIL | K5: DATE: | L5: 20.09.2026 | AF5: Time: | AG5: 23:20
A7: From: GM(SLDC), BBSR | AG7: Revision-02
K8: FOR DATE: | O8: 20.09.2026
A9: . | B9: Block | C9: ACME Solar Power Pvt. Ltd. | E9: Aditya Aluminium | G9: Baitarani Power Project Pvt Ltd (BPPPL) to GRIDCO | I9: OPCL | K9: Action Ispat | M9: Saptadhra / Avantika | O9: Aftaab Solar Private Limited | Q9: KAKATIYA SHEP | S9: M/s Meenakshi Odisha Power Pvt Ltd, SLN SHEP (2x12.5MW) | U9: M/s Meenakshi Power Pvt Ltd, MK & LK SHEP (2X12.5MW + 3X 4MW) | W9: ABREL Solar, Ganjam | Y9: ABREL Solar. Cuttack | AA9: ABREL Solar, Jharsuguda | AC9: BEL Solar | AE9: Arati Steels | AG9: Aryan Ispat & Power Pvt. Ltd. | AI9: Bhubaneswar Power (P) Ltd | AK9: TATA STEEL BHUSAN STEEL LTD, Meramundali | AM9: Bhushan Power & Steel Ltd, Jharsuguda | AO9: ESSAR POWER ORISSA | AQ9: FACOR POWER LTD Bhadrak | AS9: GKEL(IPP) | AU9: HINDALCO | AW9: IFFCO, Paradeep | AY9: IMFA, Choudwar | BA9: JSL, Duburi | BC9: JSPL, Angul | BE9: Ampin_Energy_C_&_I_Eleven_Private_Limited | BG9: NINL | BI9: MGM_Minerals_Ltd | BK9: MSP, Jharsuguda | BM9: NALCO, Angul | BO9: Narbheram Power & Steel Ltd. Dhenkanal | BQ9: NBVL | BS9: NBVL(IPP) | BU9: RUNGTA MINES Dhenkanal | BW9: OCL, Rajgangpur | BY9: Orissa Sponge Iron & Steel Ltd, Polasponga | CA9: Patnaik Steels & Alloys Ltd. | CC9: Shri_Jagannath_Steels_&_Power_Ltd | CE9: RSP, Rourkela | CG9: Shree_Ganesh_Metaliks_Ltd_Kuarmunda | CI9: Shyam Metallics | CK9: Maithan Ispat | CM9: Rungta Mines,Karakolha, Barbil | CO9: Rungta Mines,Sundargarh | CQ9: SMC Power Generation Ltd #2, Badmal,Jharsuguda | CS9: SMC Power Generation #1, Hirma,Jharsuguda | CU9: Narbheram Power & Steel, Dhenkanal | CW9: VAL (IPP) | CY9: TATA STEEL SPONGE IRON | DA9: VAL (CGP) | DC9: Vedanta Aluminium, Lanjigarh | DE9: Viraj Steel and Energy Pvt Ltd Power Limited | DG9: Visa Steel Ltd | DI9: ORISSA POWER SHREE CEMENT | DK9: KJS_Ahluwalia_(Steel_&_Power_Division) | DM9: THAKUR PRASAD SAO & SONS | DO9: MTPLC | DQ9: Adhunik | DS9: Beekay Steel | DU9: Yazdani | DW9: OCL_Iron_and_Steel_Limited | DY9: OCL_Iron_and_Steel_Limited_MPL | EA9: Envirocare_Infrasolution_Pvt_Ltd | EC9: MCL 50MW SOLAR,PATNAGARH | EE9: Jagannath Power & Infra Private Limited | EG9: MGM_Green_Energy_Ltd | EI9: Times_Steel_&_Power_Private_limited | EK9: VEDANTA_LANJIGARH | EM9: Indian_Farmers_Fertiliser_Cooperative_Limited | EO9: Bhaskar_Steel_And_Ferro_Alloy_Private_Limited | EQ9: RUNGTA MINES LIMITED, KAMANDA STEEL PLANT | ES9: RUNGTA SONS PRIVATE LIMITED JHARSUGUDA STEEL PLANT | EU9: Crackers_India_Alloys_Limited | EW9: Paradeep_Phosphates_Ltd | EY9: Ampin_C&I_Three_Private_Limited | FA9: Ampin_Energy_C_&_I_Eleven_Private_Limited | FC9: MGM_Green_Energy_Limited_5MW_Solar_Power_Plant_Lokapada | FE9: Sunglaze_Power_Private_Limited | FG9: JSW_Sambalpur_Steel_Limited | FI9: MSP_Sponge_Iron_Limited_Odisha | FK9: Tata_Steel_Limited_Ferro_Alloys_Plant_Balasore | FM9: Tata_Steel_Limited_Kalinga_Nagar | FO9: Tata_Steel_Ltd_Ferro_Alloys_Plant_Bamnipal | FQ9: Total CGP&IPP
C10: MW | D10: MVAR | E10: MW | F10: MVAR | G10: MW | H10: MVAR | I10: MW | J10: MVAR | K10: MW | L10: MVAR | M10: MW | N10: MVAR | O10: MW | P10: MVAR | Q10: MW | R10: MVAR | S10: MW | T10: MVAR | U10: MW | V10: MVAR | W10: MW | X10: MVAR | Y10: MW | Z10: MVAR | AA10: MW | AB10: MVAR | AC10: MW | AD10: MVAR | AE10: MW | AF10: MVAR | AG10: MW | AH10: MVAR | AI10: MW | AJ10: MVAR | AK10: MW | AL10: MVAR | AM10: MW | AN10: MVAR | AO10: MW | AP10: MVAR | AQ10: MW | AR10: MVAR | AS10: MW | AT10: MVAR | AU10: MW | AV10: MVAR | AW10: MW | AX10: MVAR | AY10: MW | AZ10: MVAR | BA10: MW | BB10: MVAR | BC10: MW | BD10: MVAR | BE10: MW | BF10: MVAR | BG10: MW | BH10: MVAR | BI10: MW | BJ10: MVAR | BK10: MW | BL10: MVAR | BM10: MW | BN10: MVAR | BO10: MW | BP10: MVAR | BQ10: MW | BR10: MVAR | BS10: MW | BT10: MVAR | BU10: MW | BV10: MVAR | BW10: MW | BX10: MVAR | BY10: MW | BZ10: MVAR | CA10: MW | CB10: MVAR | CC10: MW | CD10: MVAR | CE10: MW | CF10: MVAR | CG10: MW | CH10: MVAR | CI10: MW | CJ10: MVAR | CK10: MW | CL10: MVAR | CM10: MW | CN10: MVAR | CO10: MW | CP10: MVAR | CQ10: MW | CR10: MVAR | CS10: MW | CT10: MVAR | CU10: MW | CV10: MVAR | CW10: MW | CX10: MVAR | CY10: MW | CZ10: MVAR | DA10: MW | DB10: MVAR | DC10: MW | DD10: MVAR | DE10: MW | DF10: MVAR | DG10: MW | DH10: MVAR | DI10: MW | DJ10: MVAR | DK10: MW | DL10: MVAR | DM10: MW | DN10: MVAR | DO10: MW | DP10: MVAR | DQ10: MW | DR10: MVAR | DS10: MW | DT10: MVAR | DU10: MW | DV10: MVAR | DW10: MW | DX10: MVAR | DY10: MW | DZ10: MVAR | EA10: MW | EB10: MVAR | EC10: MW | ED10: MVAR | EE10: MW | EF10: MVAR | EG10: MW | EH10: MVAR | EI10: MW | EJ10: MVAR | EK10: MW | EL10: MVAR | EM10: MW | EN10: MVAR | EO10: MW | EP10: MVAR | EQ10: MW | ER10: MVAR | ES10: MW | ET10: MVAR | EU10: MW | EV10: MVAR | EW10: MW | EX10: MVAR | EY10: MW | EZ10: MVAR | FA10: MW | FB10: MVAR | FC10: MW | FD10: MVAR | FE10: MW | FF10: MVAR | FG10: MW | FH10: MVAR | FI10: MW | FJ10: MVAR | FK10: MW | FL10: MVAR | FM10: MW | FN10: MVAR | FO10: MW | FP10: MVAR | FQ10: MW | FR10: MVAR
A11: 0000-0015 | B11: 1 | G11: 24 | H11: 0.9 | O11: 0 | Q11: 9 | R11: 0.85 | S11: 25 | U11: 37 | W11: 0 | Y11: 0 | AA11: 0 | AC11: 0 | AE11: ='OA&GRIDCO'!W11+'Day Ahead IEX PXIL'!M11+RTM!M11 -> 5.15 | AF11: ='OA&GRIDCO'!X11+'Day Ahead IEX PXIL'!N11+RTM!N11 -> 1.03 | AG11: ='OA&GRIDCO'!AC11+'Day Ahead IEX PXIL'!S11+RTM!S11 -> 1.86 | AH11: ='OA&GRIDCO'!AD11+'Day Ahead IEX PXIL'!T11+RTM!T11 -> 0 | AI11: ='OA&GRIDCO'!AU11+'Day Ahead IEX PXIL'!Y11+RTM!Y11 -> 115 | AJ11: ='OA&GRIDCO'!AV11+'Day Ahead IEX PXIL'!Z11+RTM!Z11 -> 34.5 | AK11: ='OA&GRIDCO'!BS11+'Day Ahead IEX PXIL'!AK11+RTM!AK11 -> 50 | AL11: ='OA&GRIDCO'!BT11+'Day Ahead IEX PXIL'!AL11+RTM!AL11 -> 7.12 | AM11: ='OA&GRIDCO'!BC11+'Day Ahead IEX PXIL'!AE11+RTM!AE11 -> 0 | AN11: ='OA&GRIDCO'!BD11+'Day Ahead IEX PXIL'!AF11+RTM!AF11 -> 0 | AO11: ='OA&GRIDCO'!CC11+'Day Ahead IEX PXIL'!AQ11+RTM!AQ11 -> 0 | AP11: ='OA&GRIDCO'!CD11+'Day Ahead IEX PXIL'!AR11+RTM!AR11 -> 0 | AQ11: ='OA&GRIDCO'!CO11+'Day Ahead IEX PXIL'!AW11+RTM!AW11 -> 45.08 | AR11: ='OA&GRIDCO'!CP11+'Day Ahead IEX PXIL'!AX11+RTM!AX11 -> 14 | AS11: ='OA&GRIDCO'!DA11+'Day Ahead IEX PXIL'!BC11+RTM!BC11 -> 113.81443 | AT11: ='OA&GRIDCO'!DB11+'Day Ahead IEX PXIL'!BD11+RTM!BD11 -> 0 | AU11: ='Day Ahead IEX PXIL'!BI11+RTM!BI11+'OA&GRIDCO'!OY11 -> 0 | AV11: ='Day Ahead IEX PXIL'!BJ11+RTM!BJ11+'OA&GRIDCO'!OZ11 -> 0 | AY11: 0 | AZ11: ='OA&GRIDCO'!DL11+'Day Ahead IEX PXIL'!BP11+RTM!BP11 -> 13.7 | BA11: ='OA&GRIDCO'!EC11+'Day Ahead IEX PXIL'!BU11+RTM!BU11 -> 0 | BB11: ='OA&GRIDCO'!ED11+'Day Ahead IEX PXIL'!BV11+RTM!BV11 -> 0 | BC11: ='OA&GRIDCO'!EQ11+'Day Ahead IEX PXIL'!CA11+RTM!CA11 -> 589.69 | BD11: ='OA&GRIDCO'!ER11+'Day Ahead IEX PXIL'!CB11+RTM!CB11 -> 103.61 | BE11: ='OA&GRIDCO'!OC11+GDAM!U11 -> 0 | BF11: ='OA&GRIDCO'!OD11+GDAM!V11 -> 0 | BI11: ='OA&GRIDCO'!EW11+'Day Ahead IEX PXIL'!CG11+RTM!CG11 -> 1.03 | BJ11: ='OA&GRIDCO'!EX11+'Day Ahead IEX PXIL'!CH11+RTM!CH11 -> 0 | BK11: ='OA&GRIDCO'!KY11+RTM!FG11+'Day Ahead IEX PXIL'!GW11 -> 0 | BL11: ='OA&GRIDCO'!KZ11+RTM!FH11+'Day Ahead IEX PXIL'!GX11 -> 0 | BM11: ='Day Ahead IEX PXIL'!CM11+RTM!CM11+'OA&GRIDCO'!FC11 -> 28 | BN11: ='OA&GRIDCO'!FD11+'Day Ahead IEX PXIL'!CN11+RTM!CN11 -> 0 | BQ11: ='OA&GRIDCO'!FQ11+'Day Ahead IEX PXIL'!CS11+RTM!CS11 -> 2.06 | BR11: ='OA&GRIDCO'!FR11+'Day Ahead IEX PXIL'!CT11+RTM!CT11 -> 0 | BS11: ='OA&GRIDCO'!JW11+'Day Ahead IEX PXIL'!FA11+RTM!EU11 -> 53.8863 | BT11: ='OA&GRIDCO'!JX11+'Day Ahead IEX PXIL'!FB11+RTM!EV11 -> 10 | BU11: ='OA&GRIDCO'!GG11+RTM!G11 -> 0 | BV11: ='OA&GRIDCO'!GH11 -> 0 | BW11: ='OA&GRIDCO'!HA11+'Day Ahead IEX PXIL'!DK11+RTM!DE11 -> 0 | BX11: ='OA&GRIDCO'!HB11 -> 0 | BY11: ='Day Ahead IEX PXIL'!GK11+RTM!FA11+'OA&GRIDCO'!LE11 -> 0 | BZ11: ='Day Ahead IEX PXIL'!GL11+RTM!FB11+'OA&GRIDCO'!LF11 -> 0 | CC11: =RTM!GI11+'Day Ahead IEX PXIL'!II11+GDAM!M11 -> 0 | CD11: =RTM!GJ11 -> 0 | CE11: ='OA&GRIDCO'!HI11+'Day Ahead IEX PXIL'!DQ11+RTM!DK11 -> 0 | CF11: ='OA&GRIDCO'!HJ11+'Day Ahead IEX PXIL'!DR11+RTM!DL11 -> 0 | CG11: ='OA&GRIDCO'!HO11+'Day Ahead IEX PXIL'!DW11+RTM!DQ11 -> 0 | CH11: ='OA&GRIDCO'!HP11+'Day Ahead IEX PXIL'!DX11+RTM!DR11 -> 0 | CI11: ='Day Ahead IEX PXIL'!HE11+'OA&GRIDCO'!DI11+RTM!GY11 -> 1.03 | CJ11: ='Day Ahead IEX PXIL'!HF11+'OA&GRIDCO'!DJ11 -> 0 | CK11: ='OA&GRIDCO'!KU11+'Day Ahead IEX PXIL'!DE11 -> 0 | CL11: ='OA&GRIDCO'!KV11+'Day Ahead IEX PXIL'!DF11 -> 0 | CM11: ='Day Ahead IEX PXIL'!FS11+RTM!FS11 -> 0 | CN11: ='Day Ahead IEX PXIL'!FT11 -> 0 | CO11: =RTM!IY11+'Day Ahead IEX PXIL'!IU11 -> 0 | CP11: =RTM!IZ11+'Day Ahead IEX PXIL'!IV11 -> 0 | CQ11: ='OA&GRIDCO'!KI11+'Day Ahead IEX PXIL'!FM11+RTM!GE11 -> 0 | CR11: ='OA&GRIDCO'!KJ11+'Day Ahead IEX PXIL'!FN11 -> 0 | CS11: ='OA&GRIDCO'!KO11+'Day Ahead IEX PXIL'!FY11+RTM!FY11 -> 0 | CT11: ='OA&GRIDCO'!KP11+'Day Ahead IEX PXIL'!FZ11 -> 0 | CU11: 0 | CV11: ='Day Ahead IEX PXIL'!GF11 -> 0 | CW11: ='OA&GRIDCO'!HU11+'Day Ahead IEX PXIL'!EC11+RTM!DW11 -> 535 | CX11: ='OA&GRIDCO'!HV11+'Day Ahead IEX PXIL'!ED11+RTM!DX11 -> 0 | CY11: ='OA&GRIDCO'!IF11+'Day Ahead IEX PXIL'!EI11+RTM!EC11 -> 0 | CZ11: ='OA&GRIDCO'!IH11+'Day Ahead IEX PXIL'!EJ11+RTM!ED11 -> 1.075 | DA11: ='OA&GRIDCO'!IU11+'Day Ahead IEX PXIL'!EO11+RTM!EI11 -> 0 | DB11: ='OA&GRIDCO'!IV11+'Day Ahead IEX PXIL'!EP11+RTM!EJ11 -> 0 | DE11: ='Day Ahead IEX PXIL'!FC11+'OA&GRIDCO'!KC11+RTM!GM11 -> 0 | DF11: ='Day Ahead IEX PXIL'!FD11+'OA&GRIDCO'!KD11 -> 0 | DG11: ='OA&GRIDCO'!JG11+'Day Ahead IEX PXIL'!EU11+RTM!EO11 -> 26.8 | DH11: ='OA&GRIDCO'!JH11+'Day Ahead IEX PXIL'!EV11+RTM!EP11 -> 0 | DI11: 0 | DJ11: 0 | DK11: =RTM!FM11 -> 0 | DL11: =RTM!FN11 -> 0 | DM11: ='OA&GRIDCO'!LH11+'Day Ahead IEX PXIL'!HU11+'Day Ahead IEX PXIL'!HU11 -> 0 | DN11: ='OA&GRIDCO'!LJ11+'Day Ahead IEX PXIL'!HV11+RTM!GV11 -> 0 | DO11: ='OA&GRIDCO'!LU11+'Day Ahead IEX PXIL'!HO11+RTM!IU11 -> 54.795 | DP11: ='OA&GRIDCO'!LV11+'Day Ahead IEX PXIL'!HP11+RTM!IV11 -> 0 | DQ11: =RTM!HK11 -> 1.86 | DR11: =RTM!HL11 -> 0 | DS11: =RTM!HO11 -> 0 | DT11: =RTM!HP11 -> 0 | DU11: =RTM!HS11 -> 0 | DV11: =RTM!HT11 -> 0 | DW11: =RTM!HW11+'OA&GRIDCO'!MK11 -> 23.71 | DX11: =RTM!HX11 -> 0 | DY11: =RTM!IA11 -> 0 | DZ11: =RTM!IB11 -> 0 | EA11: =RTM!IC11 -> 0 | EB11: =RTM!ID11 -> 0 | EC11: ='OA&GRIDCO'!MQ11 -> 0 | ED11: ='OA&GRIDCO'!MR11 -> 0 | EE11: ='OA&GRIDCO'!MU11 -> 0 | EF11: ='OA&GRIDCO'!MV11 -> 0 | EG11: ='OA&GRIDCO'!MY11+'Day Ahead IEX PXIL'!IM11+GDAM!G11+RTM!II11 -> 0 | EH11: ='OA&GRIDCO'!MZ11+'Day Ahead IEX PXIL'!IN11+RTM!IJ11+GDAM!H11 -> 0 | EI11: ='Day Ahead IEX PXIL'!IQ11+RTM!IM11+'OA&GRIDCO'!NC11+GDAM!BO11 -> 0 | EJ11: ='Day Ahead IEX PXIL'!IR11+RTM!IN11+'OA&GRIDCO'!ND11 -> 0 | EK11: ='OA&GRIDCO'!NG11 -> 0 | EL11: ='OA&GRIDCO'!NH11 -> 0 | EM11: =RTM!IQ11 -> 0 | EN11: =RTM!IR11 -> 0 | EO11: =RTM!JC11 -> 0 | EP11: =RTM!JD11 -> 0 | EQ11: ='OA&GRIDCO'!NK11 -> 0 | ER11: ='OA&GRIDCO'!NL11 -> 0 | ES11: ='OA&GRIDCO'!NM11+RTM!HC11+'Day Ahead IEX PXIL'!IY11 -> 0 | ET11: ='OA&GRIDCO'!NP11+RTM!HD11+'Day Ahead IEX PXIL'!IZ11 -> 0 | EU11: =RTM!JG11 -> 1.55 | EV11: =RTM!JH11 -> 0 | EW11: =RTM!JK11 -> 0 | EX11: =RTM!JL11 -> 0 | EY11: =GDAM!S11+'OA&GRIDCO'!OM11+RTM!JO11 -> 0 | EZ11: =GDAM!T11+'OA&GRIDCO'!OD11+RTM!JP11 -> 0 | FA11: =GDAM!Y11+RTM!JS11 -> 0 | FB11: =GDAM!Z11+RTM!JT11 -> 0 | FC11: =RTM!JW11 -> 0 | FD11: =RTM!JX11 -> 0 | FE11: =GDAM!AE11+'OA&GRIDCO'!OU11 -> 0 | FF11: =GDAM!AF11+'OA&GRIDCO'!OV11 -> 0 | FG11: =GDAM!AK11 -> 0 | FH11: =GDAM!AL11 -> 0 | FI11: =GDAM!AQ11 -> 0 | FJ11: =GDAM!AR11 -> 0 | FK11: =GDAM!AW11 -> 0 | FL11: =GDAM!AX11 -> 0 | FM11: =GDAM!BC11 -> 0 | FN11: =GDAM!BD11 -> 0 | FO11: =GDAM!BI11 -> 0 | FP11: =GDAM!BJ11 -> 0 | FQ11: =C11+E11+G11+I11+K11+M11+O11+Q11+W11+Y11+AA11+AC11+AE11+AG11+AI11+AK11+AM11+AO11+AQ11+AS11+AU11+AW11+AY11+BA11+BC11+BE11+BG11+BI11+BK11+BM11+BO11+BQ11+BS11+BU11+BW11+BY11+CA11+CC11+CE11+CG11+CI11+CK11+CM11+CQ11+CS11+CU11+CW11+CY11+DA11+DC11+DE11+DG11+DI11+DK11+DM11+DO11+DQ11+DS11+DU11+DW11+DY11+EA11+EC11+EE11+EG11+EI11+EK11+CO11+EM11+EO11+EQ11+ES11+EU11+EW11+EY11+FA11+FC11+FE11+FG11+FI11+FK11+FM11+FO11 -> 1683.3157 | FR11: =D11+F11+H11+J11+L11+N11+P11+R11+X11+Z11+AB11+AD11+AF11+AH11+AJ11+AL11+AN11+AP11+AR11+AT11+AV11+AX11+AZ11+BB11+BD11+BH11+BJ11+BL11+BN11+BP11+BF11+BR11+BT11+BV11+BX11+BZ11+CB11+CD11+CF11+CH11+CJ11+CL11+CN11+CR11+CT11+CV11+CX11+CZ11+DB11+DD11+DF11+DH11+DJ11+DL11+DN11+DP11+DR11+DT11+DV11+DX11+DZ11+EB11+ED11+EF11+EH11+EJ11+EL11+EN11+CP11+EP11+ER11+ET11+EV11+EX11+EZ11+FB11+FD11+FF11+FH11+FJ11+FL11+FN11+FP11 -> 186.785
A12: 0015-0030 | B12: 2 | G12: 24 | H12: 0.9 | O12: 0 | Q12: 9 | R12: 0.85 | S12: 25 | U12: 37 | W12: 0 | Y12: 0 | AA12: 0 | AC12: 0 | AE12: ='OA&GRIDCO'!W12+'Day Ahead IEX PXIL'!M12+RTM!M12 -> 5.15 | AF12: ='OA&GRIDCO'!X12+'Day Ahead IEX PXIL'!N12+RTM!N12 -> 1.03 | AG12: ='OA&GRIDCO'!AC12+'Day Ahead IEX PXIL'!S12+RTM!S12 -> 1.86 | AH12: ='OA&GRIDCO'!AD12+'Day Ahead IEX PXIL'!T12+RTM!T12 -> 0 | AI12: ='OA&GRIDCO'!AU12+'Day Ahead IEX PXIL'!Y12+RTM!Y12 -> 115 | AJ12: ='OA&GRIDCO'!AV12+'Day Ahead IEX PXIL'!Z12+RTM!Z12 -> 34.5 | AK12: ='OA&GRIDCO'!BS12+'Day Ahead IEX PXIL'!AK12+RTM!AK12 -> 111.86 | AL12: ='OA&GRIDCO'!BT12+'Day Ahead IEX PXIL'!AL12+RTM!AL12 -> 7.12 | AM12: ='OA&GRIDCO'!BC12+'Day Ahead IEX PXIL'!AE12+RTM!AE12 -> 0 | AN12: ='OA&GRIDCO'!BD12+'Day Ahead IEX PXIL'!AF12+RTM!AF12 -> 0 | AO12: ='OA&GRIDCO'!CC12+'Day Ahead IEX PXIL'!AQ12+RTM!AQ12 -> 0 | AP12: ='OA&GRIDCO'!CD12+'Day Ahead IEX PXIL'!AR12+RTM!AR12 -> 0 | AQ12: ='OA&GRIDCO'!CO12+'Day Ahead IEX PXIL'!AW12+RTM!AW12 -> 45.08 | AR12: ='OA&GRIDCO'!CP12+'Day Ahead IEX PXIL'!AX12+RTM!AX12 -> 14 | AS12: ='OA&GRIDCO'!DA12+'Day Ahead IEX PXIL'!BC12+RTM!BC12 -> 113.81443 | AT12: ='OA&GRIDCO'!DB12+'Day Ahead IEX PXIL'!BD12+RTM!BD12 -> 0 | AU12: ='Day Ahead IEX PXIL'!BI12+RTM!BI12+'OA&GRIDCO'!OY12 -> 0 | AV12: ='Day Ahead IEX PXIL'!BJ12+RTM!BJ12+'OA&GRIDCO'!OZ12 -> 0 | AY12: 0 | AZ12: ='OA&GRIDCO'!DL12+'Day Ahead IEX PXIL'!BP12+RTM!BP12 -> 13.7 | BA12: ='OA&GRIDCO'!EC12+'Day Ahead IEX PXIL'!BU12+RTM!BU12 -> 0 | BB12: ='OA&GRIDCO'!ED12+'Day Ahead IEX PXIL'!BV12+RTM!BV12 -> 0 | BC12: ='OA&GRIDCO'!EQ12+'Day Ahead IEX PXIL'!CA12+RTM!CA12 -> 589.69 | BD12: ='OA&GRIDCO'!ER12+'Day Ahead IEX PXIL'!CB12+RTM!CB12 -> 103.61 | BE12: ='OA&GRIDCO'!OC12+GDAM!U12 -> 0 | BF12: ='OA&GRIDCO'!OD12+GDAM!V12 -> 0 | BI12: ='OA&GRIDCO'!EW12+'Day Ahead IEX PXIL'!CG12+RTM!CG12 -> 1.03 | BJ12: ='OA&GRIDCO'!EX12+'Day Ahead IEX PXIL'!CH12+RTM!CH12 -> 0 | BK12: ='OA&GRIDCO'!KY12+RTM!FG12+'Day Ahead IEX PXIL'!GW12 -> 0 | BL12: ='OA&GRIDCO'!KZ12+RTM!FH12+'Day Ahead IEX PXIL'!GX12 -> 0 | BM12: ='Day Ahead IEX PXIL'!CM12+RTM!CM12+'OA&GRIDCO'!FC12 -> 28 | BN12: ='OA&GRIDCO'!FD12+'Day Ahead IEX PXIL'!CN12+RTM!CN12 -> 0 | BQ12: ='OA&GRIDCO'!FQ12+'Day Ahead IEX PXIL'!CS12+RTM!CS12 -> 2.06 | BR12: ='OA&GRIDCO'!FR12+'Day Ahead IEX PXIL'!CT12+RTM!CT12 -> 0 | BS12: ='OA&GRIDCO'!JW12+'Day Ahead IEX PXIL'!FA12+RTM!EU12 -> 53.8863 | BT12: ='OA&GRIDCO'!JX12+'Day Ahead IEX PXIL'!FB12+RTM!EV12 -> 10 | BU12: ='OA&GRIDCO'!GG12+RTM!G12 -> 0 | BV12: ='OA&GRIDCO'!GH12 -> 0 | BW12: ='OA&GRIDCO'!HA12+'Day Ahead IEX PXIL'!DK12+RTM!DE12 -> 0 | BX12: ='OA&GRIDCO'!HB12 -> 0 | BY12: ='Day Ahead IEX PXIL'!GK12+RTM!FA12+'OA&GRIDCO'!LE12 -> 0 | BZ12: ='Day Ahead IEX PXIL'!GL12+RTM!FB12+'OA&GRIDCO'!LF12 -> 0 | CC12: =RTM!GI12+'Day Ahead IEX PXIL'!II12+GDAM!M12 -> 0 | CD12: =RTM!GJ12 -> 0 | CE12: ='OA&GRIDCO'!HI12+'Day Ahead IEX PXIL'!DQ12+RTM!DK12 -> 0 | CF12: ='OA&GRIDCO'!HJ12+'Day Ahead IEX PXIL'!DR12+RTM!DL12 -> 0 | CG12: ='OA&GRIDCO'!HO12+'Day Ahead IEX PXIL'!DW12+RTM!DQ12 -> 0 | CH12: ='OA&GRIDCO'!HP12+'Day Ahead IEX PXIL'!DX12+RTM!DR12 -> 0 | CI12: ='Day Ahead IEX PXIL'!HE12+'OA&GRIDCO'!DI12+RTM!GY12 -> 1.03 | CJ12: ='Day Ahead IEX PXIL'!HF12+'OA&GRIDCO'!DJ12 -> 0 | CK12: ='OA&GRIDCO'!KU12+'Day Ahead IEX PXIL'!DE12 -> 0 | CL12: ='OA&GRIDCO'!KV12+'Day Ahead IEX PXIL'!DF12 -> 0 | CM12: ='Day Ahead IEX PXIL'!FS12+RTM!FS12 -> 0 | CN12: ='Day Ahead IEX PXIL'!FT12 -> 0 | CO12: =RTM!IY12+'Day Ahead IEX PXIL'!IU12 -> 0 | CP12: =RTM!IZ12+'Day Ahead IEX PXIL'!IV12 -> 0 | CQ12: ='OA&GRIDCO'!KI12+'Day Ahead IEX PXIL'!FM12+RTM!GE12 -> 0 | CR12: ='OA&GRIDCO'!KJ12+'Day Ahead IEX PXIL'!FN12 -> 0 | CS12: ='OA&GRIDCO'!KO12+'Day Ahead IEX PXIL'!FY12+RTM!FY12 -> 0 | CT12: ='Day Ahead IEX PXIL'!FZ12 -> 0 | CU12: 0 | CV12: ='Day Ahead IEX PXIL'!GF12 -> 0 | CW12: ='OA&GRIDCO'!HU12+'Day Ahead IEX PXIL'!EC12+RTM!DW12 -> 505 | CX12: ='OA&GRIDCO'!HV12+'Day Ahead IEX PXIL'!ED12+RTM!DX12 -> 0 | CY12: ='OA&GRIDCO'!IG12+'Day Ahead IEX PXIL'!EI12+RTM!EC12 -> 4.3 | CZ12: ='OA&GRIDCO'!IH12+'Day Ahead IEX PXIL'!EJ12+RTM!ED12 -> 1.075 | DA12: ='OA&GRIDCO'!IU12+'Day Ahead IEX PXIL'!EO12+RTM!EI12 -> 0 | DB12: ='OA&GRIDCO'!IV12+'Day Ahead IEX PXIL'!EP12+RTM!EJ12 -> 0 | DE12: ='Day Ahead IEX PXIL'!FC12+'OA&GRIDCO'!KC12+RTM!GM12 -> 0 | DF12: ='Day Ahead IEX PXIL'!FD12+'OA&GRIDCO'!KD12 -> 0 | DG12: ='OA&GRIDCO'!JG12+'Day Ahead IEX PXIL'!EU12+RTM!EO12 -> 26.8 | DH12: ='OA&GRIDCO'!JH12+'Day Ahead IEX PXIL'!EV12+RTM!EP12 -> 0 | DI12: 0 | DJ12: 0 | DK12: =RTM!FM12 -> 0 | DL12: =RTM!FN12 -> 0 | DM12: ='OA&GRIDCO'!LH12+'Day Ahead IEX PXIL'!HU12+'Day Ahead IEX PXIL'!HU12 -> 0 | DN12: ='OA&GRIDCO'!LJ12+'Day Ahead IEX PXIL'!HV12+RTM!GV12 -> 0 | DO12: ='OA&GRIDCO'!LU12+'Day Ahead IEX PXIL'!HO12+RTM!IU12 -> 54.795 | DP12: ='OA&GRIDCO'!LV12+'Day Ahead IEX PXIL'!HP12+RTM!IV12 -> 0 | DQ12: =RTM!HK12 -> 1.86 | DR12: =RTM!HL12 -> 0 | DS12: =RTM!HO12 -> 0 | DT12: =RTM!HP12 -> 0 | DU12: =RTM!HS12 -> 0 | DV12: =RTM!HT12 -> 0 | DW12: =RTM!HW12+'OA&GRIDCO'!MK12 -> 23.71 | DX12: =RTM!HX12 -> 0 | DY12: =RTM!IA12 -> 0 | DZ12: =RTM!IB12 -> 0 | EA12: =RTM!IC12 -> 0 | EB12: =RTM!ID12 -> 0 | EC12: ='OA&GRIDCO'!MQ12 -> 0 | ED12: ='OA&GRIDCO'!MR12 -> 0 | EE12: ='OA&GRIDCO'!MU12 -> 0 | EF12: ='OA&GRIDCO'!MV12 -> 0 | EG12: ='OA&GRIDCO'!MY12+'Day Ahead IEX PXIL'!IM12+GDAM!G12+RTM!II12 -> 0 | EH12: ='OA&GRIDCO'!MZ12+'Day Ahead IEX PXIL'!IN12+RTM!IJ12+GDAM!H12 -> 0 | EI12: ='Day Ahead IEX PXIL'!IQ12+RTM!IM12+'OA&GRIDCO'!NC12+GDAM!BO12 -> 0 | EJ12: ='Day Ahead IEX PXIL'!IR12+RTM!IN12+'OA&GRIDCO'!ND12 -> 0 | EK12: ='OA&GRIDCO'!NG12 -> 0 | EL12: ='OA&GRIDCO'!NH12 -> 0 | EM12: =RTM!IQ12 -> 0 | EN12: =RTM!IR12 -> 0 | EO12: =RTM!JC12 -> 0 | EP12: =RTM!JD12 -> 0 | EQ12: ='OA&GRIDCO'!NK12 -> 0 | ER12: ='OA&GRIDCO'!NL12 -> 0 | ES12: ='OA&GRIDCO'!NM12+RTM!HC12+'Day Ahead IEX PXIL'!IY12 -> 0 | ET12: ='OA&GRIDCO'!NP12+RTM!HD12+'Day Ahead IEX PXIL'!IZ12 -> 0 | EU12: =RTM!JG12 -> 1.55 | EV12: =RTM!JH12 -> 0 | EW12: =RTM!JK12 -> 0 | EX12: =RTM!JL12 -> 0 | EY12: =GDAM!S12+'OA&GRIDCO'!OM12+RTM!JO12 -> 0 | EZ12: =GDAM!T12+'OA&GRIDCO'!OD12+RTM!JP12 -> 0 | FA12: =GDAM!Y12+RTM!JS12 -> 0 | FB12: =GDAM!Z12+RTM!JT12 -> 0 | FC12: =RTM!JW12 -> 0 | FD12: =RTM!JX12 -> 0 | FE12: =GDAM!AE12+'OA&GRIDCO'!OU12 -> 0 | FF12: =GDAM!AF12+'OA&GRIDCO'!OV12 -> 0 | FG12: =GDAM!AK12 -> 0 | FH12: =GDAM!AL12 -> 0 | FI12: =GDAM!AQ12 -> 0 | FJ12: =GDAM!AR12 -> 0 | FK12: =GDAM!AW12 -> 0 | FL12: =GDAM!AX12 -> 0 | FM12: =GDAM!BC12 -> 0 | FN12: =GDAM!BD12 -> 0 | FO12: =GDAM!BI12 -> 0 | FP12: =GDAM!BJ12 -> 0 | FQ12: =C12+E12+G12+I12+K12+M12+O12+Q12+W12+Y12+AA12+AC12+AE12+AG12+AI12+AK12+AM12+AO12+AQ12+AS12+AU12+AW12+AY12+BA12+BC12+BE12+BG12+BI12+BK12+BM12+BO12+BQ12+BS12+BU12+BW12+BY12+CA12+CC12+CE12+CG12+CI12+CK12+CM12+CQ12+CS12+CU12+CW12+CY12+DA12+DC12+DE12+DG12+DI12+DK12+DM12+DO12+DQ12+DS12+DU12+DW12+DY12+EA12+EC12+EE12+EG12+EI12+EK12+CO12+EM12+EO12+EQ12+ES12+EU12+EW12+EY12+FA12+FC12+FE12+FG12+FI12+FK12+FM12+FO12 -> 1719.4757 | FR12: =D12+F12+H12+J12+L12+N12+P12+R12+X12+Z12+AB12+AD12+AF12+AH12+AJ12+AL12+AN12+AP12+AR12+AT12+AV12+AX12+AZ12+BB12+BD12+BH12+BJ12+BL12+BN12+BP12+BF12+BR12+BT12+BV12+BX12+BZ12+CB12+CD12+CF12+CH12+CJ12+CL12+CN12+CR12+CT12+CV12+CX12+CZ12+DB12+DD12+DF12+DH12+DJ12+DL12+DN12+DP12+DR12+DT12+DV12+DX12+DZ12+EB12+ED12+EF12+EH12+EJ12+EL12+EN12+CP12+EP12+ER12+ET12+EV12+EX12+EZ12+FB12+FD12+FF12+FH12+FJ12+FL12+FN12+FP12 -> 186.785
A13: 0030-0045 | B13: 3 | G13: 24 | H13: 0.9 | O13: 0 | Q13: 9 | R13: 0.85 | S13: 25 | U13: 37 | W13: 0 | Y13: 0 | AA13: 0 | AC13: 0 | AE13: ='OA&GRIDCO'!W13+'Day Ahead IEX PXIL'!M13+RTM!M13 -> 10.3 | AF13: ='OA&GRIDCO'!X13+'Day Ahead IEX PXIL'!N13+RTM!N13 -> 1.03 | AG13: ='OA&GRIDCO'!AC13+'Day Ahead IEX PXIL'!S13+RTM!S13 -> 1.86 | AH13: ='OA&GRIDCO'!AD13+'Day Ahead IEX PXIL'!T13+RTM!T13 -> 0 | AI13: ='OA&GRIDCO'!AU13+'Day Ahead IEX PXIL'!Y13+RTM!Y13 -> 115 | AJ13: ='OA&GRIDCO'!AV13+'Day Ahead IEX PXIL'!Z13+RTM!Z13 -> 34.5 | AK13: ='OA&GRIDCO'!BS13+'Day Ahead IEX PXIL'!AK13+RTM!AK13 -> 70.62 | AL13: ='OA&GRIDCO'!BT13+'Day Ahead IEX PXIL'!AL13+RTM!AL13 -> 7.12 | AM13: ='OA&GRIDCO'!BC13+'Day Ahead IEX PXIL'!AE13+RTM!AE13 -> 0 | AN13: ='OA&GRIDCO'!BD13+'Day Ahead IEX PXIL'!AF13+RTM!AF13 -> 0 | AO13: ='OA&GRIDCO'!CC13+'Day Ahead IEX PXIL'!AQ13+RTM!AQ13 -> 0 | AP13: ='OA&GRIDCO'!CD13+'Day Ahead IEX PXIL'!AR13+RTM!AR13 -> 0 | AQ13: ='OA&GRIDCO'!CO13+'Day Ahead IEX PXIL'!AW13+RTM!AW13 -> 45.08 | AR13: ='OA&GRIDCO'!CP13+'Day Ahead IEX PXIL'!AX13+RTM!AX13 -> 14 | AS13: ='OA&GRIDCO'!DA13+'Day Ahead IEX PXIL'!BC13+RTM!BC13 -> 163.81443 | AT13: ='OA&GRIDCO'!DB13+'Day Ahead IEX PXIL'!BD13+RTM!BD13 -> 0 | AU13: ='Day Ahead IEX PXIL'!BI13+RTM!BI13+'OA&GRIDCO'!OY13 -> 0 | AV13: ='Day Ahead IEX PXIL'!BJ13+RTM!BJ13+'OA&GRIDCO'!OZ13 -> 0 | AY13: 0 | AZ13: ='OA&GRIDCO'!DL13+'Day Ahead IEX PXIL'!BP13+RTM!BP13 -> 13.7 | BA13: ='OA&GRIDCO'!EC13+'Day Ahead IEX PXIL'!BU13+RTM!BU13 -> 0 | BB13: ='OA&GRIDCO'!ED13+'Day Ahead IEX PXIL'!BV13+RTM!BV13 -> 0 | BC13: ='OA&GRIDCO'!EQ13+'Day Ahead IEX PXIL'!CA13+RTM!CA13 -> 589.69 | BD13: ='OA&GRIDCO'!ER13+'Day Ahead IEX PXIL'!CB13+RTM!CB13 -> 103.61 | BE13: ='OA&GRIDCO'!OC13+GDAM!U13 -> 0 | BF13: ='OA&GRIDCO'!OD13+GDAM!V13 -> 0 | BI13: ='OA&GRIDCO'!EW13+'Day Ahead IEX PXIL'!CG13+RTM!CG13 -> 1.03 | BJ13: ='OA&GRIDCO'!EX13+'Day Ahead IEX PXIL'!CH13+RTM!CH13 -> 0 | BK13: ='OA&GRIDCO'!KY13+RTM!FG13+'Day Ahead IEX PXIL'!GW13 -> 0 | BL13: ='OA&GRIDCO'!KZ13+RTM!FH13+'Day Ahead IEX PXIL'!GX13 -> 0 | BM13: ='Day Ahead IEX PXIL'!CM13+RTM!CM13+'OA&GRIDCO'!FC13 -> 28 | BN13: ='OA&GRIDCO'!FD13+'Day Ahead IEX PXIL'!CN13+RTM!CN13 -> 0 | BQ13: ='OA&GRIDCO'!FQ13+'Day Ahead IEX PXIL'!CS13+RTM!CS13 -> 2.06 | BR13: ='OA&GRIDCO'!FR13+'Day Ahead IEX PXIL'!CT13+RTM!CT13 -> 0 | BS13: ='OA&GRIDCO'!JW13+'Day Ahead IEX PXIL'!FA13+RTM!EU13 -> 53.8863 | BT13: ='OA&GRIDCO'!JX13+'Day Ahead IEX PXIL'!FB13+RTM!EV13 -> 10 | BU13: ='OA&GRIDCO'!GG13+RTM!G13 -> 0 | BV13: ='OA&GRIDCO'!GH13 -> 0 | BW13: ='OA&GRIDCO'!HA13+'Day Ahead IEX PXIL'!DK13+RTM!DE13 -> 0 | BX13: ='OA&GRIDCO'!HB13 -> 0 | BY13: ='Day Ahead IEX PXIL'!GK13+RTM!FA13+'OA&GRIDCO'!LE13 -> 0 | BZ13: ='Day Ahead IEX PXIL'!GL13+RTM!FB13+'OA&GRIDCO'!LF13 -> 0 | CC13: =RTM!GI13+'Day Ahead IEX PXIL'!II13+GDAM!M13 -> 0 | CD13: =RTM!GJ13 -> 0 | CE13: ='OA&GRIDCO'!HI13+'Day Ahead IEX PXIL'!DQ13+RTM!DK13 -> 0 | CF13: ='OA&GRIDCO'!HJ13+'Day Ahead IEX PXIL'!DR13+RTM!DL13 -> 0 | CG13: ='OA&GRIDCO'!HO13+'Day Ahead IEX PXIL'!DW13+RTM!DQ13 -> 0 | CH13: ='OA&GRIDCO'!HP13+'Day Ahead IEX PXIL'!DX13+RTM!DR13 -> 0 | CI13: ='Day Ahead IEX PXIL'!HE13+'OA&GRIDCO'!DI13+RTM!GY13 -> 1.03 | CJ13: ='Day Ahead IEX PXIL'!HF13+'OA&GRIDCO'!DJ13 -> 0 | CK13: ='OA&GRIDCO'!KU13+'Day Ahead IEX PXIL'!DE13 -> 0 | CL13: ='OA&GRIDCO'!KV13+'Day Ahead IEX PXIL'!DF13 -> 0 | CM13: ='Day Ahead IEX PXIL'!FS13+RTM!FS13 -> 0 | CN13: ='Day Ahead IEX PXIL'!FT13 -> 0 | CO13: =RTM!IY13+'Day Ahead IEX PXIL'!IU13 -> 0 | CP13: =RTM!IZ13+'Day Ahead IEX PXIL'!IV13 -> 0 | CQ13: ='OA&GRIDCO'!KI13+'Day Ahead IEX PXIL'!FM13+RTM!GE13 -> 0 | CR13: ='OA&GRIDCO'!KJ13+'Day Ahead IEX PXIL'!FN13 -> 0 | CS13: ='OA&GRIDCO'!KO13+'Day Ahead IEX PXIL'!FY13+RTM!FY13 -> 0 | CT13: ='Day Ahead IEX PXIL'!FZ13 -> 0 | CU13: 0 | CV13: ='Day Ahead IEX PXIL'!GF13 -> 0 | CW13: ='OA&GRIDCO'!HU13+'Day Ahead IEX PXIL'!EC13+RTM!DW13 -> 475 | CX13: ='OA&GRIDCO'!HV13+'Day Ahead IEX PXIL'!ED13+RTM!DX13 -> 0 | CY13: ='OA&GRIDCO'!IG13+'Day Ahead IEX PXIL'!EI13+RTM!EC13 -> 4.3 | CZ13: ='OA&GRIDCO'!IH13+'Day Ahead IEX PXIL'!EJ13+RTM!ED13 -> 1.075 | DA13: ='OA&GRIDCO'!IU13+'Day Ahead IEX PXIL'!EO13+RTM!EI13 -> 0 | DB13: ='OA&GRIDCO'!IV13+'Day Ahead IEX PXIL'!EP13+RTM!EJ13 -> 0 | DE13: ='Day Ahead IEX PXIL'!FC13+'OA&GRIDCO'!KC13+RTM!GM13 -> 0 | DF13: ='Day Ahead IEX PXIL'!FD13+'OA&GRIDCO'!KD13 -> 0 | DG13: ='OA&GRIDCO'!JG13+'Day Ahead IEX PXIL'!EU13+RTM!EO13 -> 26.8 | DH13: ='OA&GRIDCO'!JH13+'Day Ahead IEX PXIL'!EV13+RTM!EP13 -> 0 | DI13: 0 | DJ13: 0 | DK13: =RTM!FM13 -> 0 | DL13: =RTM!FN13 -> 0 | DM13: ='OA&GRIDCO'!LH13+'Day Ahead IEX PXIL'!HU13+'Day Ahead IEX PXIL'!HU13 -> 0 | DN13: ='OA&GRIDCO'!LJ13+'Day Ahead IEX PXIL'!HV13+RTM!GV13 -> 0 | DO13: ='OA&GRIDCO'!LU13+'Day Ahead IEX PXIL'!HO13+RTM!IU13 -> 54.795 | DP13: ='OA&GRIDCO'!LV13+'Day Ahead IEX PXIL'!HP13+RTM!IV13 -> 0 | DQ13: =RTM!HK13 -> 1.86 | DR13: =RTM!HL13 -> 0 | DS13: =RTM!HO13 -> 0 | DT13: =RTM!HP13 -> 0 | DU13: =RTM!HS13 -> 0 | DV13: =RTM!HT13 -> 0 | DW13: =RTM!HW13+'OA&GRIDCO'!MK13 -> 23.71 | DX13: =RTM!HX13 -> 0 | DY13: =RTM!IA13 -> 0 | DZ13: =RTM!IB13 -> 0 | EA13: =RTM!IC13 -> 0 | EB13: =RTM!ID13 -> 0 | EC13: ='OA&GRIDCO'!MQ13 -> 0 | ED13: ='OA&GRIDCO'!MR13 -> 0 | EE13: ='OA&GRIDCO'!MU13 -> 0 | EF13: ='OA&GRIDCO'!MV13 -> 0 | EG13: ='OA&GRIDCO'!MY13+'Day Ahead IEX PXIL'!IM13+GDAM!G13+RTM!II13 -> 0 | EH13: ='OA&GRIDCO'!MZ13+'Day Ahead IEX PXIL'!IN13+RTM!IJ13+GDAM!H13 -> 0 | EI13: ='Day Ahead IEX PXIL'!IQ13+RTM!IM13+'OA&GRIDCO'!NC13+GDAM!BO13 -> 0 | EJ13: ='Day Ahead IEX PXIL'!IR13+RTM!IN13+'OA&GRIDCO'!ND13 -> 0 | EK13: ='OA&GRIDCO'!NG13 -> 0 | EL13: ='OA&GRIDCO'!NH13 -> 0 | EM13: =RTM!IQ13 -> 0 | EN13: =RTM!IR13 -> 0 | EO13: =RTM!JC13 -> 0 | EP13: =RTM!JD13 -> 0 | EQ13: ='OA&GRIDCO'!NK13 -> 0 | ER13: ='OA&GRIDCO'!NL13 -> 0 | ES13: ='OA&GRIDCO'!NM13+RTM!HC13+'Day Ahead IEX PXIL'!IY13 -> 0 | ET13: ='OA&GRIDCO'!NP13+RTM!HD13+'Day Ahead IEX PXIL'!IZ13 -> 0 | EU13: =RTM!JG13 -> 1.55 | EV13: =RTM!JH13 -> 0 | EW13: =RTM!JK13 -> 0 | EX13: =RTM!JL13 -> 0 | EY13: =GDAM!S13+'OA&GRIDCO'!OM13+RTM!JO13 -> 0 | EZ13: =GDAM!T13+'OA&GRIDCO'!OD13+RTM!JP13 -> 0 | FA13: =GDAM!Y13+RTM!JS13 -> 0 | FB13: =GDAM!Z13+RTM!JT13 -> 0 | FC13: =RTM!JW13 -> 0 | FD13: =RTM!JX13 -> 0 | FE13: =GDAM!AE13+'OA&GRIDCO'!OU13 -> 0 | FF13: =GDAM!AF13+'OA&GRIDCO'!OV13 -> 0 | FG13: =GDAM!AK13 -> 0 | FH13: =GDAM!AL13 -> 0 | FI13: =GDAM!AQ13 -> 0 | FJ13: =GDAM!AR13 -> 0 | FK13: =GDAM!AW13 -> 0 | FL13: =GDAM!AX13 -> 0 | FM13: =GDAM!BC13 -> 0 | FN13: =GDAM!BD13 -> 0 | FO13: =GDAM!BI13 -> 0 | FP13: =GDAM!BJ13 -> 0 | FQ13: =C13+E13+G13+I13+K13+M13+O13+Q13+W13+Y13+AA13+AC13+AE13+AG13+AI13+AK13+AM13+AO13+AQ13+AS13+AU13+AW13+AY13+BA13+BC13+BE13+BG13+BI13+BK13+BM13+BO13+BQ13+BS13+BU13+BW13+BY13+CA13+CC13+CE13+CG13+CI13+CK13+CM13+CQ13+CS13+CU13+CW13+CY13+DA13+DC13+DE13+DG13+DI13+DK13+DM13+DO13+DQ13+DS13+DU13+DW13+DY13+EA13+EC13+EE13+EG13+EI13+EK13+CO13+EM13+EO13+EQ13+ES13+EU13+EW13+EY13+FA13+FC13+FE13+FG13+FI13+FK13+FM13+FO13 -> 1703.3857 | FR13: =D13+F13+H13+J13+L13+N13+P13+R13+X13+Z13+AB13+AD13+AF13+AH13+AJ13+AL13+AN13+AP13+AR13+AT13+AV13+AX13+AZ13+BB13+BD13+BH13+BJ13+BL13+BN13+BP13+BF13+BR13+BT13+BV13+BX13+BZ13+CB13+CD13+CF13+CH13+CJ13+CL13+CN13+CR13+CT13+CV13+CX13+CZ13+DB13+DD13+DF13+DH13+DJ13+DL13+DN13+DP13+DR13+DT13+DV13+DX13+DZ13+EB13+ED13+EF13+EH13+EJ13+EL13+EN13+CP13+EP13+ER13+ET13+EV13+EX13+EZ13+FB13+FD13+FF13+FH13+FJ13+FL13+FN13+FP13 -> 186.785
A14: 0045-0100 | B14: 4 | G14: 24 | H14: 0.9 | O14: 0 | Q14: 9 | R14: 0.85 | S14: 25 | U14: 37 | W14: 0 | Y14: 0 | AA14: 0 | AC14: 0 | AE14: ='OA&GRIDCO'!W14+'Day Ahead IEX PXIL'!M14+RTM!M14 -> 10.3 | AF14: ='OA&GRIDCO'!X14+'Day Ahead IEX PXIL'!N14+RTM!N14 -> 1.03 | AG14: ='OA&GRIDCO'!AC14+'Day Ahead IEX PXIL'!S14+RTM!S14 -> 1.86 | AH14: ='OA&GRIDCO'!AD14+'Day Ahead IEX PXIL'!T14+RTM!T14 -> 0 | AI14: ='OA&GRIDCO'!AU14+'Day Ahead IEX PXIL'!Y14+RTM!Y14 -> 115 | AJ14: ='OA&GRIDCO'!AV14+'Day Ahead IEX PXIL'!Z14+RTM!Z14 -> 34.5 | AK14: ='OA&GRIDCO'!BS14+'Day Ahead IEX PXIL'!AK14+RTM!AK14 -> 50 | AL14: ='OA&GRIDCO'!BT14+'Day Ahead IEX PXIL'!AL14+RTM!AL14 -> 7.12 | AM14: ='OA&GRIDCO'!BC14+'Day Ahead IEX PXIL'!AE14+RTM!AE14 -> 0 | AN14: ='OA&GRIDCO'!BD14+'Day Ahead IEX PXIL'!AF14+RTM!AF14 -> 0 | AO14: ='OA&GRIDCO'!CC14+'Day Ahead IEX PXIL'!AQ14+RTM!AQ14 -> 0 | AP14: ='OA&GRIDCO'!CD14+'Day Ahead IEX PXIL'!AR14+RTM!AR14 -> 0 | AQ14: ='OA&GRIDCO'!CO14+'Day Ahead IEX PXIL'!AW14+RTM!AW14 -> 45.08 | AR14: ='OA&GRIDCO'!CP14+'Day Ahead IEX PXIL'!AX14+RTM!AX14 -> 14 | AS14: ='OA&GRIDCO'!DA14+'Day Ahead IEX PXIL'!BC14+RTM!BC14 -> 163.81443 | AT14: ='OA&GRIDCO'!DB14+'Day Ahead IEX PXIL'!BD14+RTM!BD14 -> 0 | AU14: ='Day Ahead IEX PXIL'!BI14+RTM!BI14+'OA&GRIDCO'!OY14 -> 0 | AV14: ='Day Ahead IEX PXIL'!BJ14+RTM!BJ14+'OA&GRIDCO'!OZ14 -> 0 | AY14: 0 | AZ14: ='OA&GRIDCO'!DL14+'Day Ahead IEX PXIL'!BP14+RTM!BP14 -> 13.7 | BA14: ='OA&GRIDCO'!EC14+'Day Ahead IEX PXIL'!BU14+RTM!BU14 -> 0 | BB14: ='OA&GRIDCO'!ED14+'Day Ahead IEX PXIL'!BV14+RTM!BV14 -> 0 | BC14: ='OA&GRIDCO'!EQ14+'Day Ahead IEX PXIL'!CA14+RTM!CA14 -> 589.69 | BD14: ='OA&GRIDCO'!ER14+'Day Ahead IEX PXIL'!CB14+RTM!CB14 -> 103.61 | BE14: ='OA&GRIDCO'!OC14+GDAM!U14 -> 0 | BF14: ='OA&GRIDCO'!OD14+GDAM!V14 -> 0 | BI14: ='OA&GRIDCO'!EW14+'Day Ahead IEX PXIL'!CG14+RTM!CG14 -> 1.03 | BJ14: ='OA&GRIDCO'!EX14+'Day Ahead IEX PXIL'!CH14+RTM!CH14 -> 0 | BK14: ='OA&GRIDCO'!KY14+RTM!FG14+'Day Ahead IEX PXIL'!GW14 -> 0 | BL14: ='OA&GRIDCO'!KZ14+RTM!FH14+'Day Ahead IEX PXIL'!GX14 -> 0 | BM14: ='Day Ahead IEX PXIL'!CM14+RTM!CM14+'OA&GRIDCO'!FC14 -> 28 | BN14: ='OA&GRIDCO'!FD14+'Day Ahead IEX PXIL'!CN14+RTM!CN14 -> 0 | BQ14: ='OA&GRIDCO'!FQ14+'Day Ahead IEX PXIL'!CS14+RTM!CS14 -> 2.06 | BR14: ='OA&GRIDCO'!FR14+'Day Ahead IEX PXIL'!CT14+RTM!CT14 -> 0 | BS14: ='OA&GRIDCO'!JW14+'Day Ahead IEX PXIL'!FA14+RTM!EU14 -> 53.8863 | BT14: ='OA&GRIDCO'!JX14+'Day Ahead IEX PXIL'!FB14+RTM!EV14 -> 10 | BU14: ='OA&GRIDCO'!GG14+RTM!G14 -> 0 | BV14: ='OA&GRIDCO'!GH14 -> 0 | BW14: ='OA&GRIDCO'!HA14+'Day Ahead IEX PXIL'!DK14+RTM!DE14 -> 0 | BX14: ='OA&GRIDCO'!HB14 -> 0 | BY14: ='Day Ahead IEX PXIL'!GK14+RTM!FA14+'OA&GRIDCO'!LE14 -> 0 | BZ14: ='Day Ahead IEX PXIL'!GL14+RTM!FB14+'OA&GRIDCO'!LF14 -> 0 | CC14: =RTM!GI14+'Day Ahead IEX PXIL'!II14+GDAM!M14 -> 0 | CD14: =RTM!GJ14 -> 0 | CE14: ='OA&GRIDCO'!HI14+'Day Ahead IEX PXIL'!DQ14+RTM!DK14 -> 0 | CF14: ='OA&GRIDCO'!HJ14+'Day Ahead IEX PXIL'!DR14+RTM!DL14 -> 0 | CG14: ='OA&GRIDCO'!HO14+'Day Ahead IEX PXIL'!DW14+RTM!DQ14 -> 0 | CH14: ='OA&GRIDCO'!HP14+'Day Ahead IEX PXIL'!DX14+RTM!DR14 -> 0 | CI14: ='Day Ahead IEX PXIL'!HE14+'OA&GRIDCO'!DI14+RTM!GY14 -> 1.03 | CJ14: ='Day Ahead IEX PXIL'!HF14+'OA&GRIDCO'!DJ14 -> 0 | CK14: ='OA&GRIDCO'!KU14+'Day Ahead IEX PXIL'!DE14 -> 0 | CL14: ='OA&GRIDCO'!KV14+'Day Ahead IEX PXIL'!DF14 -> 0 | CM14: ='Day Ahead IEX PXIL'!FS14+RTM!FS14 -> 0 | CN14: ='Day Ahead IEX PXIL'!FT14 -> 0 | CO14: =RTM!IY14+'Day Ahead IEX PXIL'!IU14 -> 0 | CP14: =RTM!IZ14+'Day Ahead IEX PXIL'!IV14 -> 0 | CQ14: ='OA&GRIDCO'!KI14+'Day Ahead IEX PXIL'!FM14+RTM!GE14 -> 0 | CR14: ='OA&GRIDCO'!KJ14+'Day Ahead IEX PXIL'!FN14 -> 0 | CS14: ='OA&GRIDCO'!KO14+'Day Ahead IEX PXIL'!FY14+RTM!FY14 -> 0 | CT14: ='Day Ahead IEX PXIL'!FZ14 -> 0 | CU14: 0 | CV14: ='Day Ahead IEX PXIL'!GF14 -> 0 | CW14: ='OA&GRIDCO'!HU14+'Day Ahead IEX PXIL'!EC14+RTM!DW14 -> 445 | CX14: ='OA&GRIDCO'!HV14+'Day Ahead IEX PXIL'!ED14+RTM!DX14 -> 0 | CY14: ='OA&GRIDCO'!IG14+'Day Ahead IEX PXIL'!EI14+RTM!EC14 -> 4.3 | CZ14: ='OA&GRIDCO'!IH14+'Day Ahead IEX PXIL'!EJ14+RTM!ED14 -> 1.075 | DA14: ='OA&GRIDCO'!IU14+'Day Ahead IEX PXIL'!EO14+RTM!EI14 -> 0 | DB14: ='OA&GRIDCO'!IV14+'Day Ahead IEX PXIL'!EP14+RTM!EJ14 -> 0 | DE14: ='Day Ahead IEX PXIL'!FC14+'OA&GRIDCO'!KC14+RTM!GM14 -> 0 | DF14: ='Day Ahead IEX PXIL'!FD14+'OA&GRIDCO'!KD14 -> 0 | DG14: ='OA&GRIDCO'!JG14+'Day Ahead IEX PXIL'!EU14+RTM!EO14 -> 26.8 | DH14: ='OA&GRIDCO'!JH14+'Day Ahead IEX PXIL'!EV14+RTM!EP14 -> 0 | DI14: 0 | DJ14: 0 | DK14: =RTM!FM14 -> 0 | DL14: =RTM!FN14 -> 0 | DM14: ='OA&GRIDCO'!LH14+'Day Ahead IEX PXIL'!HU14+'Day Ahead IEX PXIL'!HU14 -> 0 | DN14: ='OA&GRIDCO'!LJ14+'Day Ahead IEX PXIL'!HV14+RTM!GV14 -> 0 | DO14: ='OA&GRIDCO'!LU14+'Day Ahead IEX PXIL'!HO14+RTM!IU14 -> 54.795 | DP14: ='OA&GRIDCO'!LV14+'Day Ahead IEX PXIL'!HP14+RTM!IV14 -> 0 | DQ14: =RTM!HK14 -> 1.86 | DR14: =RTM!HL14 -> 0 | DS14: =RTM!HO14 -> 0 | DT14: =RTM!HP14 -> 0 | DU14: =RTM!HS14 -> 0 | DV14: =RTM!HT14 -> 0 | DW14: =RTM!HW14+'OA&GRIDCO'!MK14 -> 23.71 | DX14: =RTM!HX14 -> 0 | DY14: =RTM!IA14 -> 0 | DZ14: =RTM!IB14 -> 0 | EA14: =RTM!IC14 -> 0 | EB14: =RTM!ID14 -> 0 | EC14: ='OA&GRIDCO'!MQ14 -> 0 | ED14: ='OA&GRIDCO'!MR14 -> 0 | EE14: ='OA&GRIDCO'!MU14 -> 0 | EF14: ='OA&GRIDCO'!MV14 -> 0 | EG14: ='OA&GRIDCO'!MY14+'Day Ahead IEX PXIL'!IM14+GDAM!G14+RTM!II14 -> 0 | EH14: ='OA&GRIDCO'!MZ14+'Day Ahead IEX PXIL'!IN14+RTM!IJ14+GDAM!H14 -> 0 | EI14: ='Day Ahead IEX PXIL'!IQ14+RTM!IM14+'OA&GRIDCO'!NC14+GDAM!BO14 -> 0 | EJ14: ='Day Ahead IEX PXIL'!IR14+RTM!IN14+'OA&GRIDCO'!ND14 -> 0 | EK14: ='OA&GRIDCO'!NG14 -> 0 | EL14: ='OA&GRIDCO'!NH14 -> 0 | EM14: =RTM!IQ14 -> 0 | EN14: =RTM!IR14 -> 0 | EO14: =RTM!JC14 -> 0 | EP14: =RTM!JD14 -> 0 | EQ14: ='OA&GRIDCO'!NK14 -> 0 | ER14: ='OA&GRIDCO'!NL14 -> 0 | ES14: ='OA&GRIDCO'!NM14+RTM!HC14+'Day Ahead IEX PXIL'!IY14 -> 0 | ET14: ='OA&GRIDCO'!NP14+RTM!HD14+'Day Ahead IEX PXIL'!IZ14 -> 0 | EU14: =RTM!JG14 -> 1.55 | EV14: =RTM!JH14 -> 0 | EW14: =RTM!JK14 -> 0 | EX14: =RTM!JL14 -> 0 | EY14: =GDAM!S14+'OA&GRIDCO'!OM14+RTM!JO14 -> 0 | EZ14: =GDAM!T14+'OA&GRIDCO'!OD14+RTM!JP14 -> 0 | FA14: =GDAM!Y14+RTM!JS14 -> 0 | FB14: =GDAM!Z14+RTM!JT14 -> 0 | FC14: =RTM!JW14 -> 0 | FD14: =RTM!JX14 -> 0 | FE14: =GDAM!AE14+'OA&GRIDCO'!OU14 -> 0 | FF14: =GDAM!AF14+'OA&GRIDCO'!OV14 -> 0 | FG14: =GDAM!AK14 -> 0 | FH14: =GDAM!AL14 -> 0 | FI14: =GDAM!AQ14 -> 0 | FJ14: =GDAM!AR14 -> 0 | FK14: =GDAM!AW14 -> 0 | FL14: =GDAM!AX14 -> 0 | FM14: =GDAM!BC14 -> 0 | FN14: =GDAM!BD14 -> 0 | FO14: =GDAM!BI14 -> 0 | FP14: =GDAM!BJ14 -> 0 | FQ14: =C14+E14+G14+I14+K14+M14+O14+Q14+W14+Y14+AA14+AC14+AE14+AG14+AI14+AK14+AM14+AO14+AQ14+AS14+AU14+AW14+AY14+BA14+BC14+BE14+BG14+BI14+BK14+BM14+BO14+BQ14+BS14+BU14+BW14+BY14+CA14+CC14+CE14+CG14+CI14+CK14+CM14+CQ14+CS14+CU14+CW14+CY14+DA14+DC14+DE14+DG14+DI14+DK14+DM14+DO14+DQ14+DS14+DU14+DW14+DY14+EA14+EC14+EE14+EG14+EI14+EK14+CO14+EM14+EO14+EQ14+ES14+EU14+EW14+EY14+FA14+FC14+FE14+FG14+FI14+FK14+FM14+FO14 -> 1652.7657 | FR14: =D14+F14+H14+J14+L14+N14+P14+R14+X14+Z14+AB14+AD14+AF14+AH14+AJ14+AL14+AN14+AP14+AR14+AT14+AV14+AX14+AZ14+BB14+BD14+BH14+BJ14+BL14+BN14+BP14+BF14+BR14+BT14+BV14+BX14+BZ14+CB14+CD14+CF14+CH14+CJ14+CL14+CN14+CR14+CT14+CV14+CX14+CZ14+DB14+DD14+DF14+DH14+DJ14+DL14+DN14+DP14+DR14+DT14+DV14+DX14+DZ14+EB14+ED14+EF14+EH14+EJ14+EL14+EN14+CP14+EP14+ER14+ET14+EV14+EX14+EZ14+FB14+FD14+FF14+FH14+FJ14+FL14+FN14+FP14 -> 186.785
A15: 0100-0115 | B15: 5 | G15: 24 | H15: 0.9 | O15: 0 | Q15: 9 | R15: 0.85 | S15: 25 | U15: 37 | W15: 0 | Y15: 0 | AA15: 0 | AC15: 0 | AE15: ='OA&GRIDCO'!W15+'Day Ahead IEX PXIL'!M15+RTM!M15 -> 21.64 | AF15: ='OA&GRIDCO'!X15+'Day Ahead IEX PXIL'!N15+RTM!N15 -> 1.03 | AG15: ='OA&GRIDCO'!AC15+'Day Ahead IEX PXIL'!S15+RTM!S15 -> 1.86 | AH15: ='OA&GRIDCO'!AD15+'Day Ahead IEX PXIL'!T15+RTM!T15 -> 0 | AI15: ='OA&GRIDCO'!AU15+'Day Ahead IEX PXIL'!Y15+RTM!Y15 -> 115 | AJ15: ='OA&GRIDCO'!AV15+'Day Ahead IEX PXIL'!Z15+RTM!Z15 -> 34.5 | AK15: ='OA&GRIDCO'!BS15+'Day Ahead IEX PXIL'!AK15+RTM!AK15 -> 101.55 | AL15: ='OA&GRIDCO'!BT15+'Day Ahead IEX PXIL'!AL15+RTM!AL15 -> 7.12 | AM15: ='OA&GRIDCO'!BC15+'Day Ahead IEX PXIL'!AE15+RTM!AE15 -> 0 | AN15: ='OA&GRIDCO'!BD15+'Day Ahead IEX PXIL'!AF15+RTM!AF15 -> 0 | AO15: ='OA&GRIDCO'!CC15+'Day Ahead IEX PXIL'!AQ15+RTM!AQ15 -> 0 | AP15: ='OA&GRIDCO'!CD15+'Day Ahead IEX PXIL'!AR15+RTM!AR15 -> 0 | AQ15: ='OA&GRIDCO'!CO15+'Day Ahead IEX PXIL'!AW15+RTM!AW15 -> 45.08 | AR15: ='OA&GRIDCO'!CP15+'Day Ahead IEX PXIL'!AX15+RTM!AX15 -> 14 | AS15: ='OA&GRIDCO'!DA15+'Day Ahead IEX PXIL'!BC15+RTM!BC15 -> 193.81443 | AT15: ='OA&GRIDCO'!DB15+'Day Ahead IEX PXIL'!BD15+RTM!BD15 -> 0 | AU15: ='Day Ahead IEX PXIL'!BI15+RTM!BI15+'OA&GRIDCO'!OY15 -> 0 | AV15: ='Day Ahead IEX PXIL'!BJ15+RTM!BJ15+'OA&GRIDCO'!OZ15 -> 0 | AY15: 0 | AZ15: ='OA&GRIDCO'!DL15+'Day Ahead IEX PXIL'!BP15+RTM!BP15 -> 13.7 | BA15: ='OA&GRIDCO'!EC15+'Day Ahead IEX PXIL'!BU15+RTM!BU15 -> 0 | BB15: ='OA&GRIDCO'!ED15+'Day Ahead IEX PXIL'!BV15+RTM!BV15 -> 0 | BC15: ='OA&GRIDCO'!EQ15+'Day Ahead IEX PXIL'!CA15+RTM!CA15 -> 600 | BD15: ='OA&GRIDCO'!ER15+'Day Ahead IEX PXIL'!CB15+RTM!CB15 -> 103.61 | BE15: ='OA&GRIDCO'!OC15+GDAM!U15 -> 0 | BF15: ='OA&GRIDCO'!OD15+GDAM!V15 -> 0 | BI15: ='OA&GRIDCO'!EW15+'Day Ahead IEX PXIL'!CG15+RTM!CG15 -> 1.03 | BJ15: ='OA&GRIDCO'!EX15+'Day Ahead IEX PXIL'!CH15+RTM!CH15 -> 0 | BK15: ='OA&GRIDCO'!KY15+RTM!FG15+'Day Ahead IEX PXIL'!GW15 -> 0 | BL15: ='OA&GRIDCO'!KZ15+RTM!FH15+'Day Ahead IEX PXIL'!GX15 -> 0 | BM15: ='Day Ahead IEX PXIL'!CM15+RTM!CM15+'OA&GRIDCO'!FC15 -> 28 | BN15: ='OA&GRIDCO'!FD15+'Day Ahead IEX PXIL'!CN15+RTM!CN15 -> 0 | BQ15: ='OA&GRIDCO'!FQ15+'Day Ahead IEX PXIL'!CS15+RTM!CS15 -> 2.06 | BR15: ='OA&GRIDCO'!FR15+'Day Ahead IEX PXIL'!CT15+RTM!CT15 -> 0 | BS15: ='OA&GRIDCO'!JW15+'Day Ahead IEX PXIL'!FA15+RTM!EU15 -> 53.8863 | BT15: ='OA&GRIDCO'!JX15+'Day Ahead IEX PXIL'!FB15+RTM!EV15 -> 10 | BU15: ='OA&GRIDCO'!GG15+RTM!G15 -> 0 | BV15: ='OA&GRIDCO'!GH15 -> 0 | BW15: ='OA&GRIDCO'!HA15+'Day Ahead IEX PXIL'!DK15+RTM!DE15 -> 0 | BX15: ='OA&GRIDCO'!HB15 -> 0 | BY15: ='Day Ahead IEX PXIL'!GK15+RTM!FA15+'OA&GRIDCO'!LE15 -> 0 | BZ15: ='Day Ahead IEX PXIL'!GL15+RTM!FB15+'OA&GRIDCO'!LF15 -> 0 | CC15: =RTM!GI15+'Day Ahead IEX PXIL'!II15+GDAM!M15 -> 0 | CD15: =RTM!GJ15 -> 0 | CE15: ='OA&GRIDCO'!HI15+'Day Ahead IEX PXIL'!DQ15+RTM!DK15 -> 0 | CF15: ='OA&GRIDCO'!HJ15+'Day Ahead IEX PXIL'!DR15+RTM!DL15 -> 0 | CG15: ='OA&GRIDCO'!HO15+'Day Ahead IEX PXIL'!DW15+RTM!DQ15 -> 5.15 | CH15: ='OA&GRIDCO'!HP15+'Day Ahead IEX PXIL'!DX15+RTM!DR15 -> 0 | CI15: ='Day Ahead IEX PXIL'!HE15+'OA&GRIDCO'!DI15+RTM!GY15 -> 1.03 | CJ15: ='Day Ahead IEX PXIL'!HF15+'OA&GRIDCO'!DJ15 -> 0 | CK15: ='OA&GRIDCO'!KU15+'Day Ahead IEX PXIL'!DE15 -> 0 | CL15: ='OA&GRIDCO'!KV15+'Day Ahead IEX PXIL'!DF15 -> 0 | CM15: ='Day Ahead IEX PXIL'!FS15+RTM!FS15 -> 0 | CN15: ='Day Ahead IEX PXIL'!FT15 -> 0 | CO15: =RTM!IY15+'Day Ahead IEX PXIL'!IU15 -> 0 | CP15: =RTM!IZ15+'Day Ahead IEX PXIL'!IV15 -> 0 | CQ15: ='OA&GRIDCO'!KI15+'Day Ahead IEX PXIL'!FM15+RTM!GE15 -> 0 | CR15: ='OA&GRIDCO'!KJ15+'Day Ahead IEX PXIL'!FN15 -> 0 | CS15: ='OA&GRIDCO'!KO15+'Day Ahead IEX PXIL'!FY15+RTM!FY15 -> 0 | CT15: ='Day Ahead IEX PXIL'!FZ15 -> 0 | CU15: 0 | CV15: ='Day Ahead IEX PXIL'!GF15 -> 0 | CW15: ='OA&GRIDCO'!HU15+'Day Ahead IEX PXIL'!EC15+RTM!DW15 -> 415 | CX15: ='OA&GRIDCO'!HV15+'Day Ahead IEX PXIL'!ED15+RTM!DX15 -> 0 | CY15: ='OA&GRIDCO'!IG15+'Day Ahead IEX PXIL'!EI15+RTM!EC15 -> 4.3 | CZ15: ='OA&GRIDCO'!IH15+'Day Ahead IEX PXIL'!EJ15+RTM!ED15 -> 1.075 | DA15: ='OA&GRIDCO'!IU15+'Day Ahead IEX PXIL'!EO15+RTM!EI15 -> 0 | DB15: ='OA&GRIDCO'!IV15+'Day Ahead IEX PXIL'!EP15+RTM!EJ15 -> 0 | DE15: ='Day Ahead IEX PXIL'!FC15+'OA&GRIDCO'!KC15+RTM!GM15 -> 0 | DF15: ='Day Ahead IEX PXIL'!FD15+'OA&GRIDCO'!KD15 -> 0 | DG15: ='OA&GRIDCO'!JG15+'Day Ahead IEX PXIL'!EU15+RTM!EO15 -> 26.8 | DH15: ='OA&GRIDCO'!JH15+'Day Ahead IEX PXIL'!EV15+RTM!EP15 -> 0 | DI15: 0 | DJ15: 0 | DK15: =RTM!FM15 -> 0 | DL15: =RTM!FN15 -> 0 | DM15: ='OA&GRIDCO'!LH15+'Day Ahead IEX PXIL'!HU15+'Day Ahead IEX PXIL'!HU15 -> 0 | DN15: ='OA&GRIDCO'!LJ15+'Day Ahead IEX PXIL'!HV15+RTM!GV15 -> 0 | DO15: ='OA&GRIDCO'!LU15+'Day Ahead IEX PXIL'!HO15+RTM!IU15 -> 54.795 | DP15: ='OA&GRIDCO'!LV15+'Day Ahead IEX PXIL'!HP15+RTM!IV15 -> 0 | DQ15: =RTM!HK15 -> 1.24 | DR15: =RTM!HL15 -> 0 | DS15: =RTM!HO15 -> 0 | DT15: =RTM!HP15 -> 0 | DU15: =RTM!HS15 -> 0 | DV15: =RTM!HT15 -> 0 | DW15: =RTM!HW15+'OA&GRIDCO'!MK15 -> 23.71 | DX15: =RTM!HX15 -> 0 | DY15: =RTM!IA15 -> 0 | DZ15: =RTM!IB15 -> 0 | EA15: =RTM!IC15 -> 0 | EB15: =RTM!ID15 -> 0 | EC15: ='OA&GRIDCO'!MQ15 -> 0 | ED15: ='OA&GRIDCO'!MR15 -> 0 | EE15: ='OA&GRIDCO'!MU15 -> 0 | EF15: ='OA&GRIDCO'!MV15 -> 0 | EG15: ='OA&GRIDCO'!MY15+'Day Ahead IEX PXIL'!IM15+GDAM!G15+RTM!II15 -> 0 | EH15: ='OA&GRIDCO'!MZ15+'Day Ahead IEX PXIL'!IN15+RTM!IJ15+GDAM!H15 -> 0 | EI15: ='Day Ahead IEX PXIL'!IQ15+RTM!IM15+'OA&GRIDCO'!NC15+GDAM!BO15 -> 0 | EJ15: ='Day Ahead IEX PXIL'!IR15+RTM!IN15+'OA&GRIDCO'!ND15 -> 0 | EK15: ='OA&GRIDCO'!NG15 -> 0 | EL15: ='OA&GRIDCO'!NH15 -> 0 | EM15: =RTM!IQ15 -> 0 | EN15: =RTM!IR15 -> 0 | EO15: =RTM!JC15 -> 0 | EP15: =RTM!JD15 -> 0 | EQ15: ='OA&GRIDCO'!NK15 -> 0 | ER15: ='OA&GRIDCO'!NL15 -> 0 | ES15: ='OA&GRIDCO'!NM15+RTM!HC15+'Day Ahead IEX PXIL'!IY15 -> 0 | ET15: ='OA&GRIDCO'!NP15+RTM!HD15+'Day Ahead IEX PXIL'!IZ15 -> 0 | EU15: =RTM!JG15 -> 1.55 | EV15: =RTM!JH15 -> 0 | EW15: =RTM!JK15 -> 0 | EX15: =RTM!JL15 -> 0 | EY15: =GDAM!S15+'OA&GRIDCO'!OM15+RTM!JO15 -> 0 | EZ15: =GDAM!T15+'OA&GRIDCO'!OD15+RTM!JP15 -> 0 | FA15: =GDAM!Y15+RTM!JS15 -> 0 | FB15: =GDAM!Z15+RTM!JT15 -> 0 | FC15: =RTM!JW15 -> 0 | FD15: =RTM!JX15 -> 0 | FE15: =GDAM!AE15+'OA&GRIDCO'!OU15 -> 0 | FF15: =GDAM!AF15+'OA&GRIDCO'!OV15 -> 0 | FG15: =GDAM!AK15 -> 0 | FH15: =GDAM!AL15 -> 0 | FI15: =GDAM!AQ15 -> 0 | FJ15: =GDAM!AR15 -> 0 | FK15: =GDAM!AW15 -> 0 | FL15: =GDAM!AX15 -> 0 | FM15: =GDAM!BC15 -> 0 | FN15: =GDAM!BD15 -> 0 | FO15: =GDAM!BI15 -> 0 | FP15: =GDAM!BJ15 -> 0 | FQ15: =C15+E15+G15+I15+K15+M15+O15+Q15+W15+Y15+AA15+AC15+AE15+AG15+AI15+AK15+AM15+AO15+AQ15+AS15+AU15+AW15+AY15+BA15+BC15+BE15+BG15+BI15+BK15+BM15+BO15+BQ15+BS15+BU15+BW15+BY15+CA15+CC15+CE15+CG15+CI15+CK15+CM15+CQ15+CS15+CU15+CW15+CY15+DA15+DC15+DE15+DG15+DI15+DK15+DM15+DO15+DQ15+DS15+DU15+DW15+DY15+EA15+EC15+EE15+EG15+EI15+EK15+CO15+EM15+EO15+EQ15+ES15+EU15+EW15+EY15+FA15+FC15+FE15+FG15+FI15+FK15+FM15+FO15 -> 1730.4957 | FR15: =D15+F15+H15+J15+L15+N15+P15+R15+X15+Z15+AB15+AD15+AF15+AH15+AJ15+AL15+AN15+AP15+AR15+AT15+AV15+AX15+AZ15+BB15+BD15+BH15+BJ15+BL15+BN15+BP15+BF15+BR15+BT15+BV15+BX15+BZ15+CB15+CD15+CF15+CH15+CJ15+CL15+CN15+CR15+CT15+CV15+CX15+CZ15+DB15+DD15+DF15+DH15+DJ15+DL15+DN15+DP15+DR15+DT15+DV15+DX15+DZ15+EB15+ED15+EF15+EH15+EJ15+EL15+EN15+CP15+EP15+ER15+ET15+EV15+EX15+EZ15+FB15+FD15+FF15+FH15+FJ15+FL15+FN15+FP15 -> 186.785
A16: 0115-0130 | B16: 6 | G16: 24 | H16: 0.9 | O16: 0 | Q16: 9 | R16: 0.85 | S16: 25 | U16: 37 | W16: 0 | Y16: 0 | AA16: 0 | AC16: 0 | AE16: ='OA&GRIDCO'!W16+'Day Ahead IEX PXIL'!M16+RTM!M16 -> 21.64 | AF16: ='OA&GRIDCO'!X16+'Day Ahead IEX PXIL'!N16+RTM!N16 -> 1.03 | AG16: ='OA&GRIDCO'!AC16+'Day Ahead IEX PXIL'!S16+RTM!S16 -> 1.86 | AH16: ='OA&GRIDCO'!AD16+'Day Ahead IEX PXIL'!T16+RTM!T16 -> 0 | AI16: ='OA&GRIDCO'!AU16+'Day Ahead IEX PXIL'!Y16+RTM!Y16 -> 115 | AJ16: ='OA&GRIDCO'!AV16+'Day Ahead IEX PXIL'!Z16+RTM!Z16 -> 34.5 | AK16: ='OA&GRIDCO'!BS16+'Day Ahead IEX PXIL'!AK16+RTM!AK16 -> 70.62 | AL16: ='OA&GRIDCO'!BT16+'Day Ahead IEX PXIL'!AL16+RTM!AL16 -> 7.12 | AM16: ='OA&GRIDCO'!BC16+'Day Ahead IEX PXIL'!AE16+RTM!AE16 -> 0 | AN16: ='OA&GRIDCO'!BD16+'Day Ahead IEX PXIL'!AF16+RTM!AF16 -> 0 | AO16: ='OA&GRIDCO'!CC16+'Day Ahead IEX PXIL'!AQ16+RTM!AQ16 -> 0 | AP16: ='OA&GRIDCO'!CD16+'Day Ahead IEX PXIL'!AR16+RTM!AR16 -> 0 | AQ16: ='OA&GRIDCO'!CO16+'Day Ahead IEX PXIL'!AW16+RTM!AW16 -> 45.08 | AR16: ='OA&GRIDCO'!CP16+'Day Ahead IEX PXIL'!AX16+RTM!AX16 -> 14 | AS16: ='OA&GRIDCO'!DA16+'Day Ahead IEX PXIL'!BC16+RTM!BC16 -> 193.81443 | AT16: ='OA&GRIDCO'!DB16+'Day Ahead IEX PXIL'!BD16+RTM!BD16 -> 0 | AU16: ='Day Ahead IEX PXIL'!BI16+RTM!BI16+'OA&GRIDCO'!OY16 -> 0 | AV16: ='Day Ahead IEX PXIL'!BJ16+RTM!BJ16+'OA&GRIDCO'!OZ16 -> 0 | AY16: 0 | AZ16: ='OA&GRIDCO'!DL16+'Day Ahead IEX PXIL'!BP16+RTM!BP16 -> 13.7 | BA16: ='OA&GRIDCO'!EC16+'Day Ahead IEX PXIL'!BU16+RTM!BU16 -> 0 | BB16: ='OA&GRIDCO'!ED16+'Day Ahead IEX PXIL'!BV16+RTM!BV16 -> 0 | BC16: ='OA&GRIDCO'!EQ16+'Day Ahead IEX PXIL'!CA16+RTM!CA16 -> 600 | BD16: ='OA&GRIDCO'!ER16+'Day Ahead IEX PXIL'!CB16+RTM!CB16 -> 103.61 | BE16: ='OA&GRIDCO'!OC16+GDAM!U16 -> 0 | BF16: ='OA&GRIDCO'!OD16+GDAM!V16 -> 0 | BI16: ='OA&GRIDCO'!EW16+'Day Ahead IEX PXIL'!CG16+RTM!CG16 -> 1.03 | BJ16: ='OA&GRIDCO'!EX16+'Day Ahead IEX PXIL'!CH16+RTM!CH16 -> 0 | BK16: ='OA&GRIDCO'!KY16+RTM!FG16+'Day Ahead IEX PXIL'!GW16 -> 0 | BL16: ='OA&GRIDCO'!KZ16+RTM!FH16+'Day Ahead IEX PXIL'!GX16 -> 0 | BM16: ='Day Ahead IEX PXIL'!CM16+RTM!CM16+'OA&GRIDCO'!FC16 -> 28 | BN16: ='OA&GRIDCO'!FD16+'Day Ahead IEX PXIL'!CN16+RTM!CN16 -> 0 | BQ16: ='OA&GRIDCO'!FQ16+'Day Ahead IEX PXIL'!CS16+RTM!CS16 -> 2.06 | BR16: ='OA&GRIDCO'!FR16+'Day Ahead IEX PXIL'!CT16+RTM!CT16 -> 0 | BS16: ='OA&GRIDCO'!JW16+'Day Ahead IEX PXIL'!FA16+RTM!EU16 -> 53.8863 | BT16: ='OA&GRIDCO'!JX16+'Day Ahead IEX PXIL'!FB16+RTM!EV16 -> 10 | BU16: ='OA&GRIDCO'!GG16+RTM!G16 -> 0 | BV16: ='OA&GRIDCO'!GH16 -> 0 | BW16: ='OA&GRIDCO'!HA16+'Day Ahead IEX PXIL'!DK16+RTM!DE16 -> 0 | BX16: ='OA&GRIDCO'!HB16 -> 0 | BY16: ='Day Ahead IEX PXIL'!GK16+RTM!FA16+'OA&GRIDCO'!LE16 -> 0 | BZ16: ='Day Ahead IEX PXIL'!GL16+RTM!FB16+'OA&GRIDCO'!LF16 -> 0 | CC16: =RTM!GI16+'Day Ahead IEX PXIL'!II16+GDAM!M16 -> 0 | CD16: =RTM!GJ16 -> 0 | CE16: ='OA&GRIDCO'!HI16+'Day Ahead IEX PXIL'!DQ16+RTM!DK16 -> 0 | CF16: ='OA&GRIDCO'!HJ16+'Day Ahead IEX PXIL'!DR16+RTM!DL16 -> 0 | CG16: ='OA&GRIDCO'!HO16+'Day Ahead IEX PXIL'!DW16+RTM!DQ16 -> 5.15 | CH16: ='OA&GRIDCO'!HP16+'Day Ahead IEX PXIL'!DX16+RTM!DR16 -> 0 | CI16: ='Day Ahead IEX PXIL'!HE16+'OA&GRIDCO'!DI16+RTM!GY16 -> 1.03 | CJ16: ='Day Ahead IEX PXIL'!HF16+'OA&GRIDCO'!DJ16 -> 0 | CK16: ='OA&GRIDCO'!KU16+'Day Ahead IEX PXIL'!DE16 -> 0 | CL16: ='OA&GRIDCO'!KV16+'Day Ahead IEX PXIL'!DF16 -> 0 | CM16: ='Day Ahead IEX PXIL'!FS16+RTM!FS16 -> 0 | CN16: ='Day Ahead IEX PXIL'!FT16 -> 0 | CO16: =RTM!IY16+'Day Ahead IEX PXIL'!IU16 -> 0 | CP16: =RTM!IZ16+'Day Ahead IEX PXIL'!IV16 -> 0 | CQ16: ='OA&GRIDCO'!KI16+'Day Ahead IEX PXIL'!FM16+RTM!GE16 -> 0 | CR16: ='OA&GRIDCO'!KJ16+'Day Ahead IEX PXIL'!FN16 -> 0 | CS16: ='OA&GRIDCO'!KO16+'Day Ahead IEX PXIL'!FY16+RTM!FY16 -> 0 | CT16: ='Day Ahead IEX PXIL'!FZ16 -> 0 | CU16: 0 | CV16: ='Day Ahead IEX PXIL'!GF16 -> 0 | CW16: ='OA&GRIDCO'!HU16+'Day Ahead IEX PXIL'!EC16+RTM!DW16 -> 400 | CX16: ='OA&GRIDCO'!HV16+'Day Ahead IEX PXIL'!ED16+RTM!DX16 -> 0 | CY16: ='OA&GRIDCO'!IG16+'Day Ahead IEX PXIL'!EI16+RTM!EC16 -> 4.3 | CZ16: ='OA&GRIDCO'!IH16+'Day Ahead IEX PXIL'!EJ16+RTM!ED16 -> 1.075 | DA16: ='OA&GRIDCO'!IU16+'Day Ahead IEX PXIL'!EO16+RTM!EI16 -> 0 | DB16: ='OA&GRIDCO'!IV16+'Day Ahead IEX PXIL'!EP16+RTM!EJ16 -> 0 | DE16: ='Day Ahead IEX PXIL'!FC16+'OA&GRIDCO'!KC16+RTM!GM16 -> 0 | DF16: ='Day Ahead IEX PXIL'!FD16+'OA&GRIDCO'!KD16 -> 0 | DG16: ='OA&GRIDCO'!JG16+'Day Ahead IEX PXIL'!EU16+RTM!EO16 -> 26.8 | DH16: ='OA&GRIDCO'!JH16+'Day Ahead IEX PXIL'!EV16+RTM!EP16 -> 0 | DI16: 0 | DJ16: 0 | DK16: =RTM!FM16 -> 0 | DL16: =RTM!FN16 -> 0 | DM16: ='OA&GRIDCO'!LH16+'Day Ahead IEX PXIL'!HU16+'Day Ahead IEX PXIL'!HU16 -> 0 | DN16: ='OA&GRIDCO'!LJ16+'Day Ahead IEX PXIL'!HV16+RTM!GV16 -> 0 | DO16: ='OA&GRIDCO'!LU16+'Day Ahead IEX PXIL'!HO16+RTM!IU16 -> 54.795 | DP16: ='OA&GRIDCO'!LV16+'Day Ahead IEX PXIL'!HP16+RTM!IV16 -> 0 | DQ16: =RTM!HK16 -> 1.24 | DR16: =RTM!HL16 -> 0 | DS16: =RTM!HO16 -> 0 | DT16: =RTM!HP16 -> 0 | DU16: =RTM!HS16 -> 0 | DV16: =RTM!HT16 -> 0 | DW16: =RTM!HW16+'OA&GRIDCO'!MK16 -> 23.71 | DX16: =RTM!HX16 -> 0 | DY16: =RTM!IA16 -> 0 | DZ16: =RTM!IB16 -> 0 | EA16: =RTM!IC16 -> 0 | EB16: =RTM!ID16 -> 0 | EC16: ='OA&GRIDCO'!MQ16 -> 0 | ED16: ='OA&GRIDCO'!MR16 -> 0 | EE16: ='OA&GRIDCO'!MU16 -> 0 | EF16: ='OA&GRIDCO'!MV16 -> 0 | EG16: ='OA&GRIDCO'!MY16+'Day Ahead IEX PXIL'!IM16+GDAM!G16+RTM!II16 -> 0 | EH16: ='OA&GRIDCO'!MZ16+'Day Ahead IEX PXIL'!IN16+RTM!IJ16+GDAM!H16 -> 0 | EI16: ='Day Ahead IEX PXIL'!IQ16+RTM!IM16+'OA&GRIDCO'!NC16+GDAM!BO16 -> 0 | EJ16: ='Day Ahead IEX PXIL'!IR16+RTM!IN16+'OA&GRIDCO'!ND16 -> 0 | EK16: ='OA&GRIDCO'!NG16 -> 0 | EL16: ='OA&GRIDCO'!NH16 -> 0 | EM16: =RTM!IQ16 -> 0 | EN16: =RTM!IR16 -> 0 | EO16: =RTM!JC16 -> 0 | EP16: =RTM!JD16 -> 0 | EQ16: ='OA&GRIDCO'!NK16 -> 0 | ER16: ='OA&GRIDCO'!NL16 -> 0 | ES16: ='OA&GRIDCO'!NM16+RTM!HC16+'Day Ahead IEX PXIL'!IY16 -> 0 | ET16: ='OA&GRIDCO'!NP16+RTM!HD16+'Day Ahead IEX PXIL'!IZ16 -> 0 | EU16: =RTM!JG16 -> 1.55 | EV16: =RTM!JH16 -> 0 | EW16: =RTM!JK16 -> 0 | EX16: =RTM!JL16 -> 0 | EY16: =GDAM!S16+'OA&GRIDCO'!OM16+RTM!JO16 -> 0 | EZ16: =GDAM!T16+'OA&GRIDCO'!OD16+RTM!JP16 -> 0 | FA16: =GDAM!Y16+RTM!JS16 -> 0 | FB16: =GDAM!Z16+RTM!JT16 -> 0 | FC16: =RTM!JW16 -> 0 | FD16: =RTM!JX16 -> 0 | FE16: =GDAM!AE16+'OA&GRIDCO'!OU16 -> 0 | FF16: =GDAM!AF16+'OA&GRIDCO'!OV16 -> 0 | FG16: =GDAM!AK16 -> 0 | FH16: =GDAM!AL16 -> 0 | FI16: =GDAM!AQ16 -> 0 | FJ16: =GDAM!AR16 -> 0 | FK16: =GDAM!AW16 -> 0 | FL16: =GDAM!AX16 -> 0 | FM16: =GDAM!BC16 -> 0 | FN16: =GDAM!BD16 -> 0 | FO16: =GDAM!BI16 -> 0 | FP16: =GDAM!BJ16 -> 0 | FQ16: =C16+E16+G16+I16+K16+M16+O16+Q16+W16+Y16+AA16+AC16+AE16+AG16+AI16+AK16+AM16+AO16+AQ16+AS16+AU16+AW16+AY16+BA16+BC16+BE16+BG16+BI16+BK16+BM16+BO16+BQ16+BS16+BU16+BW16+BY16+CA16+CC16+CE16+CG16+CI16+CK16+CM16+CQ16+CS16+CU16+CW16+CY16+DA16+DC16+DE16+DG16+DI16+DK16+DM16+DO16+DQ16+DS16+DU16+DW16+DY16+EA16+EC16+EE16+EG16+EI16+EK16+CO16+EM16+EO16+EQ16+ES16+EU16+EW16+EY16+FA16+FC16+FE16+FG16+FI16+FK16+FM16+FO16 -> 1684.5657 | FR16: =D16+F16+H16+J16+L16+N16+P16+R16+X16+Z16+AB16+AD16+AF16+AH16+AJ16+AL16+AN16+AP16+AR16+AT16+AV16+AX16+AZ16+BB16+BD16+BH16+BJ16+BL16+BN16+BP16+BF16+BR16+BT16+BV16+BX16+BZ16+CB16+CD16+CF16+CH16+CJ16+CL16+CN16+CR16+CT16+CV16+CX16+CZ16+DB16+DD16+DF16+DH16+DJ16+DL16+DN16+DP16+DR16+DT16+DV16+DX16+DZ16+EB16+ED16+EF16+EH16+EJ16+EL16+EN16+CP16+EP16+ER16+ET16+EV16+EX16+EZ16+FB16+FD16+FF16+FH16+FJ16+FL16+FN16+FP16 -> 186.785
A17: 0130-0145 | B17: 7 | G17: 24 | H17: 0.9 | O17: 0 | Q17: 9 | R17: 0.85 | S17: 25 | U17: 37 | W17: 0 | Y17: 0 | AA17: 0 | AC17: 0 | AE17: ='OA&GRIDCO'!W17+'Day Ahead IEX PXIL'!M17+RTM!M17 -> 10.3 | AF17: ='OA&GRIDCO'!X17+'Day Ahead IEX PXIL'!N17+RTM!N17 -> 1.03 | AG17: ='OA&GRIDCO'!AC17+'Day Ahead IEX PXIL'!S17+RTM!S17 -> 1.86 | AH17: ='OA&GRIDCO'!AD17+'Day Ahead IEX PXIL'!T17+RTM!T17 -> 0 | AI17: ='OA&GRIDCO'!AU17+'Day Ahead IEX PXIL'!Y17+RTM!Y17 -> 115 | AJ17: ='OA&GRIDCO'!AV17+'Day Ahead IEX PXIL'!Z17+RTM!Z17 -> 34.5 | AK17: ='OA&GRIDCO'!BS17+'Day Ahead IEX PXIL'!AK17+RTM!AK17 -> 50 | AL17: ='OA&GRIDCO'!BT17+'Day Ahead IEX PXIL'!AL17+RTM!AL17 -> 7.12 | AM17: ='OA&GRIDCO'!BC17+'Day Ahead IEX PXIL'!AE17+RTM!AE17 -> 0 | AN17: ='OA&GRIDCO'!BD17+'Day Ahead IEX PXIL'!AF17+RTM!AF17 -> 0 | AO17: ='OA&GRIDCO'!CC17+'Day Ahead IEX PXIL'!AQ17+RTM!AQ17 -> 0 | AP17: ='OA&GRIDCO'!CD17+'Day Ahead IEX PXIL'!AR17+RTM!AR17 -> 0 | AQ17: ='OA&GRIDCO'!CO17+'Day Ahead IEX PXIL'!AW17+RTM!AW17 -> 45.08 | AR17: ='OA&GRIDCO'!CP17+'Day Ahead IEX PXIL'!AX17+RTM!AX17 -> 14 | AS17: ='OA&GRIDCO'!DA17+'Day Ahead IEX PXIL'!BC17+RTM!BC17 -> 223.81443 | AT17: ='OA&GRIDCO'!DB17+'Day Ahead IEX PXIL'!BD17+RTM!BD17 -> 0 | AU17: ='Day Ahead IEX PXIL'!BI17+RTM!BI17+'OA&GRIDCO'!OY17 -> 0 | AV17: ='Day Ahead IEX PXIL'!BJ17+RTM!BJ17+'OA&GRIDCO'!OZ17 -> 0 | AY17: 0 | AZ17: ='OA&GRIDCO'!DL17+'Day Ahead IEX PXIL'!BP17+RTM!BP17 -> 13.7 | BA17: ='OA&GRIDCO'!EC17+'Day Ahead IEX PXIL'!BU17+RTM!BU17 -> 0 | BB17: ='OA&GRIDCO'!ED17+'Day Ahead IEX PXIL'!BV17+RTM!BV17 -> 0 | BC17: ='OA&GRIDCO'!EQ17+'Day Ahead IEX PXIL'!CA17+RTM!CA17 -> 600 | BD17: ='OA&GRIDCO'!ER17+'Day Ahead IEX PXIL'!CB17+RTM!CB17 -> 103.61 | BE17: ='OA&GRIDCO'!OC17+GDAM!U17 -> 0 | BF17: ='OA&GRIDCO'!OD17+GDAM!V17 -> 0 | BI17: ='OA&GRIDCO'!EW17+'Day Ahead IEX PXIL'!CG17+RTM!CG17 -> 1.03 | BJ17: ='OA&GRIDCO'!EX17+'Day Ahead IEX PXIL'!CH17+RTM!CH17 -> 0 | BK17: ='OA&GRIDCO'!KY17+RTM!FG17+'Day Ahead IEX PXIL'!GW17 -> 0 | BL17: ='OA&GRIDCO'!KZ17+RTM!FH17+'Day Ahead IEX PXIL'!GX17 -> 0 | BM17: ='Day Ahead IEX PXIL'!CM17+RTM!CM17+'OA&GRIDCO'!FC17 -> 28 | BN17: ='OA&GRIDCO'!FD17+'Day Ahead IEX PXIL'!CN17+RTM!CN17 -> 0 | BQ17: ='OA&GRIDCO'!FQ17+'Day Ahead IEX PXIL'!CS17+RTM!CS17 -> 2.06 | BR17: ='OA&GRIDCO'!FR17+'Day Ahead IEX PXIL'!CT17+RTM!CT17 -> 0 | BS17: ='OA&GRIDCO'!JW17+'Day Ahead IEX PXIL'!FA17+RTM!EU17 -> 53.8863 | BT17: ='OA&GRIDCO'!JX17+'Day Ahead IEX PXIL'!FB17+RTM!EV17 -> 10 | BU17: ='OA&GRIDCO'!GG17+RTM!G17 -> 0 | BV17: ='OA&GRIDCO'!GH17 -> 0 | BW17: ='OA&GRIDCO'!HA17+'Day Ahead IEX PXIL'!DK17+RTM!DE17 -> 0 | BX17: ='OA&GRIDCO'!HB17 -> 0 | BY17: ='Day Ahead IEX PXIL'!GK17+RTM!FA17+'OA&GRIDCO'!LE17 -> 0 | BZ17: ='Day Ahead IEX PXIL'!GL17+RTM!FB17+'OA&GRIDCO'!LF17 -> 0 | CC17: =RTM!GI17+'Day Ahead IEX PXIL'!II17+GDAM!M17 -> 0 | CD17: =RTM!GJ17 -> 0 | CE17: ='OA&GRIDCO'!HI17+'Day Ahead IEX PXIL'!DQ17+RTM!DK17 -> 0 | CF17: ='OA&GRIDCO'!HJ17+'Day Ahead IEX PXIL'!DR17+RTM!DL17 -> 0 | CG17: ='OA&GRIDCO'!HO17+'Day Ahead IEX PXIL'!DW17+RTM!DQ17 -> 5.15 | CH17: ='OA&GRIDCO'!HP17+'Day Ahead IEX PXIL'!DX17+RTM!DR17 -> 0 | CI17: ='Day Ahead IEX PXIL'!HE17+'OA&GRIDCO'!DI17+RTM!GY17 -> 1.03 | CJ17: ='Day Ahead IEX PXIL'!HF17+'OA&GRIDCO'!DJ17 -> 0 | CK17: ='OA&GRIDCO'!KU17+'Day Ahead IEX PXIL'!DE17 -> 0 | CL17: ='OA&GRIDCO'!KV17+'Day Ahead IEX PXIL'!DF17 -> 0 | CM17: ='Day Ahead IEX PXIL'!FS17+RTM!FS17 -> 0 | CN17: ='Day Ahead IEX PXIL'!FT17 -> 0 | CO17: =RTM!IY17+'Day Ahead IEX PXIL'!IU17 -> 0 | CP17: =RTM!IZ17+'Day Ahead IEX PXIL'!IV17 -> 0 | CQ17: ='OA&GRIDCO'!KI17+'Day Ahead IEX PXIL'!FM17+RTM!GE17 -> 0 | CR17: ='OA&GRIDCO'!KJ17+'Day Ahead IEX PXIL'!FN17 -> 0 | CS17: ='OA&GRIDCO'!KO17+'Day Ahead IEX PXIL'!FY17+RTM!FY17 -> 0 | CT17: ='Day Ahead IEX PXIL'!FZ17 -> 0 | CU17: 0 | CV17: ='Day Ahead IEX PXIL'!GF17 -> 0 | CW17: ='OA&GRIDCO'!HU17+'Day Ahead IEX PXIL'!EC17+RTM!DW17 -> 400 | CX17: ='OA&GRIDCO'!HV17+'Day Ahead IEX PXIL'!ED17+RTM!DX17 -> 0 | CY17: ='OA&GRIDCO'!IG17+'Day Ahead IEX PXIL'!EI17+RTM!EC17 -> 4.3 | CZ17: ='OA&GRIDCO'!IH17+'Day Ahead IEX PXIL'!EJ17+RTM!ED17 -> 1.075 | DA17: ='OA&GRIDCO'!IU17+'Day Ahead IEX PXIL'!EO17+RTM!EI17 -> 0 | DB17: ='OA&GRIDCO'!IV17+'Day Ahead IEX PXIL'!EP17+RTM!EJ17 -> 0 | DE17: ='Day Ahead IEX PXIL'!FC17+'OA&GRIDCO'!KC17+RTM!GM17 -> 0 | DF17: ='Day Ahead IEX PXIL'!FD17+'OA&GRIDCO'!KD17 -> 0 | DG17: ='OA&GRIDCO'!JG17+'Day Ahead IEX PXIL'!EU17+RTM!EO17 -> 26.8 | DH17: ='OA&GRIDCO'!JH17+'Day Ahead IEX PXIL'!EV17+RTM!EP17 -> 0 | DI17: 0 | DJ17: 0 | DK17: =RTM!FM17 -> 0 | DL17: =RTM!FN17 -> 0 | DM17: ='OA&GRIDCO'!LH17+'Day Ahead IEX PXIL'!HU17+'Day Ahead IEX PXIL'!HU17 -> 0 | DN17: ='OA&GRIDCO'!LJ17+'Day Ahead IEX PXIL'!HV17+RTM!GV17 -> 0 | DO17: ='OA&GRIDCO'!LU17+'Day Ahead IEX PXIL'!HO17+RTM!IU17 -> 54.795 | DP17: ='OA&GRIDCO'!LV17+'Day Ahead IEX PXIL'!HP17+RTM!IV17 -> 0 | DQ17: =RTM!HK17 -> 1.24 | DR17: =RTM!HL17 -> 0 | DS17: =RTM!HO17 -> 0 | DT17: =RTM!HP17 -> 0 | DU17: =RTM!HS17 -> 0 | DV17: =RTM!HT17 -> 0 | DW17: =RTM!HW17+'OA&GRIDCO'!MK17 -> 23.71 | DX17: =RTM!HX17 -> 0 | DY17: =RTM!IA17 -> 0 | DZ17: =RTM!IB17 -> 0 | EA17: =RTM!IC17 -> 0 | EB17: =RTM!ID17 -> 0 | EC17: ='OA&GRIDCO'!MQ17 -> 0 | ED17: ='OA&GRIDCO'!MR17 -> 0 | EE17: ='OA&GRIDCO'!MU17 -> 0 | EF17: ='OA&GRIDCO'!MV17 -> 0 | EG17: ='OA&GRIDCO'!MY17+'Day Ahead IEX PXIL'!IM17+GDAM!G17+RTM!II17 -> 0 | EH17: ='OA&GRIDCO'!MZ17+'Day Ahead IEX PXIL'!IN17+RTM!IJ17+GDAM!H17 -> 0 | EI17: ='Day Ahead IEX PXIL'!IQ17+RTM!IM17+'OA&GRIDCO'!NC17+GDAM!BO17 -> 0 | EJ17: ='Day Ahead IEX PXIL'!IR17+RTM!IN17+'OA&GRIDCO'!ND17 -> 0 | EK17: ='OA&GRIDCO'!NG17 -> 0 | EL17: ='OA&GRIDCO'!NH17 -> 0 | EM17: =RTM!IQ17 -> 0 | EN17: =RTM!IR17 -> 0 | EO17: =RTM!JC17 -> 0 | EP17: =RTM!JD17 -> 0 | EQ17: ='OA&GRIDCO'!NK17 -> 0 | ER17: ='OA&GRIDCO'!NL17 -> 0 | ES17: ='OA&GRIDCO'!NM17+RTM!HC17+'Day Ahead IEX PXIL'!IY17 -> 0 | ET17: ='OA&GRIDCO'!NP17+RTM!HD17+'Day Ahead IEX PXIL'!IZ17 -> 0 | EU17: =RTM!JG17 -> 1.55 | EV17: =RTM!JH17 -> 0 | EW17: =RTM!JK17 -> 0 | EX17: =RTM!JL17 -> 0 | EY17: =GDAM!S17+'OA&GRIDCO'!OM17+RTM!JO17 -> 0 | EZ17: =GDAM!T17+'OA&GRIDCO'!OD17+RTM!JP17 -> 0 | FA17: =GDAM!Y17+RTM!JS17 -> 0 | FB17: =GDAM!Z17+RTM!JT17 -> 0 | FC17: =RTM!JW17 -> 0 | FD17: =RTM!JX17 -> 0 | FE17: =GDAM!AE17+'OA&GRIDCO'!OU17 -> 0 | FF17: =GDAM!AF17+'OA&GRIDCO'!OV17 -> 0 | FG17: =GDAM!AK17 -> 0 | FH17: =GDAM!AL17 -> 0 | FI17: =GDAM!AQ17 -> 0 | FJ17: =GDAM!AR17 -> 0 | FK17: =GDAM!AW17 -> 0 | FL17: =GDAM!AX17 -> 0 | FM17: =GDAM!BC17 -> 0 | FN17: =GDAM!BD17 -> 0 | FO17: =GDAM!BI17 -> 0 | FP17: =GDAM!BJ17 -> 0 | FQ17: =C17+E17+G17+I17+K17+M17+O17+Q17+W17+Y17+AA17+AC17+AE17+AG17+AI17+AK17+AM17+AO17+AQ17+AS17+AU17+AW17+AY17+BA17+BC17+BE17+BG17+BI17+BK17+BM17+BO17+BQ17+BS17+BU17+BW17+BY17+CA17+CC17+CE17+CG17+CI17+CK17+CM17+CQ17+CS17+CU17+CW17+CY17+DA17+DC17+DE17+DG17+DI17+DK17+DM17+DO17+DQ17+DS17+DU17+DW17+DY17+EA17+EC17+EE17+EG17+EI17+EK17+CO17+EM17+EO17+EQ17+ES17+EU17+EW17+EY17+FA17+FC17+FE17+FG17+FI17+FK17+FM17+FO17 -> 1682.6057 | FR17: =D17+F17+H17+J17+L17+N17+P17+R17+X17+Z17+AB17+AD17+AF17+AH17+AJ17+AL17+AN17+AP17+AR17+AT17+AV17+AX17+AZ17+BB17+BD17+BH17+BJ17+BL17+BN17+BP17+BF17+BR17+BT17+BV17+BX17+BZ17+CB17+CD17+CF17+CH17+CJ17+CL17+CN17+CR17+CT17+CV17+CX17+CZ17+DB17+DD17+DF17+DH17+DJ17+DL17+DN17+DP17+DR17+DT17+DV17+DX17+DZ17+EB17+ED17+EF17+EH17+EJ17+EL17+EN17+CP17+EP17+ER17+ET17+EV17+EX17+EZ17+FB17+FD17+FF17+FH17+FJ17+FL17+FN17+FP17 -> 186.785
A18: 0145-0200 | B18: 8 | G18: 24 | H18: 0.9 | O18: 0 | Q18: 9 | R18: 0.85 | S18: 25 | U18: 37 | W18: 0 | Y18: 0 | AA18: 0 | AC18: 0 | AE18: ='OA&GRIDCO'!W18+'Day Ahead IEX PXIL'!M18+RTM!M18 -> 10.3 | AF18: ='OA&GRIDCO'!X18+'Day Ahead IEX PXIL'!N18+RTM!N18 -> 1.03 | AG18: ='OA&GRIDCO'!AC18+'Day Ahead IEX PXIL'!S18+RTM!S18 -> 1.86 | AH18: ='OA&GRIDCO'!AD18+'Day Ahead IEX PXIL'!T18+RTM!T18 -> 0 | AI18: ='OA&GRIDCO'!AU18+'Day Ahead IEX PXIL'!Y18+RTM!Y18 -> 115 | AJ18: ='OA&GRIDCO'!AV18+'Day Ahead IEX PXIL'!Z18+RTM!Z18 -> 34.5 | AK18: ='OA&GRIDCO'!BS18+'Day Ahead IEX PXIL'!AK18+RTM!AK18 -> 50 | AL18: ='OA&GRIDCO'!BT18+'Day Ahead IEX PXIL'!AL18+RTM!AL18 -> 7.12 | AM18: ='OA&GRIDCO'!BC18+'Day Ahead IEX PXIL'!AE18+RTM!AE18 -> 0 | AN18: ='OA&GRIDCO'!BD18+'Day Ahead IEX PXIL'!AF18+RTM!AF18 -> 0 | AO18: ='OA&GRIDCO'!CC18+'Day Ahead IEX PXIL'!AQ18+RTM!AQ18 -> 0 | AP18: ='OA&GRIDCO'!CD18+'Day Ahead IEX PXIL'!AR18+RTM!AR18 -> 0 | AQ18: ='OA&GRIDCO'!CO18+'Day Ahead IEX PXIL'!AW18+RTM!AW18 -> 45.08 | AR18: ='OA&GRIDCO'!CP18+'Day Ahead IEX PXIL'!AX18+RTM!AX18 -> 14 | AS18: ='OA&GRIDCO'!DA18+'Day Ahead IEX PXIL'!BC18+RTM!BC18 -> 223.81443 | AT18: ='OA&GRIDCO'!DB18+'Day Ahead IEX PXIL'!BD18+RTM!BD18 -> 0 | AU18: ='Day Ahead IEX PXIL'!BI18+RTM!BI18+'OA&GRIDCO'!OY18 -> 0 | AV18: ='Day Ahead IEX PXIL'!BJ18+RTM!BJ18+'OA&GRIDCO'!OZ18 -> 0 | AY18: 0 | AZ18: ='OA&GRIDCO'!DL18+'Day Ahead IEX PXIL'!BP18+RTM!BP18 -> 13.7 | BA18: ='OA&GRIDCO'!EC18+'Day Ahead IEX PXIL'!BU18+RTM!BU18 -> 0 | BB18: ='OA&GRIDCO'!ED18+'Day Ahead IEX PXIL'!BV18+RTM!BV18 -> 0 | BC18: ='OA&GRIDCO'!EQ18+'Day Ahead IEX PXIL'!CA18+RTM!CA18 -> 600 | BD18: ='OA&GRIDCO'!ER18+'Day Ahead IEX PXIL'!CB18+RTM!CB18 -> 103.61 | BE18: ='OA&GRIDCO'!OC18+GDAM!U18 -> 0 | BF18: ='OA&GRIDCO'!OD18+GDAM!V18 -> 0 | BI18: ='OA&GRIDCO'!EW18+'Day Ahead IEX PXIL'!CG18+RTM!CG18 -> 1.03 | BJ18: ='OA&GRIDCO'!EX18+'Day Ahead IEX PXIL'!CH18+RTM!CH18 -> 0 | BK18: ='OA&GRIDCO'!KY18+RTM!FG18+'Day Ahead IEX PXIL'!GW18 -> 0 | BL18: ='OA&GRIDCO'!KZ18+RTM!FH18+'Day Ahead IEX PXIL'!GX18 -> 0 | BM18: ='Day Ahead IEX PXIL'!CM18+RTM!CM18+'OA&GRIDCO'!FC18 -> 28 | BN18: ='OA&GRIDCO'!FD18+'Day Ahead IEX PXIL'!CN18+RTM!CN18 -> 0 | BQ18: ='OA&GRIDCO'!FQ18+'Day Ahead IEX PXIL'!CS18+RTM!CS18 -> 2.06 | BR18: ='OA&GRIDCO'!FR18+'Day Ahead IEX PXIL'!CT18+RTM!CT18 -> 0 | BS18: ='OA&GRIDCO'!JW18+'Day Ahead IEX PXIL'!FA18+RTM!EU18 -> 53.8863 | BT18: ='OA&GRIDCO'!JX18+'Day Ahead IEX PXIL'!FB18+RTM!EV18 -> 10 | BU18: ='OA&GRIDCO'!GG18+RTM!G18 -> 0 | BV18: ='OA&GRIDCO'!GH18 -> 0 | BW18: ='OA&GRIDCO'!HA18+'Day Ahead IEX PXIL'!DK18+RTM!DE18 -> 0 | BX18: ='OA&GRIDCO'!HB18 -> 0 | BY18: ='Day Ahead IEX PXIL'!GK18+RTM!FA18+'OA&GRIDCO'!LE18 -> 0 | BZ18: ='Day Ahead IEX PXIL'!GL18+RTM!FB18+'OA&GRIDCO'!LF18 -> 0 | CC18: =RTM!GI18+'Day Ahead IEX PXIL'!II18+GDAM!M18 -> 0 | CD18: =RTM!GJ18 -> 0 | CE18: ='OA&GRIDCO'!HI18+'Day Ahead IEX PXIL'!DQ18+RTM!DK18 -> 0 | CF18: ='OA&GRIDCO'!HJ18+'Day Ahead IEX PXIL'!DR18+RTM!DL18 -> 0 | CG18: ='OA&GRIDCO'!HO18+'Day Ahead IEX PXIL'!DW18+RTM!DQ18 -> 5.15 | CH18: ='OA&GRIDCO'!HP18+'Day Ahead IEX PXIL'!DX18+RTM!DR18 -> 0 | CI18: ='Day Ahead IEX PXIL'!HE18+'OA&GRIDCO'!DI18+RTM!GY18 -> 1.03 | CJ18: ='Day Ahead IEX PXIL'!HF18+'OA&GRIDCO'!DJ18 -> 0 | CK18: ='OA&GRIDCO'!KU18+'Day Ahead IEX PXIL'!DE18 -> 0 | CL18: ='OA&GRIDCO'!KV18+'Day Ahead IEX PXIL'!DF18 -> 0 | CM18: ='Day Ahead IEX PXIL'!FS18+RTM!FS18 -> 0 | CN18: ='Day Ahead IEX PXIL'!FT18 -> 0 | CO18: =RTM!IY18+'Day Ahead IEX PXIL'!IU18 -> 0 | CP18: =RTM!IZ18+'Day Ahead IEX PXIL'!IV18 -> 0 | CQ18: ='OA&GRIDCO'!KI18+'Day Ahead IEX PXIL'!FM18+RTM!GE18 -> 0 | CR18: ='OA&GRIDCO'!KJ18+'Day Ahead IEX PXIL'!FN18 -> 0 | CS18: ='OA&GRIDCO'!KO18+'Day Ahead IEX PXIL'!FY18+RTM!FY18 -> 0 | CT18: ='Day Ahead IEX PXIL'!FZ18 -> 0 | CU18: 0 | CV18: ='Day Ahead IEX PXIL'!GF18 -> 0 | CW18: ='OA&GRIDCO'!HU18+'Day Ahead IEX PXIL'!EC18+RTM!DW18 -> 400 | CX18: ='OA&GRIDCO'!HV18+'Day Ahead IEX PXIL'!ED18+RTM!DX18 -> 0 | CY18: ='OA&GRIDCO'!IG18+'Day Ahead IEX PXIL'!EI18+RTM!EC18 -> 4.3 | CZ18: ='OA&GRIDCO'!IH18+'Day Ahead IEX PXIL'!EJ18+RTM!ED18 -> 1.075 | DA18: ='OA&GRIDCO'!IU18+'Day Ahead IEX PXIL'!EO18+RTM!EI18 -> 0 | DB18: ='OA&GRIDCO'!IV18+'Day Ahead IEX PXIL'!EP18+RTM!EJ18 -> 0 | DE18: ='Day Ahead IEX PXIL'!FC18+'OA&GRIDCO'!KC18+RTM!GM18 -> 0 | DF18: ='Day Ahead IEX PXIL'!FD18+'OA&GRIDCO'!KD18 -> 0 | DG18: ='OA&GRIDCO'!JG18+'Day Ahead IEX PXIL'!EU18+RTM!EO18 -> 26.8 | DH18: ='OA&GRIDCO'!JH18+'Day Ahead IEX PXIL'!EV18+RTM!EP18 -> 0 | DI18: 0 | DJ18: 0 | DK18: =RTM!FM18 -> 0 | DL18: =RTM!FN18 -> 0 | DM18: ='OA&GRIDCO'!LH18+'Day Ahead IEX PXIL'!HU18+'Day Ahead IEX PXIL'!HU18 -> 0 | DN18: ='OA&GRIDCO'!LJ18+'Day Ahead IEX PXIL'!HV18+RTM!GV18 -> 0 | DO18: ='OA&GRIDCO'!LU18+'Day Ahead IEX PXIL'!HO18+RTM!IU18 -> 54.795 | DP18: ='OA&GRIDCO'!LV18+'Day Ahead IEX PXIL'!HP18+RTM!IV18 -> 0 | DQ18: =RTM!HK18 -> 1.24 | DR18: =RTM!HL18 -> 0 | DS18: =RTM!HO18 -> 0 | DT18: =RTM!HP18 -> 0 | DU18: =RTM!HS18 -> 0 | DV18: =RTM!HT18 -> 0 | DW18: =RTM!HW18+'OA&GRIDCO'!MK18 -> 23.71 | DX18: =RTM!HX18 -> 0 | DY18: =RTM!IA18 -> 0 | DZ18: =RTM!IB18 -> 0 | EA18: =RTM!IC18 -> 0 | EB18: =RTM!ID18 -> 0 | EC18: ='OA&GRIDCO'!MQ18 -> 0 | ED18: ='OA&GRIDCO'!MR18 -> 0 | EE18: ='OA&GRIDCO'!MU18 -> 0 | EF18: ='OA&GRIDCO'!MV18 -> 0 | EG18: ='OA&GRIDCO'!MY18+'Day Ahead IEX PXIL'!IM18+GDAM!G18+RTM!II18 -> 0 | EH18: ='OA&GRIDCO'!MZ18+'Day Ahead IEX PXIL'!IN18+RTM!IJ18+GDAM!H18 -> 0 | EI18: ='Day Ahead IEX PXIL'!IQ18+RTM!IM18+'OA&GRIDCO'!NC18+GDAM!BO18 -> 0 | EJ18: ='Day Ahead IEX PXIL'!IR18+RTM!IN18+'OA&GRIDCO'!ND18 -> 0 | EK18: ='OA&GRIDCO'!NG18 -> 0 | EL18: ='OA&GRIDCO'!NH18 -> 0 | EM18: =RTM!IQ18 -> 0 | EN18: =RTM!IR18 -> 0 | EO18: =RTM!JC18 -> 0 | EP18: =RTM!JD18 -> 0 | EQ18: ='OA&GRIDCO'!NK18 -> 0 | ER18: ='OA&GRIDCO'!NL18 -> 0 | ES18: ='OA&GRIDCO'!NM18+RTM!HC18+'Day Ahead IEX PXIL'!IY18 -> 0 | ET18: ='OA&GRIDCO'!NP18+RTM!HD18+'Day Ahead IEX PXIL'!IZ18 -> 0 | EU18: =RTM!JG18 -> 1.55 | EV18: =RTM!JH18 -> 0 | EW18: =RTM!JK18 -> 0 | EX18: =RTM!JL18 -> 0 | EY18: =GDAM!S18+'OA&GRIDCO'!OM18+RTM!JO18 -> 0 | EZ18: =GDAM!T18+'OA&GRIDCO'!OD18+RTM!JP18 -> 0 | FA18: =GDAM!Y18+RTM!JS18 -> 0 | FB18: =GDAM!Z18+RTM!JT18 -> 0 | FC18: =RTM!JW18 -> 0 | FD18: =RTM!JX18 -> 0 | FE18: =GDAM!AE18+'OA&GRIDCO'!OU18 -> 0 | FF18: =GDAM!AF18+'OA&GRIDCO'!OV18 -> 0 | FG18: =GDAM!AK18 -> 0 | FH18: =GDAM!AL18 -> 0 | FI18: =GDAM!AQ18 -> 0 | FJ18: =GDAM!AR18 -> 0 | FK18: =GDAM!AW18 -> 0 | FL18: =GDAM!AX18 -> 0 | FM18: =GDAM!BC18 -> 0 | FN18: =GDAM!BD18 -> 0 | FO18: =GDAM!BI18 -> 0 | FP18: =GDAM!BJ18 -> 0 | FQ18: =C18+E18+G18+I18+K18+M18+O18+Q18+W18+Y18+AA18+AC18+AE18+AG18+AI18+AK18+AM18+AO18+AQ18+AS18+AU18+AW18+AY18+BA18+BC18+BE18+BG18+BI18+BK18+BM18+BO18+BQ18+BS18+BU18+BW18+BY18+CA18+CC18+CE18+CG18+CI18+CK18+CM18+CQ18+CS18+CU18+CW18+CY18+DA18+DC18+DE18+DG18+DI18+DK18+DM18+DO18+DQ18+DS18+DU18+DW18+DY18+EA18+EC18+EE18+EG18+EI18+EK18+CO18+EM18+EO18+EQ18+ES18+EU18+EW18+EY18+FA18+FC18+FE18+FG18+FI18+FK18+FM18+FO18 -> 1682.6057 | FR18: =D18+F18+H18+J18+L18+N18+P18+R18+X18+Z18+AB18+AD18+AF18+AH18+AJ18+AL18+AN18+AP18+AR18+AT18+AV18+AX18+AZ18+BB18+BD18+BH18+BJ18+BL18+BN18+BP18+BF18+BR18+BT18+BV18+BX18+BZ18+CB18+CD18+CF18+CH18+CJ18+CL18+CN18+CR18+CT18+CV18+CX18+CZ18+DB18+DD18+DF18+DH18+DJ18+DL18+DN18+DP18+DR18+DT18+DV18+DX18+DZ18+EB18+ED18+EF18+EH18+EJ18+EL18+EN18+CP18+EP18+ER18+ET18+EV18+EX18+EZ18+FB18+FD18+FF18+FH18+FJ18+FL18+FN18+FP18 -> 186.785
A19: 0200-0215 | B19: 9 | G19: 24 | H19: 0.9 | O19: 0 | Q19: 9 | R19: 0.85 | S19: 25 | U19: 37 | W19: 0 | Y19: 0 | AA19: 0 | AC19: 0 | AE19: ='OA&GRIDCO'!W19+'Day Ahead IEX PXIL'!M19+RTM!M19 -> 10.3 | AF19: ='OA&GRIDCO'!X19+'Day Ahead IEX PXIL'!N19+RTM!N19 -> 1.03 | AG19: ='OA&GRIDCO'!AC19+'Day Ahead IEX PXIL'!S19+RTM!S19 -> 1.86 | AH19: ='OA&GRIDCO'!AD19+'Day Ahead IEX PXIL'!T19+RTM!T19 -> 0 | AI19: ='OA&GRIDCO'!AU19+'Day Ahead IEX PXIL'!Y19+RTM!Y19 -> 115 | AJ19: ='OA&GRIDCO'!AV19+'Day Ahead IEX PXIL'!Z19+RTM!Z19 -> 34.5 | AK19: ='OA&GRIDCO'!BS19+'Day Ahead IEX PXIL'!AK19+RTM!AK19 -> 50 | AL19: ='OA&GRIDCO'!BT19+'Day Ahead IEX PXIL'!AL19+RTM!AL19 -> 7.12 | AM19: ='OA&GRIDCO'!BC19+'Day Ahead IEX PXIL'!AE19+RTM!AE19 -> 0 | AN19: ='OA&GRIDCO'!BD19+'Day Ahead IEX PXIL'!AF19+RTM!AF19 -> 0 | AO19: ='OA&GRIDCO'!CC19+'Day Ahead IEX PXIL'!AQ19+RTM!AQ19 -> 0 | AP19: ='OA&GRIDCO'!CD19+'Day Ahead IEX PXIL'!AR19+RTM!AR19 -> 0 | AQ19: ='OA&GRIDCO'!CO19+'Day Ahead IEX PXIL'!AW19+RTM!AW19 -> 45.08 | AR19: ='OA&GRIDCO'!CP19+'Day Ahead IEX PXIL'!AX19+RTM!AX19 -> 14 | AS19: ='OA&GRIDCO'!DA19+'Day Ahead IEX PXIL'!BC19+RTM!BC19 -> 243.81443 | AT19: ='OA&GRIDCO'!DB19+'Day Ahead IEX PXIL'!BD19+RTM!BD19 -> 0 | AU19: ='Day Ahead IEX PXIL'!BI19+RTM!BI19+'OA&GRIDCO'!OY19 -> 0 | AV19: ='Day Ahead IEX PXIL'!BJ19+RTM!BJ19+'OA&GRIDCO'!OZ19 -> 0 | AY19: 0 | AZ19: ='OA&GRIDCO'!DL19+'Day Ahead IEX PXIL'!BP19+RTM!BP19 -> 13.7 | BA19: ='OA&GRIDCO'!EC19+'Day Ahead IEX PXIL'!BU19+RTM!BU19 -> 0 | BB19: ='OA&GRIDCO'!ED19+'Day Ahead IEX PXIL'!BV19+RTM!BV19 -> 0 | BC19: ='OA&GRIDCO'!EQ19+'Day Ahead IEX PXIL'!CA19+RTM!CA19 -> 600 | BD19: ='OA&GRIDCO'!ER19+'Day Ahead IEX PXIL'!CB19+RTM!CB19 -> 103.61 | BE19: ='OA&GRIDCO'!OC19+GDAM!U19 -> 0 | BF19: ='OA&GRIDCO'!OD19+GDAM!V19 -> 0 | BI19: ='OA&GRIDCO'!EW19+'Day Ahead IEX PXIL'!CG19+RTM!CG19 -> 1.03 | BJ19: ='OA&GRIDCO'!EX19+'Day Ahead IEX PXIL'!CH19+RTM!CH19 -> 0 | BK19: ='OA&GRIDCO'!KY19+RTM!FG19+'Day Ahead IEX PXIL'!GW19 -> 0 | BL19: ='OA&GRIDCO'!KZ19+RTM!FH19+'Day Ahead IEX PXIL'!GX19 -> 0 | BM19: ='Day Ahead IEX PXIL'!CM19+RTM!CM19+'OA&GRIDCO'!FC19 -> 28 | BN19: ='OA&GRIDCO'!FD19+'Day Ahead IEX PXIL'!CN19+RTM!CN19 -> 0 | BQ19: ='OA&GRIDCO'!FQ19+'Day Ahead IEX PXIL'!CS19+RTM!CS19 -> 2.06 | BR19: ='OA&GRIDCO'!FR19+'Day Ahead IEX PXIL'!CT19+RTM!CT19 -> 0 | BS19: ='OA&GRIDCO'!JW19+'Day Ahead IEX PXIL'!FA19+RTM!EU19 -> 53.8863 | BT19: ='OA&GRIDCO'!JX19+'Day Ahead IEX PXIL'!FB19+RTM!EV19 -> 11 | BU19: ='OA&GRIDCO'!GG19+RTM!G19 -> 0 | BV19: ='OA&GRIDCO'!GH19 -> 0 | BW19: ='OA&GRIDCO'!HA19+'Day Ahead IEX PXIL'!DK19+RTM!DE19 -> 0 | BX19: ='OA&GRIDCO'!HB19 -> 0 | BY19: ='Day Ahead IEX PXIL'!GK19+RTM!FA19+'OA&GRIDCO'!LE19 -> 0 | BZ19: ='Day Ahead IEX PXIL'!GL19+RTM!FB19+'OA&GRIDCO'!LF19 -> 0 | CC19: =RTM!GI19+'Day Ahead IEX PXIL'!II19+GDAM!M19 -> 0 | CD19: =RTM!GJ19 -> 0 | CE19: ='OA&GRIDCO'!HI19+'Day Ahead IEX PXIL'!DQ19+RTM!DK19 -> 0 | CF19: ='OA&GRIDCO'!HJ19+'Day Ahead IEX PXIL'!DR19+RTM!DL19 -> 0 | CG19: ='OA&GRIDCO'!HO19+'Day Ahead IEX PXIL'!DW19+RTM!DQ19 -> 5.15 | CH19: ='OA&GRIDCO'!HP19+'Day Ahead IEX PXIL'!DX19+RTM!DR19 -> 0 | CI19: ='Day Ahead IEX PXIL'!HE19+'OA&GRIDCO'!DI19+RTM!GY19 -> 1.03 | CJ19: ='Day Ahead IEX PXIL'!HF19+'OA&GRIDCO'!DJ19 -> 0 | CK19: ='OA&GRIDCO'!KU19+'Day Ahead IEX PXIL'!DE19 -> 0 | CL19: ='OA&GRIDCO'!KV19+'Day Ahead IEX PXIL'!DF19 -> 0 | CM19: ='Day Ahead IEX PXIL'!FS19+RTM!FS19 -> 0 | CN19: ='Day Ahead IEX PXIL'!FT19 -> 0 | CO19: =RTM!IY19+'Day Ahead IEX PXIL'!IU19 -> 0 | CP19: =RTM!IZ19+'Day Ahead IEX PXIL'!IV19 -> 0 | CQ19: ='OA&GRIDCO'!KI19+'Day Ahead IEX PXIL'!FM19+RTM!GE19 -> 0 | CR19: ='OA&GRIDCO'!KJ19+'Day Ahead IEX PXIL'!FN19 -> 0 | CS19: ='OA&GRIDCO'!KO19+'Day Ahead IEX PXIL'!FY19+RTM!FY19 -> 0 | CT19: ='Day Ahead IEX PXIL'!FZ19 -> 0 | CU19: 0 | CV19: ='Day Ahead IEX PXIL'!GF19 -> 0 | CW19: ='OA&GRIDCO'!HU19+'Day Ahead IEX PXIL'!EC19+RTM!DW19 -> 400 | CX19: ='OA&GRIDCO'!HV19+'Day Ahead IEX PXIL'!ED19+RTM!DX19 -> 0 | CY19: ='OA&GRIDCO'!IG19+'Day Ahead IEX PXIL'!EI19+RTM!EC19 -> 4.3 | CZ19: ='OA&GRIDCO'!IH19+'Day Ahead IEX PXIL'!EJ19+RTM!ED19 -> 1.075 | DA19: ='OA&GRIDCO'!IU19+'Day Ahead IEX PXIL'!EO19+RTM!EI19 -> 0 | DB19: ='OA&GRIDCO'!IV19+'Day Ahead IEX PXIL'!EP19+RTM!EJ19 -> 0 | DE19: ='Day Ahead IEX PXIL'!FC19+'OA&GRIDCO'!KC19+RTM!GM19 -> 0 | DF19: ='Day Ahead IEX PXIL'!FD19+'OA&GRIDCO'!KD19 -> 0 | DG19: ='OA&GRIDCO'!JG19+'Day Ahead IEX PXIL'!EU19+RTM!EO19 -> 26.8 | DH19: ='OA&GRIDCO'!JH19+'Day Ahead IEX PXIL'!EV19+RTM!EP19 -> 0 | DI19: 0 | DJ19: 0 | DK19: =RTM!FM19 -> 0 | DL19: =RTM!FN19 -> 0 | DM19: ='OA&GRIDCO'!LH19+'Day Ahead IEX PXIL'!HU19+'Day Ahead IEX PXIL'!HU19 -> 0 | DN19: ='OA&GRIDCO'!LJ19+'Day Ahead IEX PXIL'!HV19+RTM!GV19 -> 0 | DO19: ='OA&GRIDCO'!LU19+'Day Ahead IEX PXIL'!HO19+RTM!IU19 -> 54.795 | DP19: ='OA&GRIDCO'!LV19+'Day Ahead IEX PXIL'!HP19+RTM!IV19 -> 0 | DQ19: =RTM!HK19 -> 1.24 | DR19: =RTM!HL19 -> 0 | DS19: =RTM!HO19 -> 0 | DT19: =RTM!HP19 -> 0 | DU19: =RTM!HS19 -> 0 | DV19: =RTM!HT19 -> 0 | DW19: =RTM!HW19+'OA&GRIDCO'!MK19 -> 23.71 | DX19: =RTM!HX19 -> 0 | DY19: =RTM!IA19 -> 0 | DZ19: =RTM!IB19 -> 0 | EA19: =RTM!IC19 -> 0 | EB19: =RTM!ID19 -> 0 | EC19: ='OA&GRIDCO'!MQ19 -> 0 | ED19: ='OA&GRIDCO'!MR19 -> 0 | EE19: ='OA&GRIDCO'!MU19 -> 0 | EF19: ='OA&GRIDCO'!MV19 -> 0 | EG19: ='OA&GRIDCO'!MY19+'Day Ahead IEX PXIL'!IM19+GDAM!G19+RTM!II19 -> 0 | EH19: ='OA&GRIDCO'!MZ19+'Day Ahead IEX PXIL'!IN19+RTM!IJ19+GDAM!H19 -> 0 | EI19: ='Day Ahead IEX PXIL'!IQ19+RTM!IM19+'OA&GRIDCO'!NC19+GDAM!BO19 -> 0 | EJ19: ='Day Ahead IEX PXIL'!IR19+RTM!IN19+'OA&GRIDCO'!ND19 -> 0 | EK19: ='OA&GRIDCO'!NG19 -> 0 | EL19: ='OA&GRIDCO'!NH19 -> 0 | EM19: =RTM!IQ19 -> 0 | EN19: =RTM!IR19 -> 0 | EO19: =RTM!JC19 -> 0 | EP19: =RTM!JD19 -> 0 | EQ19: ='OA&GRIDCO'!NK19 -> 0 | ER19: ='OA&GRIDCO'!NL19 -> 0 | ES19: ='Day Ahead IEX PXIL'!IY19 -> 0 | ET19: ='OA&GRIDCO'!NP19+RTM!HD19+'Day Ahead IEX PXIL'!IZ19 -> 0 | EU19: =RTM!JG19 -> 1.55 | EV19: =RTM!JH19 -> 0 | EW19: =RTM!JK19 -> 0 | EX19: =RTM!JL19 -> 0 | EY19: =GDAM!S19+'OA&GRIDCO'!OM19+RTM!JO19 -> 0 | EZ19: =GDAM!T19+'OA&GRIDCO'!OD19+RTM!JP19 -> 0 | FA19: =GDAM!Y19+RTM!JS19 -> 0 | FB19: =GDAM!Z19+RTM!JT19 -> 0 | FC19: =RTM!JW19 -> 0 | FD19: =RTM!JX19 -> 0 | FE19: =GDAM!AE19+'OA&GRIDCO'!OU19 -> 0 | FF19: =GDAM!AF19+'OA&GRIDCO'!OV19 -> 0 | FG19: =GDAM!AK19 -> 0 | FH19: =GDAM!AL19 -> 0 | FI19: =GDAM!AQ19 -> 0 | FJ19: =GDAM!AR19 -> 0 | FK19: =GDAM!AW19 -> 0 | FL19: =GDAM!AX19 -> 0 | FM19: =GDAM!BC19 -> 0 | FN19: =GDAM!BD19 -> 0 | FO19: =GDAM!BI19 -> 0 | FP19: =GDAM!BJ19 -> 0 | FQ19: =C19+E19+G19+I19+K19+M19+O19+Q19+W19+Y19+AA19+AC19+AE19+AG19+AI19+AK19+AM19+AO19+AQ19+AS19+AU19+AW19+AY19+BA19+BC19+BE19+BG19+BI19+BK19+BM19+BO19+BQ19+BS19+BU19+BW19+BY19+CA19+CC19+CE19+CG19+CI19+CK19+CM19+CQ19+CS19+CU19+CW19+CY19+DA19+DC19+DE19+DG19+DI19+DK19+DM19+DO19+DQ19+DS19+DU19+DW19+DY19+EA19+EC19+EE19+EG19+EI19+EK19+CO19+EM19+EO19+EQ19+ES19+EU19+EW19+EY19+FA19+FC19+FE19+FG19+FI19+FK19+FM19+FO19 -> 1702.6057 | FR19: =D19+F19+H19+J19+L19+N19+P19+R19+X19+Z19+AB19+AD19+AF19+AH19+AJ19+AL19+AN19+AP19+AR19+AT19+AV19+AX19+AZ19+BB19+BD19+BH19+BJ19+BL19+BN19+BP19+BF19+BR19+BT19+BV19+BX19+BZ19+CB19+CD19+CF19+CH19+CJ19+CL19+CN19+CR19+CT19+CV19+CX19+CZ19+DB19+DD19+DF19+DH19+DJ19+DL19+DN19+DP19+DR19+DT19+DV19+DX19+DZ19+EB19+ED19+EF19+EH19+EJ19+EL19+EN19+CP19+EP19+ER19+ET19+EV19+EX19+EZ19+FB19+FD19+FF19+FH19+FJ19+FL19+FN19+FP19 -> 187.785
A20: 0215-0230 | B20: 10 | G20: 24 | H20: 0.9 | O20: 0 | Q20: 9 | R20: 0.85 | S20: 25 | U20: 37 | W20: 0 | Y20: 0 | AA20: 0 | AC20: 0 | AE20: ='OA&GRIDCO'!W20+'Day Ahead IEX PXIL'!M20+RTM!M20 -> 10.3 | AF20: ='OA&GRIDCO'!X20+'Day Ahead IEX PXIL'!N20+RTM!N20 -> 1.03 | AG20: ='OA&GRIDCO'!AC20+'Day Ahead IEX PXIL'!S20+RTM!S20 -> 1.86 | AH20: ='OA&GRIDCO'!AD20+'Day Ahead IEX PXIL'!T20+RTM!T20 -> 0 | AI20: ='OA&GRIDCO'!AU20+'Day Ahead IEX PXIL'!Y20+RTM!Y20 -> 115 | AJ20: ='OA&GRIDCO'!AV20+'Day Ahead IEX PXIL'!Z20+RTM!Z20 -> 34.5 | AK20: ='OA&GRIDCO'!BS20+'Day Ahead IEX PXIL'!AK20+RTM!AK20 -> 50 | AL20: ='OA&GRIDCO'!BT20+'Day Ahead IEX PXIL'!AL20+RTM!AL20 -> 7.12 | AM20: ='OA&GRIDCO'!BC20+'Day Ahead IEX PXIL'!AE20+RTM!AE20 -> 0 | AN20: ='OA&GRIDCO'!BD20+'Day Ahead IEX PXIL'!AF20+RTM!AF20 -> 0 | AO20: ='OA&GRIDCO'!CC20+'Day Ahead IEX PXIL'!AQ20+RTM!AQ20 -> 0 | AP20: ='OA&GRIDCO'!CD20+'Day Ahead IEX PXIL'!AR20+RTM!AR20 -> 0 | AQ20: ='OA&GRIDCO'!CO20+'Day Ahead IEX PXIL'!AW20+RTM!AW20 -> 45.08 | AR20: ='OA&GRIDCO'!CP20+'Day Ahead IEX PXIL'!AX20+RTM!AX20 -> 14 | AS20: ='OA&GRIDCO'!DA20+'Day Ahead IEX PXIL'!BC20+RTM!BC20 -> 273.81443 | AT20: ='OA&GRIDCO'!DB20+'Day Ahead IEX PXIL'!BD20+RTM!BD20 -> 0 | AU20: ='Day Ahead IEX PXIL'!BI20+RTM!BI20+'OA&GRIDCO'!OY20 -> 0 | AV20: ='Day Ahead IEX PXIL'!BJ20+RTM!BJ20+'OA&GRIDCO'!OZ20 -> 0 | AY20: 0 | AZ20: ='OA&GRIDCO'!DL20+'Day Ahead IEX PXIL'!BP20+RTM!BP20 -> 13.7 | BA20: ='OA&GRIDCO'!EC20+'Day Ahead IEX PXIL'!BU20+RTM!BU20 -> 0 | BB20: ='OA&GRIDCO'!ED20+'Day Ahead IEX PXIL'!BV20+RTM!BV20 -> 0 | BC20: ='OA&GRIDCO'!EQ20+'Day Ahead IEX PXIL'!CA20+RTM!CA20 -> 600 | BD20: ='OA&GRIDCO'!ER20+'Day Ahead IEX PXIL'!CB20+RTM!CB20 -> 103.61 | BE20: ='OA&GRIDCO'!OC20+GDAM!U20 -> 0 | BF20: ='OA&GRIDCO'!OD20+GDAM!V20 -> 0 | BI20: ='OA&GRIDCO'!EW20+'Day Ahead IEX PXIL'!CG20+RTM!CG20 -> 1.03 | BJ20: ='OA&GRIDCO'!EX20+'Day Ahead IEX PXIL'!CH20+RTM!CH20 -> 0 | BK20: ='OA&GRIDCO'!KY20+RTM!FG20+'Day Ahead IEX PXIL'!GW20 -> 0 | BL20: ='OA&GRIDCO'!KZ20+RTM!FH20+'Day Ahead IEX PXIL'!GX20 -> 0 | BM20: ='Day Ahead IEX PXIL'!CM20+RTM!CM20+'OA&GRIDCO'!FC20 -> 28 | BN20: ='OA&GRIDCO'!FD20+'Day Ahead IEX PXIL'!CN20+RTM!CN20 -> 0 | BQ20: ='OA&GRIDCO'!FQ20+'Day Ahead IEX PXIL'!CS20+RTM!CS20 -> 2.06 | BR20: ='OA&GRIDCO'!FR20+'Day Ahead IEX PXIL'!CT20+RTM!CT20 -> 0 | BS20: ='OA&GRIDCO'!JW20+'Day Ahead IEX PXIL'!FA20+RTM!EU20 -> 53.8863 | BT20: ='OA&GRIDCO'!JX20+'Day Ahead IEX PXIL'!FB20+RTM!EV20 -> 11 | BU20: ='OA&GRIDCO'!GG20+RTM!G20 -> 0 | BV20: ='OA&GRIDCO'!GH20 -> 0 | BW20: ='OA&GRIDCO'!HA20+'Day Ahead IEX PXIL'!DK20+RTM!DE20 -> 0 | BX20: ='OA&GRIDCO'!HB20 -> 0 | BY20: ='Day Ahead IEX PXIL'!GK20+RTM!FA20+'OA&GRIDCO'!LE20 -> 0 | BZ20: ='Day Ahead IEX PXIL'!GL20+RTM!FB20+'OA&GRIDCO'!LF20 -> 0 | CC20: =RTM!GI20+'Day Ahead IEX PXIL'!II20+GDAM!M20 -> 0 | CD20: =RTM!GJ20 -> 0 | CE20: ='OA&GRIDCO'!HI20+'Day Ahead IEX PXIL'!DQ20+RTM!DK20 -> 0 | CF20: ='OA&GRIDCO'!HJ20+'Day Ahead IEX PXIL'!DR20+RTM!DL20 -> 0 | CG20: ='OA&GRIDCO'!HO20+'Day Ahead IEX PXIL'!DW20+RTM!DQ20 -> 5.15 | CH20: ='OA&GRIDCO'!HP20+'Day Ahead IEX PXIL'!DX20+RTM!DR20 -> 0 | CI20: ='Day Ahead IEX PXIL'!HE20+'OA&GRIDCO'!DI20+RTM!GY20 -> 1.03 | CJ20: ='Day Ahead IEX PXIL'!HF20+'OA&GRIDCO'!DJ20 -> 0 | CK20: ='OA&GRIDCO'!KU20+'Day Ahead IEX PXIL'!DE20 -> 0 | CL20: ='OA&GRIDCO'!KV20+'Day Ahead IEX PXIL'!DF20 -> 0 | CM20: ='Day Ahead IEX PXIL'!FS20+RTM!FS20 -> 0 | CN20: ='Day Ahead IEX PXIL'!FT20 -> 0 | CO20: =RTM!IY20+'Day Ahead IEX PXIL'!IU20 -> 0 | CP20: =RTM!IZ20+'Day Ahead IEX PXIL'!IV20 -> 0 | CQ20: ='OA&GRIDCO'!KI20+'Day Ahead IEX PXIL'!FM20+RTM!GE20 -> 0 | CR20: ='OA&GRIDCO'!KJ20+'Day Ahead IEX PXIL'!FN20 -> 0 | CS20: ='OA&GRIDCO'!KO20+'Day Ahead IEX PXIL'!FY20+RTM!FY20 -> 0 | CT20: ='Day Ahead IEX PXIL'!FZ20 -> 0 | CU20: 0 | CV20: ='Day Ahead IEX PXIL'!GF20 -> 0 | CW20: ='OA&GRIDCO'!HU20+'Day Ahead IEX PXIL'!EC20+RTM!DW20 -> 400 | CX20: ='OA&GRIDCO'!HV20+'Day Ahead IEX PXIL'!ED20+RTM!DX20 -> 0 | CY20: ='OA&GRIDCO'!IG20+'Day Ahead IEX PXIL'!EI20+RTM!EC20 -> 4.3 | CZ20: ='OA&GRIDCO'!IH20+'Day Ahead IEX PXIL'!EJ20+RTM!ED20 -> 1.075 | DA20: ='OA&GRIDCO'!IU20+'Day Ahead IEX PXIL'!EO20+RTM!EI20 -> 0 | DB20: ='OA&GRIDCO'!IV20+'Day Ahead IEX PXIL'!EP20+RTM!EJ20 -> 0 | DE20: ='Day Ahead IEX PXIL'!FC20+'OA&GRIDCO'!KC20+RTM!GM20 -> 0 | DF20: ='Day Ahead IEX PXIL'!FD20+'OA&GRIDCO'!KD20 -> 0 | DG20: ='OA&GRIDCO'!JG20+'Day Ahead IEX PXIL'!EU20+RTM!EO20 -> 26.8 | DH20: ='OA&GRIDCO'!JH20+'Day Ahead IEX PXIL'!EV20+RTM!EP20 -> 0 | DI20: 0 | DJ20: 0 | DK20: =RTM!FM20 -> 0 | DL20: =RTM!FN20 -> 0 | DM20: ='OA&GRIDCO'!LH20+'Day Ahead IEX PXIL'!HU20+'Day Ahead IEX PXIL'!HU20 -> 0 | DN20: ='OA&GRIDCO'!LJ20+'Day Ahead IEX PXIL'!HV20+RTM!GV20 -> 0 | DO20: ='OA&GRIDCO'!LU20+'Day Ahead IEX PXIL'!HO20+RTM!IU20 -> 54.795 | DP20: ='OA&GRIDCO'!LV20+'Day Ahead IEX PXIL'!HP20+RTM!IV20 -> 0 | DQ20: =RTM!HK20 -> 1.24 | DR20: =RTM!HL20 -> 0 | DS20: =RTM!HO20 -> 0 | DT20: =RTM!HP20 -> 0 | DU20: =RTM!HS20 -> 0 | DV20: =RTM!HT20 -> 0 | DW20: =RTM!HW20+'OA&GRIDCO'!MK20 -> 23.71 | DX20: =RTM!HX20 -> 0 | DY20: =RTM!IA20 -> 0 | DZ20: =RTM!IB20 -> 0 | EA20: =RTM!IC20 -> 0 | EB20: =RTM!ID20 -> 0 | EC20: ='OA&GRIDCO'!MQ20 -> 0 | ED20: ='OA&GRIDCO'!MR20 -> 0 | EE20: ='OA&GRIDCO'!MU20 -> 0 | EF20: ='OA&GRIDCO'!MV20 -> 0 | EG20: ='OA&GRIDCO'!MY20+'Day Ahead IEX PXIL'!IM20+GDAM!G20+RTM!II20 -> 0 | EH20: ='OA&GRIDCO'!MZ20+'Day Ahead IEX PXIL'!IN20+RTM!IJ20+GDAM!H20 -> 0 | EI20: ='Day Ahead IEX PXIL'!IQ20+RTM!IM20+'OA&GRIDCO'!NC20+GDAM!BO20 -> 0 | EJ20: ='Day Ahead IEX PXIL'!IR20+RTM!IN20+'OA&GRIDCO'!ND20 -> 0 | EK20: ='OA&GRIDCO'!NG20 -> 0 | EL20: ='OA&GRIDCO'!NH20 -> 0 | EM20: =RTM!IQ20 -> 0 | EN20: =RTM!IR20 -> 0 | EO20: =RTM!JC20 -> 0 | EP20: =RTM!JD20 -> 0 | EQ20: ='OA&GRIDCO'!NK20 -> 0 | ER20: ='OA&GRIDCO'!NL20 -> 0 | ES20: ='OA&GRIDCO'!NM20+RTM!HC20+'Day Ahead IEX PXIL'!IY20 -> 0 | ET20: ='OA&GRIDCO'!NP20+RTM!HD20+'Day Ahead IEX PXIL'!IZ20 -> 0 | EU20: =RTM!JG20 -> 1.55 | EV20: =RTM!JH20 -> 0 | EW20: =RTM!JK20 -> 0 | EX20: =RTM!JL20 -> 0 | EY20: =GDAM!S20+'OA&GRIDCO'!OM20+RTM!JO20 -> 0 | EZ20: =GDAM!T20+'OA&GRIDCO'!OD20+RTM!JP20 -> 0 | FA20: =GDAM!Y20+RTM!JS20 -> 0 | FB20: =GDAM!Z20+RTM!JT20 -> 0 | FC20: =RTM!JW20 -> 0 | FD20: =RTM!JX20 -> 0 | FE20: =GDAM!AE20+'OA&GRIDCO'!OU20 -> 0 | FF20: =GDAM!AF20+'OA&GRIDCO'!OV20 -> 0 | FG20: =GDAM!AK20 -> 0 | FH20: =GDAM!AL20 -> 0 | FI20: =GDAM!AQ20 -> 0 | FJ20: =GDAM!AR20 -> 0 | FK20: =GDAM!AW20 -> 0 | FL20: =GDAM!AX20 -> 0 | FM20: =GDAM!BC20 -> 0 | FN20: =GDAM!BD20 -> 0 | FO20: =GDAM!BI20 -> 0 | FP20: =GDAM!BJ20 -> 0 | FQ20: =C20+E20+G20+I20+K20+M20+O20+Q20+W20+Y20+AA20+AC20+AE20+AG20+AI20+AK20+AM20+AO20+AQ20+AS20+AU20+AW20+AY20+BA20+BC20+BE20+BG20+BI20+BK20+BM20+BO20+BQ20+BS20+BU20+BW20+BY20+CA20+CC20+CE20+CG20+CI20+CK20+CM20+CQ20+CS20+CU20+CW20+CY20+DA20+DC20+DE20+DG20+DI20+DK20+DM20+DO20+DQ20+DS20+DU20+DW20+DY20+EA20+EC20+EE20+EG20+EI20+EK20+CO20+EM20+EO20+EQ20+ES20+EU20+EW20+EY20+FA20+FC20+FE20+FG20+FI20+FK20+FM20+FO20 -> 1732.6057 | FR20: =D20+F20+H20+J20+L20+N20+P20+R20+X20+Z20+AB20+AD20+AF20+AH20+AJ20+AL20+AN20+AP20+AR20+AT20+AV20+AX20+AZ20+BB20+BD20+BH20+BJ20+BL20+BN20+BP20+BF20+BR20+BT20+BV20+BX20+BZ20+CB20+CD20+CF20+CH20+CJ20+CL20+CN20+CR20+CT20+CV20+CX20+CZ20+DB20+DD20+DF20+DH20+DJ20+DL20+DN20+DP20+DR20+DT20+DV20+DX20+DZ20+EB20+ED20+EF20+EH20+EJ20+EL20+EN20+CP20+EP20+ER20+ET20+EV20+EX20+EZ20+FB20+FD20+FF20+FH20+FJ20+FL20+FN20+FP20 -> 187.785
A21: 0230-0245 | B21: 11 | G21: 24 | H21: 0.9 | O21: 0 | Q21: 9 | R21: 0.85 | S21: 25 | U21: 37 | W21: 0 | Y21: 0 | AA21: 0 | AC21: 0 | AE21: ='OA&GRIDCO'!W21+'Day Ahead IEX PXIL'!M21+RTM!M21 -> 19.58 | AF21: ='OA&GRIDCO'!X21+'Day Ahead IEX PXIL'!N21+RTM!N21 -> 1.03 | AG21: ='OA&GRIDCO'!AC21+'Day Ahead IEX PXIL'!S21+RTM!S21 -> 1.86 | AH21: ='OA&GRIDCO'!AD21+'Day Ahead IEX PXIL'!T21+RTM!T21 -> 0 | AI21: ='OA&GRIDCO'!AU21+'Day Ahead IEX PXIL'!Y21+RTM!Y21 -> 115 | AJ21: ='OA&GRIDCO'!AV21+'Day Ahead IEX PXIL'!Z21+RTM!Z21 -> 34.5 | AK21: ='OA&GRIDCO'!BS21+'Day Ahead IEX PXIL'!AK21+RTM!AK21 -> 50 | AL21: ='OA&GRIDCO'!BT21+'Day Ahead IEX PXIL'!AL21+RTM!AL21 -> 7.12 | AM21: ='OA&GRIDCO'!BC21+'Day Ahead IEX PXIL'!AE21+RTM!AE21 -> 0 | AN21: ='OA&GRIDCO'!BD21+'Day Ahead IEX PXIL'!AF21+RTM!AF21 -> 0 | AO21: ='OA&GRIDCO'!CC21+'Day Ahead IEX PXIL'!AQ21+RTM!AQ21 -> 0 | AP21: ='OA&GRIDCO'!CD21+'Day Ahead IEX PXIL'!AR21+RTM!AR21 -> 0 | AQ21: ='OA&GRIDCO'!CO21+'Day Ahead IEX PXIL'!AW21+RTM!AW21 -> 45.08 | AR21: ='OA&GRIDCO'!CP21+'Day Ahead IEX PXIL'!AX21+RTM!AX21 -> 14 | AS21: ='OA&GRIDCO'!DA21+'Day Ahead IEX PXIL'!BC21+RTM!BC21 -> 273.81443 | AT21: ='OA&GRIDCO'!DB21+'Day Ahead IEX PXIL'!BD21+RTM!BD21 -> 0 | AU21: ='Day Ahead IEX PXIL'!BI21+RTM!BI21+'OA&GRIDCO'!OY21 -> 0 | AV21: ='Day Ahead IEX PXIL'!BJ21+RTM!BJ21+'OA&GRIDCO'!OZ21 -> 0 | AY21: 0 | AZ21: ='OA&GRIDCO'!DL21+'Day Ahead IEX PXIL'!BP21+RTM!BP21 -> 13.7 | BA21: ='OA&GRIDCO'!EC21+'Day Ahead IEX PXIL'!BU21+RTM!BU21 -> 0 | BB21: ='OA&GRIDCO'!ED21+'Day Ahead IEX PXIL'!BV21+RTM!BV21 -> 0 | BC21: ='OA&GRIDCO'!EQ21+'Day Ahead IEX PXIL'!CA21+RTM!CA21 -> 599.99 | BD21: ='OA&GRIDCO'!ER21+'Day Ahead IEX PXIL'!CB21+RTM!CB21 -> 103.61 | BE21: ='OA&GRIDCO'!OC21+GDAM!U21 -> 0 | BF21: ='OA&GRIDCO'!OD21+GDAM!V21 -> 0 | BI21: ='OA&GRIDCO'!EW21+'Day Ahead IEX PXIL'!CG21+RTM!CG21 -> 1.03 | BJ21: ='OA&GRIDCO'!EX21+'Day Ahead IEX PXIL'!CH21+RTM!CH21 -> 0 | BK21: ='OA&GRIDCO'!KY21+RTM!FG21+'Day Ahead IEX PXIL'!GW21 -> 0 | BL21: ='OA&GRIDCO'!KZ21+RTM!FH21+'Day Ahead IEX PXIL'!GX21 -> 0 | BM21: ='Day Ahead IEX PXIL'!CM21+RTM!CM21+'OA&GRIDCO'!FC21 -> 28 | BN21: ='OA&GRIDCO'!FD21+'Day Ahead IEX PXIL'!CN21+RTM!CN21 -> 0 | BQ21: ='OA&GRIDCO'!FQ21+'Day Ahead IEX PXIL'!CS21+RTM!CS21 -> 2.06 | BR21: ='OA&GRIDCO'!FR21+'Day Ahead IEX PXIL'!CT21+RTM!CT21 -> 0 | BS21: ='OA&GRIDCO'!JW21+'Day Ahead IEX PXIL'!FA21+RTM!EU21 -> 53.8863 | BT21: ='OA&GRIDCO'!JX21+'Day Ahead IEX PXIL'!FB21+RTM!EV21 -> 11 | BU21: ='OA&GRIDCO'!GG21+RTM!G21 -> 0 | BV21: ='OA&GRIDCO'!GH21 -> 0 | BW21: ='OA&GRIDCO'!HA21+'Day Ahead IEX PXIL'!DK21+RTM!DE21 -> 0 | BX21: ='OA&GRIDCO'!HB21 -> 0 | BY21: ='Day Ahead IEX PXIL'!GK21+RTM!FA21+'OA&GRIDCO'!LE21 -> 0 | BZ21: ='Day Ahead IEX PXIL'!GL21+RTM!FB21+'OA&GRIDCO'!LF21 -> 0 | CC21: =RTM!GI21+'Day Ahead IEX PXIL'!II21+GDAM!M21 -> 0 | CD21: =RTM!GJ21 -> 0 | CE21: ='OA&GRIDCO'!HI21+'Day Ahead IEX PXIL'!DQ21+RTM!DK21 -> 0 | CF21: ='OA&GRIDCO'!HJ21+'Day Ahead IEX PXIL'!DR21+RTM!DL21 -> 0 | CG21: ='OA&GRIDCO'!HO21+'Day Ahead IEX PXIL'!DW21+RTM!DQ21 -> 5.15 | CH21: ='OA&GRIDCO'!HP21+'Day Ahead IEX PXIL'!DX21+RTM!DR21 -> 0 | CI21: ='Day Ahead IEX PXIL'!HE21+'OA&GRIDCO'!DI21+RTM!GY21 -> 1.03 | CJ21: ='Day Ahead IEX PXIL'!HF21+'OA&GRIDCO'!DJ21 -> 0 | CK21: ='OA&GRIDCO'!KU21+'Day Ahead IEX PXIL'!DE21 -> 0 | CL21: ='OA&GRIDCO'!KV21+'Day Ahead IEX PXIL'!DF21 -> 0 | CM21: ='Day Ahead IEX PXIL'!FS21+RTM!FS21 -> 0 | CN21: ='Day Ahead IEX PXIL'!FT21 -> 0 | CO21: =RTM!IY21+'Day Ahead IEX PXIL'!IU21 -> 0 | CP21: =RTM!IZ21+'Day Ahead IEX PXIL'!IV21 -> 0 | CQ21: ='OA&GRIDCO'!KI21+'Day Ahead IEX PXIL'!FM21+RTM!GE21 -> 0 | CR21: ='OA&GRIDCO'!KJ21+'Day Ahead IEX PXIL'!FN21 -> 0 | CS21: ='OA&GRIDCO'!KO21+'Day Ahead IEX PXIL'!FY21+RTM!FY21 -> 0 | CT21: ='Day Ahead IEX PXIL'!FZ21 -> 0 | CU21: 0 | CV21: ='Day Ahead IEX PXIL'!GF21 -> 0 | CW21: ='OA&GRIDCO'!HU21+'Day Ahead IEX PXIL'!EC21+RTM!DW21 -> 400 | CX21: ='OA&GRIDCO'!HV21+'Day Ahead IEX PXIL'!ED21+RTM!DX21 -> 0 | CY21: ='OA&GRIDCO'!IG21+'Day Ahead IEX PXIL'!EI21+RTM!EC21 -> 4.3 | CZ21: ='OA&GRIDCO'!IH21+'Day Ahead IEX PXIL'!EJ21+RTM!ED21 -> 1.075 | DA21: ='OA&GRIDCO'!IU21+'Day Ahead IEX PXIL'!EO21+RTM!EI21 -> 0 | DB21: ='OA&GRIDCO'!IV21+'Day Ahead IEX PXIL'!EP21+RTM!EJ21 -> 0 | DE21: ='Day Ahead IEX PXIL'!FC21+'OA&GRIDCO'!KC21+RTM!GM21 -> 0 | DF21: ='Day Ahead IEX PXIL'!FD21+'OA&GRIDCO'!KD21 -> 0 | DG21: ='OA&GRIDCO'!JG21+'Day Ahead IEX PXIL'!EU21+RTM!EO21 -> 26.8 | DH21: ='OA&GRIDCO'!JH21+'Day Ahead IEX PXIL'!EV21+RTM!EP21 -> 0 | DI21: 0 | DJ21: 0 | DK21: =RTM!FM21 -> 0 | DL21: =RTM!FN21 -> 0 | DM21: ='OA&GRIDCO'!LH21+'Day Ahead IEX PXIL'!HU21+'Day Ahead IEX PXIL'!HU21 -> 0 | DN21: ='OA&GRIDCO'!LJ21+'Day Ahead IEX PXIL'!HV21+RTM!GV21 -> 0 | DO21: ='OA&GRIDCO'!LU21+'Day Ahead IEX PXIL'!HO21+RTM!IU21 -> 54.795 | DP21: ='OA&GRIDCO'!LV21+'Day Ahead IEX PXIL'!HP21+RTM!IV21 -> 0 | DQ21: =RTM!HK21 -> 1.24 | DR21: =RTM!HL21 -> 0 | DS21: =RTM!HO21 -> 0 | DT21: =RTM!HP21 -> 0 | DU21: =RTM!HS21 -> 0 | DV21: =RTM!HT21 -> 0 | DW21: =RTM!HW21+'OA&GRIDCO'!MK21 -> 23.71 | DX21: =RTM!HX21 -> 0 | DY21: =RTM!IA21 -> 0 | DZ21: =RTM!IB21 -> 0 | EA21: =RTM!IC21 -> 0 | EB21: =RTM!ID21 -> 0 | EC21: ='OA&GRIDCO'!MQ21 -> 0 | ED21: ='OA&GRIDCO'!MR21 -> 0 | EE21: ='OA&GRIDCO'!MU21 -> 0 | EF21: ='OA&GRIDCO'!MV21 -> 0 | EG21: ='OA&GRIDCO'!MY21+'Day Ahead IEX PXIL'!IM21+GDAM!G21+RTM!II21 -> 0 | EH21: ='OA&GRIDCO'!MZ21+'Day Ahead IEX PXIL'!IN21+RTM!IJ21+GDAM!H21 -> 0 | EI21: ='Day Ahead IEX PXIL'!IQ21+RTM!IM21+'OA&GRIDCO'!NC21+GDAM!BO21 -> 0 | EJ21: ='Day Ahead IEX PXIL'!IR21+RTM!IN21+'OA&GRIDCO'!ND21 -> 0 | EK21: ='OA&GRIDCO'!NG21 -> 0 | EL21: ='OA&GRIDCO'!NH21 -> 0 | EM21: =RTM!IQ21 -> 0 | EN21: =RTM!IR21 -> 0 | EO21: =RTM!JC21 -> 0 | EP21: =RTM!JD21 -> 0 | EQ21: ='OA&GRIDCO'!NK21 -> 0 | ER21: ='OA&GRIDCO'!NL21 -> 0 | ES21: ='OA&GRIDCO'!NM21+RTM!HC21+'Day Ahead IEX PXIL'!IY21 -> 0 | ET21: ='OA&GRIDCO'!NP21+RTM!HD21+'Day Ahead IEX PXIL'!IZ21 -> 0 | EU21: =RTM!JG21 -> 1.55 | EV21: =RTM!JH21 -> 0 | EW21: =RTM!JK21 -> 0 | EX21: =RTM!JL21 -> 0 | EY21: =GDAM!S21+'OA&GRIDCO'!OM21+RTM!JO21 -> 0 | EZ21: =GDAM!T21+'OA&GRIDCO'!OD21+RTM!JP21 -> 0 | FA21: =GDAM!Y21+RTM!JS21 -> 0 | FB21: =GDAM!Z21+RTM!JT21 -> 0 | FC21: =RTM!JW21 -> 0 | FD21: =RTM!JX21 -> 0 | FE21: =GDAM!AE21+'OA&GRIDCO'!OU21 -> 0 | FF21: =GDAM!AF21+'OA&GRIDCO'!OV21 -> 0 | FG21: =GDAM!AK21 -> 0 | FH21: =GDAM!AL21 -> 0 | FI21: =GDAM!AQ21 -> 0 | FJ21: =GDAM!AR21 -> 0 | FK21: =GDAM!AW21 -> 0 | FL21: =GDAM!AX21 -> 0 | FM21: =GDAM!BC21 -> 0 | FN21: =GDAM!BD21 -> 0 | FO21: =GDAM!BI21 -> 0 | FP21: =GDAM!BJ21 -> 0 | FQ21: =C21+E21+G21+I21+K21+M21+O21+Q21+W21+Y21+AA21+AC21+AE21+AG21+AI21+AK21+AM21+AO21+AQ21+AS21+AU21+AW21+AY21+BA21+BC21+BE21+BG21+BI21+BK21+BM21+BO21+BQ21+BS21+BU21+BW21+BY21+CA21+CC21+CE21+CG21+CI21+CK21+CM21+CQ21+CS21+CU21+CW21+CY21+DA21+DC21+DE21+DG21+DI21+DK21+DM21+DO21+DQ21+DS21+DU21+DW21+DY21+EA21+EC21+EE21+EG21+EI21+EK21+CO21+EM21+EO21+EQ21+ES21+EU21+EW21+EY21+FA21+FC21+FE21+FG21+FI21+FK21+FM21+FO21 -> 1741.8757 | FR21: =D21+F21+H21+J21+L21+N21+P21+R21+X21+Z21+AB21+AD21+AF21+AH21+AJ21+AL21+AN21+AP21+AR21+AT21+AV21+AX21+AZ21+BB21+BD21+BH21+BJ21+BL21+BN21+BP21+BF21+BR21+BT21+BV21+BX21+BZ21+CB21+CD21+CF21+CH21+CJ21+CL21+CN21+CR21+CT21+CV21+CX21+CZ21+DB21+DD21+DF21+DH21+DJ21+DL21+DN21+DP21+DR21+DT21+DV21+DX21+DZ21+EB21+ED21+EF21+EH21+EJ21+EL21+EN21+CP21+EP21+ER21+ET21+EV21+EX21+EZ21+FB21+FD21+FF21+FH21+FJ21+FL21+FN21+FP21 -> 187.785
A22: 0245-0300 | B22: 12 | G22: 24 | H22: 0.9 | O22: 0 | Q22: 9 | R22: 0.85 | S22: 25 | U22: 37 | W22: 0 | Y22: 0 | AA22: 0 | AC22: 0 | AE22: ='OA&GRIDCO'!W22+'Day Ahead IEX PXIL'!M22+RTM!M22 -> 21.64 | AF22: ='OA&GRIDCO'!X22+'Day Ahead IEX PXIL'!N22+RTM!N22 -> 1.03 | AG22: ='OA&GRIDCO'!AC22+'Day Ahead IEX PXIL'!S22+RTM!S22 -> 1.86 | AH22: ='OA&GRIDCO'!AD22+'Day Ahead IEX PXIL'!T22+RTM!T22 -> 0 | AI22: ='OA&GRIDCO'!AU22+'Day Ahead IEX PXIL'!Y22+RTM!Y22 -> 115 | AJ22: ='OA&GRIDCO'!AV22+'Day Ahead IEX PXIL'!Z22+RTM!Z22 -> 34.5 | AK22: ='OA&GRIDCO'!BS22+'Day Ahead IEX PXIL'!AK22+RTM!AK22 -> 111.86 | AL22: ='OA&GRIDCO'!BT22+'Day Ahead IEX PXIL'!AL22+RTM!AL22 -> 7.12 | AM22: ='OA&GRIDCO'!BC22+'Day Ahead IEX PXIL'!AE22+RTM!AE22 -> 0 | AN22: ='OA&GRIDCO'!BD22+'Day Ahead IEX PXIL'!AF22+RTM!AF22 -> 0 | AO22: ='OA&GRIDCO'!CC22+'Day Ahead IEX PXIL'!AQ22+RTM!AQ22 -> 0 | AP22: ='OA&GRIDCO'!CD22+'Day Ahead IEX PXIL'!AR22+RTM!AR22 -> 0 | AQ22: ='OA&GRIDCO'!CO22+'Day Ahead IEX PXIL'!AW22+RTM!AW22 -> 45.08 | AR22: ='OA&GRIDCO'!CP22+'Day Ahead IEX PXIL'!AX22+RTM!AX22 -> 14 | AS22: ='OA&GRIDCO'!DA22+'Day Ahead IEX PXIL'!BC22+RTM!BC22 -> 311.22068 | AT22: ='OA&GRIDCO'!DB22+'Day Ahead IEX PXIL'!BD22+RTM!BD22 -> 0 | AU22: ='Day Ahead IEX PXIL'!BI22+RTM!BI22+'OA&GRIDCO'!OY22 -> 0 | AV22: ='Day Ahead IEX PXIL'!BJ22+RTM!BJ22+'OA&GRIDCO'!OZ22 -> 0 | AY22: 0 | AZ22: ='OA&GRIDCO'!DL22+'Day Ahead IEX PXIL'!BP22+RTM!BP22 -> 13.7 | BA22: ='OA&GRIDCO'!EC22+'Day Ahead IEX PXIL'!BU22+RTM!BU22 -> 0 | BB22: ='OA&GRIDCO'!ED22+'Day Ahead IEX PXIL'!BV22+RTM!BV22 -> 0 | BC22: ='OA&GRIDCO'!EQ22+'Day Ahead IEX PXIL'!CA22+RTM!CA22 -> 600 | BD22: ='OA&GRIDCO'!ER22+'Day Ahead IEX PXIL'!CB22+RTM!CB22 -> 103.61 | BE22: ='OA&GRIDCO'!OC22+GDAM!U22 -> 0 | BF22: ='OA&GRIDCO'!OD22+GDAM!V22 -> 0 | BI22: ='OA&GRIDCO'!EW22+'Day Ahead IEX PXIL'!CG22+RTM!CG22 -> 1.03 | BJ22: ='OA&GRIDCO'!EX22+'Day Ahead IEX PXIL'!CH22+RTM!CH22 -> 0 | BK22: ='OA&GRIDCO'!KY22+RTM!FG22+'Day Ahead IEX PXIL'!GW22 -> 0 | BL22: ='OA&GRIDCO'!KZ22+RTM!FH22+'Day Ahead IEX PXIL'!GX22 -> 0 | BM22: ='Day Ahead IEX PXIL'!CM22+RTM!CM22+'OA&GRIDCO'!FC22 -> 28 | BN22: ='OA&GRIDCO'!FD22+'Day Ahead IEX PXIL'!CN22+RTM!CN22 -> 0 | BQ22: ='OA&GRIDCO'!FQ22+'Day Ahead IEX PXIL'!CS22+RTM!CS22 -> 2.06 | BR22: ='OA&GRIDCO'!FR22+'Day Ahead IEX PXIL'!CT22+RTM!CT22 -> 0 | BS22: ='OA&GRIDCO'!JW22+'Day Ahead IEX PXIL'!FA22+RTM!EU22 -> 53.8863 | BT22: ='OA&GRIDCO'!JX22+'Day Ahead IEX PXIL'!FB22+RTM!EV22 -> 11 | BU22: ='OA&GRIDCO'!GG22+RTM!G22 -> 0 | BV22: ='OA&GRIDCO'!GH22 -> 0 | BW22: ='OA&GRIDCO'!HA22+'Day Ahead IEX PXIL'!DK22+RTM!DE22 -> 0 | BX22: ='OA&GRIDCO'!HB22 -> 0 | BY22: ='Day Ahead IEX PXIL'!GK22+RTM!FA22+'OA&GRIDCO'!LE22 -> 0 | BZ22: ='Day Ahead IEX PXIL'!GL22+RTM!FB22+'OA&GRIDCO'!LF22 -> 0 | CC22: =RTM!GI22+'Day Ahead IEX PXIL'!II22+GDAM!M22 -> 0 | CD22: =RTM!GJ22 -> 0 | CE22: ='OA&GRIDCO'!HI22+'Day Ahead IEX PXIL'!DQ22+RTM!DK22 -> 0 | CF22: ='OA&GRIDCO'!HJ22+'Day Ahead IEX PXIL'!DR22+RTM!DL22 -> 0 | CG22: ='OA&GRIDCO'!HO22+'Day Ahead IEX PXIL'!DW22+RTM!DQ22 -> 5.15 | CH22: ='OA&GRIDCO'!HP22+'Day Ahead IEX PXIL'!DX22+RTM!DR22 -> 0 | CI22: ='Day Ahead IEX PXIL'!HE22+'OA&GRIDCO'!DI22+RTM!GY22 -> 1.03 | CJ22: ='Day Ahead IEX PXIL'!HF22+'OA&GRIDCO'!DJ22 -> 0 | CK22: ='OA&GRIDCO'!KU22+'Day Ahead IEX PXIL'!DE22 -> 0 | CL22: ='OA&GRIDCO'!KV22+'Day Ahead IEX PXIL'!DF22 -> 0 | CM22: ='Day Ahead IEX PXIL'!FS22+RTM!FS22 -> 0 | CN22: ='Day Ahead IEX PXIL'!FT22 -> 0 | CO22: =RTM!IY22+'Day Ahead IEX PXIL'!IU22 -> 0 | CP22: =RTM!IZ22+'Day Ahead IEX PXIL'!IV22 -> 0 | CQ22: ='OA&GRIDCO'!KI22+'Day Ahead IEX PXIL'!FM22+RTM!GE22 -> 0 | CR22: ='OA&GRIDCO'!KJ22+'Day Ahead IEX PXIL'!FN22 -> 0 | CS22: ='OA&GRIDCO'!KO22+'Day Ahead IEX PXIL'!FY22+RTM!FY22 -> 0 | CT22: ='Day Ahead IEX PXIL'!FZ22 -> 0 | CU22: 0 | CV22: ='Day Ahead IEX PXIL'!GF22 -> 0 | CW22: ='OA&GRIDCO'!HU22+'Day Ahead IEX PXIL'!EC22+RTM!DW22 -> 400 | CX22: ='OA&GRIDCO'!HV22+'Day Ahead IEX PXIL'!ED22+RTM!DX22 -> 0 | CY22: ='OA&GRIDCO'!IG22+'Day Ahead IEX PXIL'!EI22+RTM!EC22 -> 4.3 | CZ22: ='OA&GRIDCO'!IH22+'Day Ahead IEX PXIL'!EJ22+RTM!ED22 -> 1.075 | DA22: ='OA&GRIDCO'!IU22+'Day Ahead IEX PXIL'!EO22+RTM!EI22 -> 0 | DB22: ='OA&GRIDCO'!IV22+'Day Ahead IEX PXIL'!EP22+RTM!EJ22 -> 0 | DE22: ='Day Ahead IEX PXIL'!FC22+'OA&GRIDCO'!KC22+RTM!GM22 -> 0 | DF22: ='Day Ahead IEX PXIL'!FD22+'OA&GRIDCO'!KD22 -> 0 | DG22: ='OA&GRIDCO'!JG22+'Day Ahead IEX PXIL'!EU22+RTM!EO22 -> 26.8 | DH22: ='OA&GRIDCO'!JH22+'Day Ahead IEX PXIL'!EV22+RTM!EP22 -> 0 | DI22: 0 | DJ22: 0 | DK22: =RTM!FM22 -> 0 | DL22: =RTM!FN22 -> 0 | DM22: ='OA&GRIDCO'!LH22+'Day Ahead IEX PXIL'!HU22+'Day Ahead IEX PXIL'!HU22 -> 0 | DN22: ='OA&GRIDCO'!LJ22+'Day Ahead IEX PXIL'!HV22+RTM!GV22 -> 0 | DO22: ='OA&GRIDCO'!LU22+'Day Ahead IEX PXIL'!HO22+RTM!IU22 -> 54.795 | DP22: ='OA&GRIDCO'!LV22+'Day Ahead IEX PXIL'!HP22+RTM!IV22 -> 0 | DQ22: =RTM!HK22 -> 1.24 | DR22: =RTM!HL22 -> 0 | DS22: =RTM!HO22 -> 0 | DT22: =RTM!HP22 -> 0 | DU22: =RTM!HS22 -> 0 | DV22: =RTM!HT22 -> 0 | DW22: =RTM!HW22+'OA&GRIDCO'!MK22 -> 23.71 | DX22: =RTM!HX22 -> 0 | DY22: =RTM!IA22 -> 0 | DZ22: =RTM!IB22 -> 0 | EA22: =RTM!IC22 -> 0 | EB22: =RTM!ID22 -> 0 | EC22: ='OA&GRIDCO'!MQ22 -> 0 | ED22: ='OA&GRIDCO'!MR22 -> 0 | EE22: ='OA&GRIDCO'!MU22 -> 0 | EF22: ='OA&GRIDCO'!MV22 -> 0 | EG22: ='OA&GRIDCO'!MY22+'Day Ahead IEX PXIL'!IM22+GDAM!G22+RTM!II22 -> 0 | EH22: ='OA&GRIDCO'!MZ22+'Day Ahead IEX PXIL'!IN22+RTM!IJ22+GDAM!H22 -> 0 | EI22: ='Day Ahead IEX PXIL'!IQ22+RTM!IM22+'OA&GRIDCO'!NC22+GDAM!BO22 -> 0 | EJ22: ='Day Ahead IEX PXIL'!IR22+RTM!IN22+'OA&GRIDCO'!ND22 -> 0 | EK22: ='OA&GRIDCO'!NG22 -> 0 | EL22: ='OA&GRIDCO'!NH22 -> 0 | EM22: =RTM!IQ22 -> 0 | EN22: =RTM!IR22 -> 0 | EO22: =RTM!JC22 -> 0 | EP22: =RTM!JD22 -> 0 | EQ22: ='OA&GRIDCO'!NK22 -> 0 | ER22: ='OA&GRIDCO'!NL22 -> 0 | ES22: ='OA&GRIDCO'!NM22+RTM!HC22+'Day Ahead IEX PXIL'!IY22 -> 0 | ET22: ='OA&GRIDCO'!NP22+RTM!HD22+'Day Ahead IEX PXIL'!IZ22 -> 0 | EU22: =RTM!JG22 -> 1.55 | EV22: =RTM!JH22 -> 0 | EW22: =RTM!JK22 -> 0 | EX22: =RTM!JL22 -> 0 | EY22: =GDAM!S22+'OA&GRIDCO'!OM22+RTM!JO22 -> 0 | EZ22: =GDAM!T22+'OA&GRIDCO'!OD22+RTM!JP22 -> 0 | FA22: =GDAM!Y22+RTM!JS22 -> 0 | FB22: =GDAM!Z22+RTM!JT22 -> 0 | FC22: =RTM!JW22 -> 0 | FD22: =RTM!JX22 -> 0 | FE22: =GDAM!AE22+'OA&GRIDCO'!OU22 -> 0 | FF22: =GDAM!AF22+'OA&GRIDCO'!OV22 -> 0 | FG22: =GDAM!AK22 -> 0 | FH22: =GDAM!AL22 -> 0 | FI22: =GDAM!AQ22 -> 0 | FJ22: =GDAM!AR22 -> 0 | FK22: =GDAM!AW22 -> 0 | FL22: =GDAM!AX22 -> 0 | FM22: =GDAM!BC22 -> 0 | FN22: =GDAM!BD22 -> 0 | FO22: =GDAM!BI22 -> 0 | FP22: =GDAM!BJ22 -> 0 | FQ22: =C22+E22+G22+I22+K22+M22+O22+Q22+W22+Y22+AA22+AC22+AE22+AG22+AI22+AK22+AM22+AO22+AQ22+AS22+AU22+AW22+AY22+BA22+BC22+BE22+BG22+BI22+BK22+BM22+BO22+BQ22+BS22+BU22+BW22+BY22+CA22+CC22+CE22+CG22+CI22+CK22+CM22+CQ22+CS22+CU22+CW22+CY22+DA22+DC22+DE22+DG22+DI22+DK22+DM22+DO22+DQ22+DS22+DU22+DW22+DY22+EA22+EC22+EE22+EG22+EI22+EK22+CO22+EM22+EO22+EQ22+ES22+EU22+EW22+EY22+FA22+FC22+FE22+FG22+FI22+FK22+FM22+FO22 -> 1843.212 | FR22: =D22+F22+H22+J22+L22+N22+P22+R22+X22+Z22+AB22+AD22+AF22+AH22+AJ22+AL22+AN22+AP22+AR22+AT22+AV22+AX22+AZ22+BB22+BD22+BH22+BJ22+BL22+BN22+BP22+BF22+BR22+BT22+BV22+BX22+BZ22+CB22+CD22+CF22+CH22+CJ22+CL22+CN22+CR22+CT22+CV22+CX22+CZ22+DB22+DD22+DF22+DH22+DJ22+DL22+DN22+DP22+DR22+DT22+DV22+DX22+DZ22+EB22+ED22+EF22+EH22+EJ22+EL22+EN22+CP22+EP22+ER22+ET22+EV22+EX22+EZ22+FB22+FD22+FF22+FH22+FJ22+FL22+FN22+FP22 -> 187.785
A23: 0300-0315 | B23: 13 | G23: 24 | H23: 0.9 | O23: 0 | Q23: 9 | R23: 0.85 | S23: 25 | U23: 37 | W23: 0 | Y23: 0 | AA23: 0 | AC23: 0 | AE23: ='OA&GRIDCO'!W23+'Day Ahead IEX PXIL'!M23+RTM!M23 -> 9.27 | AF23: ='OA&GRIDCO'!X23+'Day Ahead IEX PXIL'!N23+RTM!N23 -> 1.03 | AG23: ='OA&GRIDCO'!AC23+'Day Ahead IEX PXIL'!S23+RTM!S23 -> 1.86 | AH23: ='OA&GRIDCO'!AD23+'Day Ahead IEX PXIL'!T23+RTM!T23 -> 0 | AI23: ='OA&GRIDCO'!AU23+'Day Ahead IEX PXIL'!Y23+RTM!Y23 -> 115 | AJ23: ='OA&GRIDCO'!AV23+'Day Ahead IEX PXIL'!Z23+RTM!Z23 -> 34.5 | AK23: ='OA&GRIDCO'!BS23+'Day Ahead IEX PXIL'!AK23+RTM!AK23 -> 50 | AL23: ='OA&GRIDCO'!BT23+'Day Ahead IEX PXIL'!AL23+RTM!AL23 -> 7.12 | AM23: ='OA&GRIDCO'!BC23+'Day Ahead IEX PXIL'!AE23+RTM!AE23 -> 0 | AN23: ='OA&GRIDCO'!BD23+'Day Ahead IEX PXIL'!AF23+RTM!AF23 -> 0 | AO23: ='OA&GRIDCO'!CC23+'Day Ahead IEX PXIL'!AQ23+RTM!AQ23 -> 0 | AP23: ='OA&GRIDCO'!CD23+'Day Ahead IEX PXIL'!AR23+RTM!AR23 -> 0 | AQ23: ='OA&GRIDCO'!CO23+'Day Ahead IEX PXIL'!AW23+RTM!AW23 -> 45.08 | AR23: ='OA&GRIDCO'!CP23+'Day Ahead IEX PXIL'!AX23+RTM!AX23 -> 14 | AS23: ='OA&GRIDCO'!DA23+'Day Ahead IEX PXIL'!BC23+RTM!BC23 -> 329.77738 | AT23: ='OA&GRIDCO'!DB23+'Day Ahead IEX PXIL'!BD23+RTM!BD23 -> 0 | AU23: ='Day Ahead IEX PXIL'!BI23+RTM!BI23+'OA&GRIDCO'!OY23 -> 0 | AV23: ='Day Ahead IEX PXIL'!BJ23+RTM!BJ23+'OA&GRIDCO'!OZ23 -> 0 | AY23: 0 | AZ23: ='OA&GRIDCO'!DL23+'Day Ahead IEX PXIL'!BP23+RTM!BP23 -> 13.7 | BA23: ='OA&GRIDCO'!EC23+'Day Ahead IEX PXIL'!BU23+RTM!BU23 -> 0 | BB23: ='OA&GRIDCO'!ED23+'Day Ahead IEX PXIL'!BV23+RTM!BV23 -> 0 | BC23: ='OA&GRIDCO'!EQ23+'Day Ahead IEX PXIL'!CA23+RTM!CA23 -> 600 | BD23: ='OA&GRIDCO'!ER23+'Day Ahead IEX PXIL'!CB23+RTM!CB23 -> 103.61 | BE23: ='OA&GRIDCO'!OC23+GDAM!U23 -> 0 | BF23: ='OA&GRIDCO'!OD23+GDAM!V23 -> 0 | BI23: ='OA&GRIDCO'!EW23+'Day Ahead IEX PXIL'!CG23+RTM!CG23 -> 1.03 | BJ23: ='OA&GRIDCO'!EX23+'Day Ahead IEX PXIL'!CH23+RTM!CH23 -> 0 | BK23: ='OA&GRIDCO'!KY23+RTM!FG23+'Day Ahead IEX PXIL'!GW23 -> 0 | BL23: ='OA&GRIDCO'!KZ23+RTM!FH23+'Day Ahead IEX PXIL'!GX23 -> 0 | BM23: ='Day Ahead IEX PXIL'!CM23+RTM!CM23+'OA&GRIDCO'!FC23 -> 28 | BN23: ='OA&GRIDCO'!FD23+'Day Ahead IEX PXIL'!CN23+RTM!CN23 -> 0 | BQ23: ='OA&GRIDCO'!FQ23+'Day Ahead IEX PXIL'!CS23+RTM!CS23 -> 2.06 | BR23: ='OA&GRIDCO'!FR23+'Day Ahead IEX PXIL'!CT23+RTM!CT23 -> 0 | BS23: ='OA&GRIDCO'!JW23+'Day Ahead IEX PXIL'!FA23+RTM!EU23 -> 53.8863 | BT23: ='OA&GRIDCO'!JX23+'Day Ahead IEX PXIL'!FB23+RTM!EV23 -> 11 | BU23: ='OA&GRIDCO'!GG23+RTM!G23 -> 0 | BV23: ='OA&GRIDCO'!GH23 -> 0 | BW23: ='OA&GRIDCO'!HA23+'Day Ahead IEX PXIL'!DK23+RTM!DE23 -> 0 | BX23: ='OA&GRIDCO'!HB23 -> 0 | BY23: ='Day Ahead IEX PXIL'!GK23+RTM!FA23+'OA&GRIDCO'!LE23 -> 0 | BZ23: ='Day Ahead IEX PXIL'!GL23+RTM!FB23+'OA&GRIDCO'!LF23 -> 0 | CC23: =RTM!GI23+'Day Ahead IEX PXIL'!II23+GDAM!M23 -> 0 | CD23: =RTM!GJ23 -> 0 | CE23: ='OA&GRIDCO'!HI23+'Day Ahead IEX PXIL'!DQ23+RTM!DK23 -> 0 | CF23: ='OA&GRIDCO'!HJ23+'Day Ahead IEX PXIL'!DR23+RTM!DL23 -> 0 | CG23: ='OA&GRIDCO'!HO23+'Day Ahead IEX PXIL'!DW23+RTM!DQ23 -> 5.15 | CH23: ='OA&GRIDCO'!HP23+'Day Ahead IEX PXIL'!DX23+RTM!DR23 -> 0 | CI23: ='Day Ahead IEX PXIL'!HE23+'OA&GRIDCO'!DI23+RTM!GY23 -> 1.03 | CJ23: ='Day Ahead IEX PXIL'!HF23+'OA&GRIDCO'!DJ23 -> 0 | CK23: ='OA&GRIDCO'!KU23+'Day Ahead IEX PXIL'!DE23 -> 0 | CL23: ='OA&GRIDCO'!KV23+'Day Ahead IEX PXIL'!DF23 -> 0 | CM23: ='Day Ahead IEX PXIL'!FS23+RTM!FS23 -> 0 | CN23: ='Day Ahead IEX PXIL'!FT23 -> 0 | CO23: =RTM!IY23+'Day Ahead IEX PXIL'!IU23 -> 0 | CP23: =RTM!IZ23+'Day Ahead IEX PXIL'!IV23 -> 0 | CQ23: ='OA&GRIDCO'!KI23+'Day Ahead IEX PXIL'!FM23+RTM!GE23 -> 0 | CR23: ='OA&GRIDCO'!KJ23+'Day Ahead IEX PXIL'!FN23 -> 0 | CS23: ='OA&GRIDCO'!KO23+'Day Ahead IEX PXIL'!FY23+RTM!FY23 -> 0 | CT23: ='Day Ahead IEX PXIL'!FZ23 -> 0 | CU23: 0 | CV23: ='Day Ahead IEX PXIL'!GF23 -> 0 | CW23: ='OA&GRIDCO'!HU23+'Day Ahead IEX PXIL'!EC23+RTM!DW23 -> 400 | CX23: ='OA&GRIDCO'!HV23+'Day Ahead IEX PXIL'!ED23+RTM!DX23 -> 0 | CY23: ='OA&GRIDCO'!IG23+'Day Ahead IEX PXIL'!EI23+RTM!EC23 -> 4.3 | CZ23: ='OA&GRIDCO'!IH23+'Day Ahead IEX PXIL'!EJ23+RTM!ED23 -> 1.075 | DA23: ='OA&GRIDCO'!IU23+'Day Ahead IEX PXIL'!EO23+RTM!EI23 -> 0 | DB23: ='OA&GRIDCO'!IV23+'Day Ahead IEX PXIL'!EP23+RTM!EJ23 -> 0 | DE23: ='Day Ahead IEX PXIL'!FC23+'OA&GRIDCO'!KC23+RTM!GM23 -> 0 | DF23: ='Day Ahead IEX PXIL'!FD23+'OA&GRIDCO'!KD23 -> 0 | DG23: ='OA&GRIDCO'!JG23+'Day Ahead IEX PXIL'!EU23+RTM!EO23 -> 26.8 | DH23: ='OA&GRIDCO'!JH23+'Day Ahead IEX PXIL'!EV23+RTM!EP23 -> 0 | DI23: 0 | DJ23: 0 | DK23: =RTM!FM23 -> 0 | DL23: =RTM!FN23 -> 0 | DM23: ='OA&GRIDCO'!LH23+'Day Ahead IEX PXIL'!HU23+'Day Ahead IEX PXIL'!HU23 -> 0 | DN23: ='OA&GRIDCO'!LJ23+'Day Ahead IEX PXIL'!HV23+RTM!GV23 -> 0 | DO23: ='OA&GRIDCO'!LU23+'Day Ahead IEX PXIL'!HO23+RTM!IU23 -> 54.795 | DP23: ='OA&GRIDCO'!LV23+'Day Ahead IEX PXIL'!HP23+RTM!IV23 -> 0 | DQ23: =RTM!HK23 -> 1.24 | DR23: =RTM!HL23 -> 0 | DS23: =RTM!HO23 -> 0 | DT23: =RTM!HP23 -> 0 | DU23: =RTM!HS23 -> 0 | DV23: =RTM!HT23 -> 0 | DW23: =RTM!HW23+'OA&GRIDCO'!MK23 -> 25.26 | DX23: =RTM!HX23 -> 0 | DY23: =RTM!IA23 -> 0 | DZ23: =RTM!IB23 -> 0 | EA23: =RTM!IC23 -> 0 | EB23: =RTM!ID23 -> 0 | EC23: ='OA&GRIDCO'!MQ23 -> 0 | ED23: ='OA&GRIDCO'!MR23 -> 0 | EE23: ='OA&GRIDCO'!MU23 -> 0 | EF23: ='OA&GRIDCO'!MV23 -> 0 | EG23: ='OA&GRIDCO'!MY23+'Day Ahead IEX PXIL'!IM23+GDAM!G23+RTM!II23 -> 0 | EH23: ='OA&GRIDCO'!MZ23+'Day Ahead IEX PXIL'!IN23+RTM!IJ23+GDAM!H23 -> 0 | EI23: ='Day Ahead IEX PXIL'!IQ23+RTM!IM23+'OA&GRIDCO'!NC23+GDAM!BO23 -> 0 | EJ23: ='Day Ahead IEX PXIL'!IR23+RTM!IN23+'OA&GRIDCO'!ND23 -> 0 | EK23: ='OA&GRIDCO'!NG23 -> 0 | EL23: ='OA&GRIDCO'!NH23 -> 0 | EM23: =RTM!IQ23 -> 0 | EN23: =RTM!IR23 -> 0 | EO23: =RTM!JC23 -> 0 | EP23: =RTM!JD23 -> 0 | EQ23: ='OA&GRIDCO'!NK23 -> 0 | ER23: ='OA&GRIDCO'!NL23 -> 0 | ES23: ='OA&GRIDCO'!NM23+RTM!HC23+'Day Ahead IEX PXIL'!IY23 -> 0 | ET23: ='OA&GRIDCO'!NP23+RTM!HD23+'Day Ahead IEX PXIL'!IZ23 -> 0 | EU23: =RTM!JG23 -> 1.55 | EV23: =RTM!JH23 -> 0 | EW23: =RTM!JK23 -> 0 | EX23: =RTM!JL23 -> 0 | EY23: =GDAM!S23+'OA&GRIDCO'!OM23+RTM!JO23 -> 0 | EZ23: =GDAM!T23+'OA&GRIDCO'!OD23+RTM!JP23 -> 0 | FA23: =GDAM!Y23+RTM!JS23 -> 0 | FB23: =GDAM!Z23+RTM!JT23 -> 0 | FC23: =RTM!JW23 -> 0 | FD23: =RTM!JX23 -> 0 | FE23: =GDAM!AE23+'OA&GRIDCO'!OU23 -> 0 | FF23: =GDAM!AF23+'OA&GRIDCO'!OV23 -> 0 | FG23: =GDAM!AK23 -> 0 | FH23: =GDAM!AL23 -> 0 | FI23: =GDAM!AQ23 -> 0 | FJ23: =GDAM!AR23 -> 0 | FK23: =GDAM!AW23 -> 0 | FL23: =GDAM!AX23 -> 0 | FM23: =GDAM!BC23 -> 0 | FN23: =GDAM!BD23 -> 0 | FO23: =GDAM!BI23 -> 0 | FP23: =GDAM!BJ23 -> 0 | FQ23: =C23+E23+G23+I23+K23+M23+O23+Q23+W23+Y23+AA23+AC23+AE23+AG23+AI23+AK23+AM23+AO23+AQ23+AS23+AU23+AW23+AY23+BA23+BC23+BE23+BG23+BI23+BK23+BM23+BO23+BQ23+BS23+BU23+BW23+BY23+CA23+CC23+CE23+CG23+CI23+CK23+CM23+CQ23+CS23+CU23+CW23+CY23+DA23+DC23+DE23+DG23+DI23+DK23+DM23+DO23+DQ23+DS23+DU23+DW23+DY23+EA23+EC23+EE23+EG23+EI23+EK23+CO23+EM23+EO23+EQ23+ES23+EU23+EW23+EY23+FA23+FC23+FE23+FG23+FI23+FK23+FM23+FO23 -> 1789.0887 | FR23: =D23+F23+H23+J23+L23+N23+P23+R23+X23+Z23+AB23+AD23+AF23+AH23+AJ23+AL23+AN23+AP23+AR23+AT23+AV23+AX23+AZ23+BB23+BD23+BH23+BJ23+BL23+BN23+BP23+BF23+BR23+BT23+BV23+BX23+BZ23+CB23+CD23+CF23+CH23+CJ23+CL23+CN23+CR23+CT23+CV23+CX23+CZ23+DB23+DD23+DF23+DH23+DJ23+DL23+DN23+DP23+DR23+DT23+DV23+DX23+DZ23+EB23+ED23+EF23+EH23+EJ23+EL23+EN23+CP23+EP23+ER23+ET23+EV23+EX23+EZ23+FB23+FD23+FF23+FH23+FJ23+FL23+FN23+FP23 -> 187.785
A24: 0315-0330 | B24: 14 | G24: 24 | H24: 0.9 | O24: 0 | Q24: 9 | R24: 0.85 | S24: 25 | U24: 37 | W24: 0 | Y24: 0 | AA24: 0 | AC24: 0 | AE24: ='OA&GRIDCO'!W24+'Day Ahead IEX PXIL'!M24+RTM!M24 -> 9.27 | AF24: ='OA&GRIDCO'!X24+'Day Ahead IEX PXIL'!N24+RTM!N24 -> 1.03 | AG24: ='OA&GRIDCO'!AC24+'Day Ahead IEX PXIL'!S24+RTM!S24 -> 1.86 | AH24: ='OA&GRIDCO'!AD24+'Day Ahead IEX PXIL'!T24+RTM!T24 -> 0 | AI24: ='OA&GRIDCO'!AU24+'Day Ahead IEX PXIL'!Y24+RTM!Y24 -> 115 | AJ24: ='OA&GRIDCO'!AV24+'Day Ahead IEX PXIL'!Z24+RTM!Z24 -> 34.5 | AK24: ='OA&GRIDCO'!BS24+'Day Ahead IEX PXIL'!AK24+RTM!AK24 -> 50 | AL24: ='OA&GRIDCO'!BT24+'Day Ahead IEX PXIL'!AL24+RTM!AL24 -> 7.12 | AM24: ='OA&GRIDCO'!BC24+'Day Ahead IEX PXIL'!AE24+RTM!AE24 -> 0 | AN24: ='OA&GRIDCO'!BD24+'Day Ahead IEX PXIL'!AF24+RTM!AF24 -> 0 | AO24: ='OA&GRIDCO'!CC24+'Day Ahead IEX PXIL'!AQ24+RTM!AQ24 -> 0 | AP24: ='OA&GRIDCO'!CD24+'Day Ahead IEX PXIL'!AR24+RTM!AR24 -> 0 | AQ24: ='OA&GRIDCO'!CO24+'Day Ahead IEX PXIL'!AW24+RTM!AW24 -> 45.08 | AR24: ='OA&GRIDCO'!CP24+'Day Ahead IEX PXIL'!AX24+RTM!AX24 -> 14 | AS24: ='OA&GRIDCO'!DA24+'Day Ahead IEX PXIL'!BC24+RTM!BC24 -> 329.77738 | AT24: ='OA&GRIDCO'!DB24+'Day Ahead IEX PXIL'!BD24+RTM!BD24 -> 0 | AU24: ='Day Ahead IEX PXIL'!BI24+RTM!BI24+'OA&GRIDCO'!OY24 -> 0 | AV24: ='Day Ahead IEX PXIL'!BJ24+RTM!BJ24+'OA&GRIDCO'!OZ24 -> 0 | AY24: 0 | AZ24: ='OA&GRIDCO'!DL24+'Day Ahead IEX PXIL'!BP24+RTM!BP24 -> 13.7 | BA24: ='OA&GRIDCO'!EC24+'Day Ahead IEX PXIL'!BU24+RTM!BU24 -> 0 | BB24: ='OA&GRIDCO'!ED24+'Day Ahead IEX PXIL'!BV24+RTM!BV24 -> 0 | BC24: ='OA&GRIDCO'!EQ24+'Day Ahead IEX PXIL'!CA24+RTM!CA24 -> 600 | BD24: ='OA&GRIDCO'!ER24+'Day Ahead IEX PXIL'!CB24+RTM!CB24 -> 103.61 | BE24: ='OA&GRIDCO'!OC24+GDAM!U24 -> 0 | BF24: ='OA&GRIDCO'!OD24+GDAM!V24 -> 0 | BI24: ='OA&GRIDCO'!EW24+'Day Ahead IEX PXIL'!CG24+RTM!CG24 -> 1.03 | BJ24: ='OA&GRIDCO'!EX24+'Day Ahead IEX PXIL'!CH24+RTM!CH24 -> 0 | BK24: ='OA&GRIDCO'!KY24+RTM!FG24+'Day Ahead IEX PXIL'!GW24 -> 0 | BL24: ='OA&GRIDCO'!KZ24+RTM!FH24+'Day Ahead IEX PXIL'!GX24 -> 0 | BM24: ='Day Ahead IEX PXIL'!CM24+RTM!CM24+'OA&GRIDCO'!FC24 -> 28 | BN24: ='OA&GRIDCO'!FD24+'Day Ahead IEX PXIL'!CN24+RTM!CN24 -> 0 | BQ24: ='OA&GRIDCO'!FQ24+'Day Ahead IEX PXIL'!CS24+RTM!CS24 -> 2.06 | BR24: ='OA&GRIDCO'!FR24+'Day Ahead IEX PXIL'!CT24+RTM!CT24 -> 0 | BS24: ='OA&GRIDCO'!JW24+'Day Ahead IEX PXIL'!FA24+RTM!EU24 -> 53.8863 | BT24: ='OA&GRIDCO'!JX24+'Day Ahead IEX PXIL'!FB24+RTM!EV24 -> 11 | BU24: ='OA&GRIDCO'!GG24+RTM!G24 -> 0 | BV24: ='OA&GRIDCO'!GH24 -> 0 | BW24: ='OA&GRIDCO'!HA24+'Day Ahead IEX PXIL'!DK24+RTM!DE24 -> 0 | BX24: ='OA&GRIDCO'!HB24 -> 0 | BY24: ='Day Ahead IEX PXIL'!GK24+RTM!FA24+'OA&GRIDCO'!LE24 -> 0 | BZ24: ='Day Ahead IEX PXIL'!GL24+RTM!FB24+'OA&GRIDCO'!LF24 -> 0 | CC24: =RTM!GI24+'Day Ahead IEX PXIL'!II24+GDAM!M24 -> 0 | CD24: =RTM!GJ24 -> 0 | CE24: ='OA&GRIDCO'!HI24+'Day Ahead IEX PXIL'!DQ24+RTM!DK24 -> 0 | CF24: ='OA&GRIDCO'!HJ24+'Day Ahead IEX PXIL'!DR24+RTM!DL24 -> 0 | CG24: ='OA&GRIDCO'!HO24+'Day Ahead IEX PXIL'!DW24+RTM!DQ24 -> 5.15 | CH24: ='OA&GRIDCO'!HP24+'Day Ahead IEX PXIL'!DX24+RTM!DR24 -> 0 | CI24: ='Day Ahead IEX PXIL'!HE24+'OA&GRIDCO'!DI24+RTM!GY24 -> 1.03 | CJ24: ='Day Ahead IEX PXIL'!HF24+'OA&GRIDCO'!DJ24 -> 0 | CK24: ='OA&GRIDCO'!KU24+'Day Ahead IEX PXIL'!DE24 -> 0 | CL24: ='OA&GRIDCO'!KV24+'Day Ahead IEX PXIL'!DF24 -> 0 | CM24: ='Day Ahead IEX PXIL'!FS24+RTM!FS24 -> 0 | CN24: ='Day Ahead IEX PXIL'!FT24 -> 0 | CO24: =RTM!IY24+'Day Ahead IEX PXIL'!IU24 -> 0 | CP24: =RTM!IZ24+'Day Ahead IEX PXIL'!IV24 -> 0 | CQ24: ='OA&GRIDCO'!KI24+'Day Ahead IEX PXIL'!FM24+RTM!GE24 -> 0 | CR24: ='OA&GRIDCO'!KJ24+'Day Ahead IEX PXIL'!FN24 -> 0 | CS24: ='OA&GRIDCO'!KO24+'Day Ahead IEX PXIL'!FY24+RTM!FY24 -> 0 | CT24: ='Day Ahead IEX PXIL'!FZ24 -> 0 | CU24: 0 | CV24: ='Day Ahead IEX PXIL'!GF24 -> 0 | CW24: ='OA&GRIDCO'!HU24+'Day Ahead IEX PXIL'!EC24+RTM!DW24 -> 400 | CX24: ='OA&GRIDCO'!HV24+'Day Ahead IEX PXIL'!ED24+RTM!DX24 -> 0 | CY24: ='OA&GRIDCO'!IG24+'Day Ahead IEX PXIL'!EI24+RTM!EC24 -> 4.3 | CZ24: ='OA&GRIDCO'!IH24+'Day Ahead IEX PXIL'!EJ24+RTM!ED24 -> 1.075 | DA24: ='OA&GRIDCO'!IU24+'Day Ahead IEX PXIL'!EO24+RTM!EI24 -> 0 | DB24: ='OA&GRIDCO'!IV24+'Day Ahead IEX PXIL'!EP24+RTM!EJ24 -> 0 | DE24: ='Day Ahead IEX PXIL'!FC24+'OA&GRIDCO'!KC24+RTM!GM24 -> 0 | DF24: ='Day Ahead IEX PXIL'!FD24+'OA&GRIDCO'!KD24 -> 0 | DG24: ='OA&GRIDCO'!JG24+'Day Ahead IEX PXIL'!EU24+RTM!EO24 -> 26.8 | DH24: ='OA&GRIDCO'!JH24+'Day Ahead IEX PXIL'!EV24+RTM!EP24 -> 0 | DI24: 0 | DJ24: 0 | DK24: =RTM!FM24 -> 0 | DL24: =RTM!FN24 -> 0 | DM24: ='OA&GRIDCO'!LH24+'Day Ahead IEX PXIL'!HU24+'Day Ahead IEX PXIL'!HU24 -> 0 | DN24: ='OA&GRIDCO'!LJ24+'Day Ahead IEX PXIL'!HV24+RTM!GV24 -> 0 | DO24: ='OA&GRIDCO'!LU24+'Day Ahead IEX PXIL'!HO24+RTM!IU24 -> 54.795 | DP24: ='OA&GRIDCO'!LV24+'Day Ahead IEX PXIL'!HP24+RTM!IV24 -> 0 | DQ24: =RTM!HK24 -> 1.24 | DR24: =RTM!HL24 -> 0 | DS24: =RTM!HO24 -> 0 | DT24: =RTM!HP24 -> 0 | DU24: =RTM!HS24 -> 0 | DV24: =RTM!HT24 -> 0 | DW24: =RTM!HW24+'OA&GRIDCO'!MK24 -> 25.26 | DX24: =RTM!HX24 -> 0 | DY24: =RTM!IA24 -> 0 | DZ24: =RTM!IB24 -> 0 | EA24: =RTM!IC24 -> 0 | EB24: =RTM!ID24 -> 0 | EC24: ='OA&GRIDCO'!MQ24 -> 0 | ED24: ='OA&GRIDCO'!MR24 -> 0 | EE24: ='OA&GRIDCO'!MU24 -> 0 | EF24: ='OA&GRIDCO'!MV24 -> 0 | EG24: ='OA&GRIDCO'!MY24+'Day Ahead IEX PXIL'!IM24+GDAM!G24+RTM!II24 -> 0 | EH24: ='OA&GRIDCO'!MZ24+'Day Ahead IEX PXIL'!IN24+RTM!IJ24+GDAM!H24 -> 0 | EI24: ='Day Ahead IEX PXIL'!IQ24+RTM!IM24+'OA&GRIDCO'!NC24+GDAM!BO24 -> 0 | EJ24: ='Day Ahead IEX PXIL'!IR24+RTM!IN24+'OA&GRIDCO'!ND24 -> 0 | EK24: ='OA&GRIDCO'!NG24 -> 0 | EL24: ='OA&GRIDCO'!NH24 -> 0 | EM24: =RTM!IQ24 -> 0 | EN24: =RTM!IR24 -> 0 | EO24: =RTM!JC24 -> 0 | EP24: =RTM!JD24 -> 0 | EQ24: ='OA&GRIDCO'!NK24 -> 0 | ER24: ='OA&GRIDCO'!NL24 -> 0 | ES24: ='OA&GRIDCO'!NM24+RTM!HC24+'Day Ahead IEX PXIL'!IY24 -> 0 | ET24: ='OA&GRIDCO'!NP24+RTM!HD24+'Day Ahead IEX PXIL'!IZ24 -> 0 | EU24: =RTM!JG24 -> 1.55 | EV24: =RTM!JH24 -> 0 | EW24: =RTM!JK24 -> 0 | EX24: =RTM!JL24 -> 0 | EY24: =GDAM!S24+'OA&GRIDCO'!OM24+RTM!JO24 -> 0 | EZ24: =GDAM!T24+'OA&GRIDCO'!OD24+RTM!JP24 -> 0 | FA24: =GDAM!Y24+RTM!JS24 -> 0 | FB24: =GDAM!Z24+RTM!JT24 -> 0 | FC24: =RTM!JW24 -> 0 | FD24: =RTM!JX24 -> 0 | FE24: =GDAM!AE24+'OA&GRIDCO'!OU24 -> 0 | FF24: =GDAM!AF24+'OA&GRIDCO'!OV24 -> 0 | FG24: =GDAM!AK24 -> 0 | FH24: =GDAM!AL24 -> 0 | FI24: =GDAM!AQ24 -> 0 | FJ24: =GDAM!AR24 -> 0 | FK24: =GDAM!AW24 -> 0 | FL24: =GDAM!AX24 -> 0 | FM24: =GDAM!BC24 -> 0 | FN24: =GDAM!BD24 -> 0 | FO24: =GDAM!BI24 -> 0 | FP24: =GDAM!BJ24 -> 0 | FQ24: =C24+E24+G24+I24+K24+M24+O24+Q24+W24+Y24+AA24+AC24+AE24+AG24+AI24+AK24+AM24+AO24+AQ24+AS24+AU24+AW24+AY24+BA24+BC24+BE24+BG24+BI24+BK24+BM24+BO24+BQ24+BS24+BU24+BW24+BY24+CA24+CC24+CE24+CG24+CI24+CK24+CM24+CQ24+CS24+CU24+CW24+CY24+DA24+DC24+DE24+DG24+DI24+DK24+DM24+DO24+DQ24+DS24+DU24+DW24+DY24+EA24+EC24+EE24+EG24+EI24+EK24+CO24+EM24+EO24+EQ24+ES24+EU24+EW24+EY24+FA24+FC24+FE24+FG24+FI24+FK24+FM24+FO24 -> 1789.0887 | FR24: =D24+F24+H24+J24+L24+N24+P24+R24+X24+Z24+AB24+AD24+AF24+AH24+AJ24+AL24+AN24+AP24+AR24+AT24+AV24+AX24+AZ24+BB24+BD24+BH24+BJ24+BL24+BN24+BP24+BF24+BR24+BT24+BV24+BX24+BZ24+CB24+CD24+CF24+CH24+CJ24+CL24+CN24+CR24+CT24+CV24+CX24+CZ24+DB24+DD24+DF24+DH24+DJ24+DL24+DN24+DP24+DR24+DT24+DV24+DX24+DZ24+EB24+ED24+EF24+EH24+EJ24+EL24+EN24+CP24+EP24+ER24+ET24+EV24+EX24+EZ24+FB24+FD24+FF24+FH24+FJ24+FL24+FN24+FP24 -> 187.785
A25: 0330-0345 | B25: 15 | G25: 24 | H25: 0.9 | O25: 0 | Q25: 9 | R25: 0.85 | S25: 25 | U25: 37 | W25: 0 | Y25: 0 | AA25: 0 | AC25: 0 | AE25: ='OA&GRIDCO'!W25+'Day Ahead IEX PXIL'!M25+RTM!M25 -> 9.27 | AF25: ='OA&GRIDCO'!X25+'Day Ahead IEX PXIL'!N25+RTM!N25 -> 1.03 | AG25: ='OA&GRIDCO'!AC25+'Day Ahead IEX PXIL'!S25+RTM!S25 -> 1.86 | AH25: ='OA&GRIDCO'!AD25+'Day Ahead IEX PXIL'!T25+RTM!T25 -> 0 | AI25: ='OA&GRIDCO'!AU25+'Day Ahead IEX PXIL'!Y25+RTM!Y25 -> 115 | AJ25: ='OA&GRIDCO'!AV25+'Day Ahead IEX PXIL'!Z25+RTM!Z25 -> 34.5 | AK25: ='OA&GRIDCO'!BS25+'Day Ahead IEX PXIL'!AK25+RTM!AK25 -> 91.24 | AL25: ='OA&GRIDCO'!BT25+'Day Ahead IEX PXIL'!AL25+RTM!AL25 -> 7.12 | AM25: ='OA&GRIDCO'!BC25+'Day Ahead IEX PXIL'!AE25+RTM!AE25 -> 0 | AN25: ='OA&GRIDCO'!BD25+'Day Ahead IEX PXIL'!AF25+RTM!AF25 -> 0 | AO25: ='OA&GRIDCO'!CC25+'Day Ahead IEX PXIL'!AQ25+RTM!AQ25 -> 0 | AP25: ='OA&GRIDCO'!CD25+'Day Ahead IEX PXIL'!AR25+RTM!AR25 -> 0 | AQ25: ='OA&GRIDCO'!CO25+'Day Ahead IEX PXIL'!AW25+RTM!AW25 -> 45.08 | AR25: ='OA&GRIDCO'!CP25+'Day Ahead IEX PXIL'!AX25+RTM!AX25 -> 14 | AS25: ='OA&GRIDCO'!DA25+'Day Ahead IEX PXIL'!BC25+RTM!BC25 -> 329.77738 | AT25: ='OA&GRIDCO'!DB25+'Day Ahead IEX PXIL'!BD25+RTM!BD25 -> 0 | AU25: ='Day Ahead IEX PXIL'!BI25+RTM!BI25+'OA&GRIDCO'!OY25 -> 0 | AV25: ='Day Ahead IEX PXIL'!BJ25+RTM!BJ25+'OA&GRIDCO'!OZ25 -> 0 | AY25: 0 | AZ25: ='OA&GRIDCO'!DL25+'Day Ahead IEX PXIL'!BP25+RTM!BP25 -> 13.7 | BA25: ='OA&GRIDCO'!EC25+'Day Ahead IEX PXIL'!BU25+RTM!BU25 -> 0 | BB25: ='OA&GRIDCO'!ED25+'Day Ahead IEX PXIL'!BV25+RTM!BV25 -> 0 | BC25: ='OA&GRIDCO'!EQ25+'Day Ahead IEX PXIL'!CA25+RTM!CA25 -> 600 | BD25: ='OA&GRIDCO'!ER25+'Day Ahead IEX PXIL'!CB25+RTM!CB25 -> 103.61 | BE25: ='OA&GRIDCO'!OC25+GDAM!U25 -> 0 | BF25: ='OA&GRIDCO'!OD25+GDAM!V25 -> 0 | BI25: ='OA&GRIDCO'!EW25+'Day Ahead IEX PXIL'!CG25+RTM!CG25 -> 1.03 | BJ25: ='OA&GRIDCO'!EX25+'Day Ahead IEX PXIL'!CH25+RTM!CH25 -> 0 | BK25: ='OA&GRIDCO'!KY25+RTM!FG25+'Day Ahead IEX PXIL'!GW25 -> 0 | BL25: ='OA&GRIDCO'!KZ25+RTM!FH25+'Day Ahead IEX PXIL'!GX25 -> 0 | BM25: ='Day Ahead IEX PXIL'!CM25+RTM!CM25+'OA&GRIDCO'!FC25 -> 28 | BN25: ='OA&GRIDCO'!FD25+'Day Ahead IEX PXIL'!CN25+RTM!CN25 -> 0 | BQ25: ='OA&GRIDCO'!FQ25+'Day Ahead IEX PXIL'!CS25+RTM!CS25 -> 2.06 | BR25: ='OA&GRIDCO'!FR25+'Day Ahead IEX PXIL'!CT25+RTM!CT25 -> 0 | BS25: ='OA&GRIDCO'!JW25+'Day Ahead IEX PXIL'!FA25+RTM!EU25 -> 53.8863 | BT25: ='OA&GRIDCO'!JX25+'Day Ahead IEX PXIL'!FB25+RTM!EV25 -> 11 | BU25: ='OA&GRIDCO'!GG25+RTM!G25 -> 0 | BV25: ='OA&GRIDCO'!GH25 -> 0 | BW25: ='OA&GRIDCO'!HA25+'Day Ahead IEX PXIL'!DK25+RTM!DE25 -> 0 | BX25: ='OA&GRIDCO'!HB25 -> 0 | BY25: ='Day Ahead IEX PXIL'!GK25+RTM!FA25+'OA&GRIDCO'!LE25 -> 0 | BZ25: ='Day Ahead IEX PXIL'!GL25+RTM!FB25+'OA&GRIDCO'!LF25 -> 0 | CC25: =RTM!GI25+'Day Ahead IEX PXIL'!II25+GDAM!M25 -> 0 | CD25: =RTM!GJ25 -> 0 | CE25: ='OA&GRIDCO'!HI25+'Day Ahead IEX PXIL'!DQ25+RTM!DK25 -> 0 | CF25: ='OA&GRIDCO'!HJ25+'Day Ahead IEX PXIL'!DR25+RTM!DL25 -> 0 | CG25: ='OA&GRIDCO'!HO25+'Day Ahead IEX PXIL'!DW25+RTM!DQ25 -> 5.15 | CH25: ='OA&GRIDCO'!HP25+'Day Ahead IEX PXIL'!DX25+RTM!DR25 -> 0 | CI25: ='Day Ahead IEX PXIL'!HE25+'OA&GRIDCO'!DI25+RTM!GY25 -> 1.03 | CJ25: ='Day Ahead IEX PXIL'!HF25+'OA&GRIDCO'!DJ25 -> 0 | CK25: ='OA&GRIDCO'!KU25+'Day Ahead IEX PXIL'!DE25 -> 0 | CL25: ='OA&GRIDCO'!KV25+'Day Ahead IEX PXIL'!DF25 -> 0 | CM25: ='Day Ahead IEX PXIL'!FS25+RTM!FS25 -> 0 | CN25: ='Day Ahead IEX PXIL'!FT25 -> 0 | CO25: =RTM!IY25+'Day Ahead IEX PXIL'!IU25 -> 0 | CP25: =RTM!IZ25+'Day Ahead IEX PXIL'!IV25 -> 0 | CQ25: ='OA&GRIDCO'!KI25+'Day Ahead IEX PXIL'!FM25+RTM!GE25 -> 0 | CR25: ='OA&GRIDCO'!KJ25+'Day Ahead IEX PXIL'!FN25 -> 0 | CS25: ='OA&GRIDCO'!KO25+'Day Ahead IEX PXIL'!FY25+RTM!FY25 -> 0 | CT25: ='Day Ahead IEX PXIL'!FZ25 -> 0 | CU25: 0 | CV25: ='Day Ahead IEX PXIL'!GF25 -> 0 | CW25: ='OA&GRIDCO'!HU25+'Day Ahead IEX PXIL'!EC25+RTM!DW25 -> 400 | CX25: ='OA&GRIDCO'!HV25+'Day Ahead IEX PXIL'!ED25+RTM!DX25 -> 0 | CY25: ='OA&GRIDCO'!IG25+'Day Ahead IEX PXIL'!EI25+RTM!EC25 -> 4.3 | CZ25: ='OA&GRIDCO'!IH25+'Day Ahead IEX PXIL'!EJ25+RTM!ED25 -> 1.075 | DA25: ='OA&GRIDCO'!IU25+'Day Ahead IEX PXIL'!EO25+RTM!EI25 -> 0 | DB25: ='OA&GRIDCO'!IV25+'Day Ahead IEX PXIL'!EP25+RTM!EJ25 -> 0 | DE25: ='Day Ahead IEX PXIL'!FC25+'OA&GRIDCO'!KC25+RTM!GM25 -> 0 | DF25: ='Day Ahead IEX PXIL'!FD25+'OA&GRIDCO'!KD25 -> 0 | DG25: ='OA&GRIDCO'!JG25+'Day Ahead IEX PXIL'!EU25+RTM!EO25 -> 26.8 | DH25: ='OA&GRIDCO'!JH25+'Day Ahead IEX PXIL'!EV25+RTM!EP25 -> 0 | DI25: 0 | DJ25: 0 | DK25: =RTM!FM25 -> 0 | DL25: =RTM!FN25 -> 0 | DM25: ='OA&GRIDCO'!LH25+'Day Ahead IEX PXIL'!HU25+'Day Ahead IEX PXIL'!HU25 -> 0 | DN25: ='OA&GRIDCO'!LJ25+'Day Ahead IEX PXIL'!HV25+RTM!GV25 -> 0 | DO25: ='OA&GRIDCO'!LU25+'Day Ahead IEX PXIL'!HO25+RTM!IU25 -> 54.795 | DP25: ='OA&GRIDCO'!LV25+'Day Ahead IEX PXIL'!HP25+RTM!IV25 -> 0 | DQ25: =RTM!HK25 -> 1.24 | DR25: =RTM!HL25 -> 0 | DS25: =RTM!HO25 -> 0 | DT25: =RTM!HP25 -> 0 | DU25: =RTM!HS25 -> 0 | DV25: =RTM!HT25 -> 0 | DW25: =RTM!HW25+'OA&GRIDCO'!MK25 -> 25.26 | DX25: =RTM!HX25 -> 0 | DY25: =RTM!IA25 -> 0 | DZ25: =RTM!IB25 -> 0 | EA25: =RTM!IC25 -> 0 | EB25: =RTM!ID25 -> 0 | EC25: ='OA&GRIDCO'!MQ25 -> 0 | ED25: ='OA&GRIDCO'!MR25 -> 0 | EE25: ='OA&GRIDCO'!MU25 -> 0 | EF25: ='OA&GRIDCO'!MV25 -> 0 | EG25: ='OA&GRIDCO'!MY25+'Day Ahead IEX PXIL'!IM25+GDAM!G25+RTM!II25 -> 0 | EH25: ='OA&GRIDCO'!MZ25+'Day Ahead IEX PXIL'!IN25+RTM!IJ25+GDAM!H25 -> 0 | EI25: ='Day Ahead IEX PXIL'!IQ25+RTM!IM25+'OA&GRIDCO'!NC25+GDAM!BO25 -> 0 | EJ25: ='Day Ahead IEX PXIL'!IR25+RTM!IN25+'OA&GRIDCO'!ND25 -> 0 | EK25: ='OA&GRIDCO'!NG25 -> 0 | EL25: ='OA&GRIDCO'!NH25 -> 0 | EM25: =RTM!IQ25 -> 0 | EN25: =RTM!IR25 -> 0 | EO25: =RTM!JC25 -> 0 | EP25: =RTM!JD25 -> 0 | EQ25: ='OA&GRIDCO'!NK25 -> 0 | ER25: ='OA&GRIDCO'!NL25 -> 0 | ES25: ='OA&GRIDCO'!NM25+RTM!HC25+'Day Ahead IEX PXIL'!IY25 -> 0 | ET25: ='OA&GRIDCO'!NP25+RTM!HD25+'Day Ahead IEX PXIL'!IZ25 -> 0 | EU25: =RTM!JG25 -> 1.55 | EV25: =RTM!JH25 -> 0 | EW25: =RTM!JK25 -> 0 | EX25: =RTM!JL25 -> 0 | EY25: =GDAM!S25+'OA&GRIDCO'!OM25+RTM!JO25 -> 0 | EZ25: =GDAM!T25+'OA&GRIDCO'!OD25+RTM!JP25 -> 0 | FA25: =GDAM!Y25+RTM!JS25 -> 0 | FB25: =GDAM!Z25+RTM!JT25 -> 0 | FC25: =RTM!JW25 -> 0 | FD25: =RTM!JX25 -> 0 | FE25: =GDAM!AE25+'OA&GRIDCO'!OU25 -> 0 | FF25: =GDAM!AF25+'OA&GRIDCO'!OV25 -> 0 | FG25: =GDAM!AK25 -> 0 | FH25: =GDAM!AL25 -> 0 | FI25: =GDAM!AQ25 -> 0 | FJ25: =GDAM!AR25 -> 0 | FK25: =GDAM!AW25 -> 0 | FL25: =GDAM!AX25 -> 0 | FM25: =GDAM!BC25 -> 0 | FN25: =GDAM!BD25 -> 0 | FO25: =GDAM!BI25 -> 0 | FP25: =GDAM!BJ25 -> 0 | FQ25: =C25+E25+G25+I25+K25+M25+O25+Q25+W25+Y25+AA25+AC25+AE25+AG25+AI25+AK25+AM25+AO25+AQ25+AS25+AU25+AW25+AY25+BA25+BC25+BE25+BG25+BI25+BK25+BM25+BO25+BQ25+BS25+BU25+BW25+BY25+CA25+CC25+CE25+CG25+CI25+CK25+CM25+CQ25+CS25+CU25+CW25+CY25+DA25+DC25+DE25+DG25+DI25+DK25+DM25+DO25+DQ25+DS25+DU25+DW25+DY25+EA25+EC25+EE25+EG25+EI25+EK25+CO25+EM25+EO25+EQ25+ES25+EU25+EW25+EY25+FA25+FC25+FE25+FG25+FI25+FK25+FM25+FO25 -> 1830.3287 | FR25: =D25+F25+H25+J25+L25+N25+P25+R25+X25+Z25+AB25+AD25+AF25+AH25+AJ25+AL25+AN25+AP25+AR25+AT25+AV25+AX25+AZ25+BB25+BD25+BH25+BJ25+BL25+BN25+BP25+BF25+BR25+BT25+BV25+BX25+BZ25+CB25+CD25+CF25+CH25+CJ25+CL25+CN25+CR25+CT25+CV25+CX25+CZ25+DB25+DD25+DF25+DH25+DJ25+DL25+DN25+DP25+DR25+DT25+DV25+DX25+DZ25+EB25+ED25+EF25+EH25+EJ25+EL25+EN25+CP25+EP25+ER25+ET25+EV25+EX25+EZ25+FB25+FD25+FF25+FH25+FJ25+FL25+FN25+FP25 -> 187.785
A26: 0345-0400 | B26: 16 | G26: 24 | H26: 0.9 | O26: 0 | Q26: 9 | R26: 0.85 | S26: 25 | U26: 37 | W26: 0 | Y26: 0 | AA26: 0 | AC26: 0 | AE26: ='OA&GRIDCO'!W26+'Day Ahead IEX PXIL'!M26+RTM!M26 -> 9.27 | AF26: ='OA&GRIDCO'!X26+'Day Ahead IEX PXIL'!N26+RTM!N26 -> 1.03 | AG26: ='OA&GRIDCO'!AC26+'Day Ahead IEX PXIL'!S26+RTM!S26 -> 1.86 | AH26: ='OA&GRIDCO'!AD26+'Day Ahead IEX PXIL'!T26+RTM!T26 -> 0 | AI26: ='OA&GRIDCO'!AU26+'Day Ahead IEX PXIL'!Y26+RTM!Y26 -> 115 | AJ26: ='OA&GRIDCO'!AV26+'Day Ahead IEX PXIL'!Z26+RTM!Z26 -> 34.5 | AK26: ='OA&GRIDCO'!BS26+'Day Ahead IEX PXIL'!AK26+RTM!AK26 -> 60.31 | AL26: ='OA&GRIDCO'!BT26+'Day Ahead IEX PXIL'!AL26+RTM!AL26 -> 7.12 | AM26: ='OA&GRIDCO'!BC26+'Day Ahead IEX PXIL'!AE26+RTM!AE26 -> 0 | AN26: ='OA&GRIDCO'!BD26+'Day Ahead IEX PXIL'!AF26+RTM!AF26 -> 0 | AO26: ='OA&GRIDCO'!CC26+'Day Ahead IEX PXIL'!AQ26+RTM!AQ26 -> 0 | AP26: ='OA&GRIDCO'!CD26+'Day Ahead IEX PXIL'!AR26+RTM!AR26 -> 0 | AQ26: ='OA&GRIDCO'!CO26+'Day Ahead IEX PXIL'!AW26+RTM!AW26 -> 45.08 | AR26: ='OA&GRIDCO'!CP26+'Day Ahead IEX PXIL'!AX26+RTM!AX26 -> 14 | AS26: ='OA&GRIDCO'!DA26+'Day Ahead IEX PXIL'!BC26+RTM!BC26 -> 329.77738 | AT26: ='OA&GRIDCO'!DB26+'Day Ahead IEX PXIL'!BD26+RTM!BD26 -> 0 | AU26: ='Day Ahead IEX PXIL'!BI26+RTM!BI26+'OA&GRIDCO'!OY26 -> 0 | AV26: ='Day Ahead IEX PXIL'!BJ26+RTM!BJ26+'OA&GRIDCO'!OZ26 -> 0 | AY26: 0 | AZ26: ='OA&GRIDCO'!DL26+'Day Ahead IEX PXIL'!BP26+RTM!BP26 -> 13.7 | BA26: ='OA&GRIDCO'!EC26+'Day Ahead IEX PXIL'!BU26+RTM!BU26 -> 0 | BB26: ='OA&GRIDCO'!ED26+'Day Ahead IEX PXIL'!BV26+RTM!BV26 -> 0 | BC26: ='OA&GRIDCO'!EQ26+'Day Ahead IEX PXIL'!CA26+RTM!CA26 -> 600 | BD26: ='OA&GRIDCO'!ER26+'Day Ahead IEX PXIL'!CB26+RTM!CB26 -> 103.61 | BE26: ='OA&GRIDCO'!OC26+GDAM!U26 -> 0 | BF26: ='OA&GRIDCO'!OD26+GDAM!V26 -> 0 | BI26: ='OA&GRIDCO'!EW26+'Day Ahead IEX PXIL'!CG26+RTM!CG26 -> 1.03 | BJ26: ='OA&GRIDCO'!EX26+'Day Ahead IEX PXIL'!CH26+RTM!CH26 -> 0 | BK26: ='OA&GRIDCO'!KY26+RTM!FG26+'Day Ahead IEX PXIL'!GW26 -> 0 | BL26: ='OA&GRIDCO'!KZ26+RTM!FH26+'Day Ahead IEX PXIL'!GX26 -> 0 | BM26: ='Day Ahead IEX PXIL'!CM26+RTM!CM26+'OA&GRIDCO'!FC26 -> 28 | BN26: ='OA&GRIDCO'!FD26+'Day Ahead IEX PXIL'!CN26+RTM!CN26 -> 0 | BQ26: ='OA&GRIDCO'!FQ26+'Day Ahead IEX PXIL'!CS26+RTM!CS26 -> 2.06 | BR26: ='OA&GRIDCO'!FR26+'Day Ahead IEX PXIL'!CT26+RTM!CT26 -> 0 | BS26: ='OA&GRIDCO'!JW26+'Day Ahead IEX PXIL'!FA26+RTM!EU26 -> 53.8863 | BT26: ='OA&GRIDCO'!JX26+'Day Ahead IEX PXIL'!FB26+RTM!EV26 -> 11 | BU26: ='OA&GRIDCO'!GG26+RTM!G26 -> 0 | BV26: ='OA&GRIDCO'!GH26 -> 0 | BW26: ='OA&GRIDCO'!HA26+'Day Ahead IEX PXIL'!DK26+RTM!DE26 -> 0 | BX26: ='OA&GRIDCO'!HB26 -> 0 | BY26: ='Day Ahead IEX PXIL'!GK26+RTM!FA26+'OA&GRIDCO'!LE26 -> 0 | BZ26: ='Day Ahead IEX PXIL'!GL26+RTM!FB26+'OA&GRIDCO'!LF26 -> 0 | CC26: =RTM!GI26+'Day Ahead IEX PXIL'!II26+GDAM!M26 -> 0 | CD26: =RTM!GJ26 -> 0 | CE26: ='OA&GRIDCO'!HI26+'Day Ahead IEX PXIL'!DQ26+RTM!DK26 -> 0 | CF26: ='OA&GRIDCO'!HJ26+'Day Ahead IEX PXIL'!DR26+RTM!DL26 -> 0 | CG26: ='OA&GRIDCO'!HO26+'Day Ahead IEX PXIL'!DW26+RTM!DQ26 -> 5.15 | CH26: ='OA&GRIDCO'!HP26+'Day Ahead IEX PXIL'!DX26+RTM!DR26 -> 0 | CI26: ='Day Ahead IEX PXIL'!HE26+'OA&GRIDCO'!DI26+RTM!GY26 -> 1.03 | CJ26: ='Day Ahead IEX PXIL'!HF26+'OA&GRIDCO'!DJ26 -> 0 | CK26: ='OA&GRIDCO'!KU26+'Day Ahead IEX PXIL'!DE26 -> 0 | CL26: ='OA&GRIDCO'!KV26+'Day Ahead IEX PXIL'!DF26 -> 0 | CM26: ='Day Ahead IEX PXIL'!FS26+RTM!FS26 -> 0 | CN26: ='Day Ahead IEX PXIL'!FT26 -> 0 | CO26: =RTM!IY26+'Day Ahead IEX PXIL'!IU26 -> 0 | CP26: =RTM!IZ26+'Day Ahead IEX PXIL'!IV26 -> 0 | CQ26: ='OA&GRIDCO'!KI26+'Day Ahead IEX PXIL'!FM26+RTM!GE26 -> 0 | CR26: ='OA&GRIDCO'!KJ26+'Day Ahead IEX PXIL'!FN26 -> 0 | CS26: ='OA&GRIDCO'!KO26+'Day Ahead IEX PXIL'!FY26+RTM!FY26 -> 0 | CT26: ='Day Ahead IEX PXIL'!FZ26 -> 0 | CU26: 0 | CV26: ='Day Ahead IEX PXIL'!GF26 -> 0 | CW26: ='OA&GRIDCO'!HU26+'Day Ahead IEX PXIL'!EC26+RTM!DW26 -> 400 | CX26: ='OA&GRIDCO'!HV26+'Day Ahead IEX PXIL'!ED26+RTM!DX26 -> 0 | CY26: ='OA&GRIDCO'!IG26+'Day Ahead IEX PXIL'!EI26+RTM!EC26 -> 4.3 | CZ26: ='OA&GRIDCO'!IH26+'Day Ahead IEX PXIL'!EJ26+RTM!ED26 -> 1.075 | DA26: ='OA&GRIDCO'!IU26+'Day Ahead IEX PXIL'!EO26+RTM!EI26 -> 0 | DB26: ='OA&GRIDCO'!IV26+'Day Ahead IEX PXIL'!EP26+RTM!EJ26 -> 0 | DE26: ='Day Ahead IEX PXIL'!FC26+'OA&GRIDCO'!KC26+RTM!GM26 -> 0 | DF26: ='Day Ahead IEX PXIL'!FD26+'OA&GRIDCO'!KD26 -> 0 | DG26: ='OA&GRIDCO'!JG26+'Day Ahead IEX PXIL'!EU26+RTM!EO26 -> 26.8 | DH26: ='OA&GRIDCO'!JH26+'Day Ahead IEX PXIL'!EV26+RTM!EP26 -> 0 | DI26: 0 | DJ26: 0 | DK26: =RTM!FM26 -> 0 | DL26: =RTM!FN26 -> 0 | DM26: ='OA&GRIDCO'!LH26+'Day Ahead IEX PXIL'!HU26+'Day Ahead IEX PXIL'!HU26 -> 0 | DN26: ='OA&GRIDCO'!LJ26+'Day Ahead IEX PXIL'!HV26+RTM!GV26 -> 0 | DO26: ='OA&GRIDCO'!LU26+'Day Ahead IEX PXIL'!HO26+RTM!IU26 -> 54.795 | DP26: ='OA&GRIDCO'!LV26+'Day Ahead IEX PXIL'!HP26+RTM!IV26 -> 0 | DQ26: =RTM!HK26 -> 1.24 | DR26: =RTM!HL26 -> 0 | DS26: =RTM!HO26 -> 0 | DT26: =RTM!HP26 -> 0 | DU26: =RTM!HS26 -> 0 | DV26: =RTM!HT26 -> 0 | DW26: =RTM!HW26+'OA&GRIDCO'!MK26 -> 25.26 | DX26: =RTM!HX26 -> 0 | DY26: =RTM!IA26 -> 0 | DZ26: =RTM!IB26 -> 0 | EA26: =RTM!IC26 -> 0 | EB26: =RTM!ID26 -> 0 | EC26: ='OA&GRIDCO'!MQ26 -> 0 | ED26: ='OA&GRIDCO'!MR26 -> 0 | EE26: ='OA&GRIDCO'!MU26 -> 0 | EF26: ='OA&GRIDCO'!MV26 -> 0 | EG26: ='OA&GRIDCO'!MY26+'Day Ahead IEX PXIL'!IM26+GDAM!G26+RTM!II26 -> 0 | EH26: ='OA&GRIDCO'!MZ26+'Day Ahead IEX PXIL'!IN26+RTM!IJ26+GDAM!H26 -> 0 | EI26: ='Day Ahead IEX PXIL'!IQ26+RTM!IM26+'OA&GRIDCO'!NC26+GDAM!BO26 -> 0 | EJ26: ='Day Ahead IEX PXIL'!IR26+RTM!IN26+'OA&GRIDCO'!ND26 -> 0 | EK26: ='OA&GRIDCO'!NG26 -> 0 | EL26: ='OA&GRIDCO'!NH26 -> 0 | EM26: =RTM!IQ26 -> 0 | EN26: =RTM!IR26 -> 0 | EO26: =RTM!JC26 -> 0 | EP26: =RTM!JD26 -> 0 | EQ26: ='OA&GRIDCO'!NK26 -> 0 | ER26: ='OA&GRIDCO'!NL26 -> 0 | ES26: ='OA&GRIDCO'!NM26+RTM!HC26+'Day Ahead IEX PXIL'!IY26 -> 0 | ET26: ='OA&GRIDCO'!NP26+RTM!HD26+'Day Ahead IEX PXIL'!IZ26 -> 0 | EU26: =RTM!JG26 -> 1.55 | EV26: =RTM!JH26 -> 0 | EW26: =RTM!JK26 -> 0 | EX26: =RTM!JL26 -> 0 | EY26: =GDAM!S26+'OA&GRIDCO'!OM26+RTM!JO26 -> 0 | EZ26: =GDAM!T26+'OA&GRIDCO'!OD26+RTM!JP26 -> 0 | FA26: =GDAM!Y26+RTM!JS26 -> 0 | FB26: =GDAM!Z26+RTM!JT26 -> 0 | FC26: =RTM!JW26 -> 0 | FD26: =RTM!JX26 -> 0 | FE26: =GDAM!AE26+'OA&GRIDCO'!OU26 -> 0 | FF26: =GDAM!AF26+'OA&GRIDCO'!OV26 -> 0 | FG26: =GDAM!AK26 -> 0 | FH26: =GDAM!AL26 -> 0 | FI26: =GDAM!AQ26 -> 0 | FJ26: =GDAM!AR26 -> 0 | FK26: =GDAM!AW26 -> 0 | FL26: =GDAM!AX26 -> 0 | FM26: =GDAM!BC26 -> 0 | FN26: =GDAM!BD26 -> 0 | FO26: =GDAM!BI26 -> 0 | FP26: =GDAM!BJ26 -> 0 | FQ26: =C26+E26+G26+I26+K26+M26+O26+Q26+W26+Y26+AA26+AC26+AE26+AG26+AI26+AK26+AM26+AO26+AQ26+AS26+AU26+AW26+AY26+BA26+BC26+BE26+BG26+BI26+BK26+BM26+BO26+BQ26+BS26+BU26+BW26+BY26+CA26+CC26+CE26+CG26+CI26+CK26+CM26+CQ26+CS26+CU26+CW26+CY26+DA26+DC26+DE26+DG26+DI26+DK26+DM26+DO26+DQ26+DS26+DU26+DW26+DY26+EA26+EC26+EE26+EG26+EI26+EK26+CO26+EM26+EO26+EQ26+ES26+EU26+EW26+EY26+FA26+FC26+FE26+FG26+FI26+FK26+FM26+FO26 -> 1799.3987 | FR26: =D26+F26+H26+J26+L26+N26+P26+R26+X26+Z26+AB26+AD26+AF26+AH26+AJ26+AL26+AN26+AP26+AR26+AT26+AV26+AX26+AZ26+BB26+BD26+BH26+BJ26+BL26+BN26+BP26+BF26+BR26+BT26+BV26+BX26+BZ26+CB26+CD26+CF26+CH26+CJ26+CL26+CN26+CR26+CT26+CV26+CX26+CZ26+DB26+DD26+DF26+DH26+DJ26+DL26+DN26+DP26+DR26+DT26+DV26+DX26+DZ26+EB26+ED26+EF26+EH26+EJ26+EL26+EN26+CP26+EP26+ER26+ET26+EV26+EX26+EZ26+FB26+FD26+FF26+FH26+FJ26+FL26+FN26+FP26 -> 187.785
A27: 0400-0415 | B27: 17 | G27: 24 | H27: 0.9 | O27: 0 | Q27: 9 | R27: 0.85 | S27: 25 | U27: 37 | W27: 0 | Y27: 0 | AA27: 0 | AC27: 0 | AE27: ='OA&GRIDCO'!W27+'Day Ahead IEX PXIL'!M27+RTM!M27 -> 22.68 | AF27: ='OA&GRIDCO'!X27+'Day Ahead IEX PXIL'!N27+RTM!N27 -> 1.03 | AG27: ='OA&GRIDCO'!AC27+'Day Ahead IEX PXIL'!S27+RTM!S27 -> 1.86 | AH27: ='OA&GRIDCO'!AD27+'Day Ahead IEX PXIL'!T27+RTM!T27 -> 0 | AI27: ='OA&GRIDCO'!AU27+'Day Ahead IEX PXIL'!Y27+RTM!Y27 -> 115 | AJ27: ='OA&GRIDCO'!AV27+'Day Ahead IEX PXIL'!Z27+RTM!Z27 -> 34.5 | AK27: ='OA&GRIDCO'!BS27+'Day Ahead IEX PXIL'!AK27+RTM!AK27 -> 70.62 | AL27: ='OA&GRIDCO'!BT27+'Day Ahead IEX PXIL'!AL27+RTM!AL27 -> 7.12 | AM27: ='OA&GRIDCO'!BC27+'Day Ahead IEX PXIL'!AE27+RTM!AE27 -> 0 | AN27: ='OA&GRIDCO'!BD27+'Day Ahead IEX PXIL'!AF27+RTM!AF27 -> 0 | AO27: ='OA&GRIDCO'!CC27+'Day Ahead IEX PXIL'!AQ27+RTM!AQ27 -> 0 | AP27: ='OA&GRIDCO'!CD27+'Day Ahead IEX PXIL'!AR27+RTM!AR27 -> 0 | AQ27: ='OA&GRIDCO'!CO27+'Day Ahead IEX PXIL'!AW27+RTM!AW27 -> 45.08 | AR27: ='OA&GRIDCO'!CP27+'Day Ahead IEX PXIL'!AX27+RTM!AX27 -> 14 | AS27: ='OA&GRIDCO'!DA27+'Day Ahead IEX PXIL'!BC27+RTM!BC27 -> 329.77738 | AT27: ='OA&GRIDCO'!DB27+'Day Ahead IEX PXIL'!BD27+RTM!BD27 -> 0 | AU27: ='Day Ahead IEX PXIL'!BI27+RTM!BI27+'OA&GRIDCO'!OY27 -> 0 | AV27: ='Day Ahead IEX PXIL'!BJ27+RTM!BJ27+'OA&GRIDCO'!OZ27 -> 0 | AY27: 0 | AZ27: ='OA&GRIDCO'!DL27+'Day Ahead IEX PXIL'!BP27+RTM!BP27 -> 13.7 | BA27: ='OA&GRIDCO'!EC27+'Day Ahead IEX PXIL'!BU27+RTM!BU27 -> 0 | BB27: ='OA&GRIDCO'!ED27+'Day Ahead IEX PXIL'!BV27+RTM!BV27 -> 0 | BC27: ='OA&GRIDCO'!EQ27+'Day Ahead IEX PXIL'!CA27+RTM!CA27 -> 600 | BD27: ='OA&GRIDCO'!ER27+'Day Ahead IEX PXIL'!CB27+RTM!CB27 -> 103.61 | BE27: ='OA&GRIDCO'!OC27+GDAM!U27 -> 0 | BF27: ='OA&GRIDCO'!OD27+GDAM!V27 -> 0 | BI27: ='OA&GRIDCO'!EW27+'Day Ahead IEX PXIL'!CG27+RTM!CG27 -> 1.03 | BJ27: ='OA&GRIDCO'!EX27+'Day Ahead IEX PXIL'!CH27+RTM!CH27 -> 0 | BK27: ='OA&GRIDCO'!KY27+RTM!FG27+'Day Ahead IEX PXIL'!GW27 -> 0 | BL27: ='OA&GRIDCO'!KZ27+RTM!FH27+'Day Ahead IEX PXIL'!GX27 -> 0 | BM27: ='Day Ahead IEX PXIL'!CM27+RTM!CM27+'OA&GRIDCO'!FC27 -> 28 | BN27: ='OA&GRIDCO'!FD27+'Day Ahead IEX PXIL'!CN27+RTM!CN27 -> 0 | BQ27: ='OA&GRIDCO'!FQ27+'Day Ahead IEX PXIL'!CS27+RTM!CS27 -> 2.06 | BR27: ='OA&GRIDCO'!FR27+'Day Ahead IEX PXIL'!CT27+RTM!CT27 -> 0 | BS27: ='OA&GRIDCO'!JW27+'Day Ahead IEX PXIL'!FA27+RTM!EU27 -> 53.8863 | BT27: ='OA&GRIDCO'!JX27+'Day Ahead IEX PXIL'!FB27+RTM!EV27 -> 11 | BU27: ='OA&GRIDCO'!GG27+RTM!G27 -> 0 | BV27: ='OA&GRIDCO'!GH27 -> 0 | BW27: ='OA&GRIDCO'!HA27+'Day Ahead IEX PXIL'!DK27+RTM!DE27 -> 0 | BX27: ='OA&GRIDCO'!HB27 -> 0 | BY27: ='Day Ahead IEX PXIL'!GK27+RTM!FA27+'OA&GRIDCO'!LE27 -> 0 | BZ27: ='Day Ahead IEX PXIL'!GL27+RTM!FB27+'OA&GRIDCO'!LF27 -> 0 | CC27: =RTM!GI27+'Day Ahead IEX PXIL'!II27+GDAM!M27 -> 0 | CD27: =RTM!GJ27 -> 0 | CE27: ='OA&GRIDCO'!HI27+'Day Ahead IEX PXIL'!DQ27+RTM!DK27 -> 0 | CF27: ='OA&GRIDCO'!HJ27+'Day Ahead IEX PXIL'!DR27+RTM!DL27 -> 0 | CG27: ='OA&GRIDCO'!HO27+'Day Ahead IEX PXIL'!DW27+RTM!DQ27 -> 5.15 | CH27: ='OA&GRIDCO'!HP27+'Day Ahead IEX PXIL'!DX27+RTM!DR27 -> 0 | CI27: ='Day Ahead IEX PXIL'!HE27+'OA&GRIDCO'!DI27+RTM!GY27 -> 1.03 | CJ27: ='Day Ahead IEX PXIL'!HF27+'OA&GRIDCO'!DJ27 -> 0 | CK27: ='OA&GRIDCO'!KU27+'Day Ahead IEX PXIL'!DE27 -> 0 | CL27: ='OA&GRIDCO'!KV27+'Day Ahead IEX PXIL'!DF27 -> 0 | CM27: ='Day Ahead IEX PXIL'!FS27+RTM!FS27 -> 0 | CN27: ='Day Ahead IEX PXIL'!FT27 -> 0 | CO27: =RTM!IY27+'Day Ahead IEX PXIL'!IU27 -> 0 | CP27: =RTM!IZ27+'Day Ahead IEX PXIL'!IV27 -> 0 | CQ27: ='OA&GRIDCO'!KI27+'Day Ahead IEX PXIL'!FM27+RTM!GE27 -> 0 | CR27: ='OA&GRIDCO'!KJ27+'Day Ahead IEX PXIL'!FN27 -> 0 | CS27: ='OA&GRIDCO'!KO27+'Day Ahead IEX PXIL'!FY27+RTM!FY27 -> 0 | CT27: ='Day Ahead IEX PXIL'!FZ27 -> 0 | CU27: 0 | CV27: ='Day Ahead IEX PXIL'!GF27 -> 0 | CW27: ='OA&GRIDCO'!HU27+'Day Ahead IEX PXIL'!EC27+RTM!DW27 -> 400 | CX27: ='OA&GRIDCO'!HV27+'Day Ahead IEX PXIL'!ED27+RTM!DX27 -> 0 | CY27: ='OA&GRIDCO'!IG27+'Day Ahead IEX PXIL'!EI27+RTM!EC27 -> 4.3 | CZ27: ='OA&GRIDCO'!IH27+'Day Ahead IEX PXIL'!EJ27+RTM!ED27 -> 1.075 | DA27: ='OA&GRIDCO'!IU27+'Day Ahead IEX PXIL'!EO27+RTM!EI27 -> 0 | DB27: ='OA&GRIDCO'!IV27+'Day Ahead IEX PXIL'!EP27+RTM!EJ27 -> 0 | DE27: ='Day Ahead IEX PXIL'!FC27+'OA&GRIDCO'!KC27+RTM!GM27 -> 0 | DF27: ='Day Ahead IEX PXIL'!FD27+'OA&GRIDCO'!KD27 -> 0 | DG27: ='OA&GRIDCO'!JG27+'Day Ahead IEX PXIL'!EU27+RTM!EO27 -> 26.8 | DH27: ='OA&GRIDCO'!JH27+'Day Ahead IEX PXIL'!EV27+RTM!EP27 -> 0 | DI27: 0 | DJ27: 0 | DK27: =RTM!FM27 -> 0 | DL27: =RTM!FN27 -> 0 | DM27: ='OA&GRIDCO'!LH27+'Day Ahead IEX PXIL'!HU27+'Day Ahead IEX PXIL'!HU27 -> 0 | DN27: ='OA&GRIDCO'!LJ27+'Day Ahead IEX PXIL'!HV27+RTM!GV27 -> 0 | DO27: ='OA&GRIDCO'!LU27+'Day Ahead IEX PXIL'!HO27+RTM!IU27 -> 54.795 | DP27: ='OA&GRIDCO'!LV27+'Day Ahead IEX PXIL'!HP27+RTM!IV27 -> 0 | DQ27: =RTM!HK27 -> 1.24 | DR27: =RTM!HL27 -> 0 | DS27: =RTM!HO27 -> 0 | DT27: =RTM!HP27 -> 0 | DU27: =RTM!HS27 -> 0 | DV27: =RTM!HT27 -> 0 | DW27: =RTM!HW27+'OA&GRIDCO'!MK27 -> 25.26 | DX27: =RTM!HX27 -> 0 | DY27: =RTM!IA27 -> 0 | DZ27: =RTM!IB27 -> 0 | EA27: =RTM!IC27 -> 0 | EB27: =RTM!ID27 -> 0 | EC27: ='OA&GRIDCO'!MQ27 -> 0 | ED27: ='OA&GRIDCO'!MR27 -> 0 | EE27: ='OA&GRIDCO'!MU27 -> 0 | EF27: ='OA&GRIDCO'!MV27 -> 0 | EG27: ='OA&GRIDCO'!MY27+'Day Ahead IEX PXIL'!IM27+GDAM!G27+RTM!II27 -> 0 | EH27: ='OA&GRIDCO'!MZ27+'Day Ahead IEX PXIL'!IN27+RTM!IJ27+GDAM!H27 -> 0 | EI27: ='Day Ahead IEX PXIL'!IQ27+RTM!IM27+'OA&GRIDCO'!NC27+GDAM!BO27 -> 0 | EJ27: ='Day Ahead IEX PXIL'!IR27+RTM!IN27+'OA&GRIDCO'!ND27 -> 0 | EK27: ='OA&GRIDCO'!NG27 -> 0 | EL27: ='OA&GRIDCO'!NH27 -> 0 | EM27: =RTM!IQ27 -> 0 | EN27: =RTM!IR27 -> 0 | EO27: =RTM!JC27 -> 0 | EP27: =RTM!JD27 -> 0 | EQ27: ='OA&GRIDCO'!NK27 -> 0 | ER27: ='OA&GRIDCO'!NL27 -> 0 | ES27: ='OA&GRIDCO'!NM27+RTM!HC27+'Day Ahead IEX PXIL'!IY27 -> 0 | ET27: ='OA&GRIDCO'!NP27+RTM!HD27+'Day Ahead IEX PXIL'!IZ27 -> 0 | EU27: =RTM!JG27 -> 1.55 | EV27: =RTM!JH27 -> 0 | EW27: =RTM!JK27 -> 0 | EX27: =RTM!JL27 -> 0 | EY27: =GDAM!S27+'OA&GRIDCO'!OM27+RTM!JO27 -> 0 | EZ27: =GDAM!T27+'OA&GRIDCO'!OD27+RTM!JP27 -> 0 | FA27: =GDAM!Y27+RTM!JS27 -> 0 | FB27: =GDAM!Z27+RTM!JT27 -> 0 | FC27: =RTM!JW27 -> 0 | FD27: =RTM!JX27 -> 0 | FE27: =GDAM!AE27+'OA&GRIDCO'!OU27 -> 0 | FF27: =GDAM!AF27+'OA&GRIDCO'!OV27 -> 0 | FG27: =GDAM!AK27 -> 0 | FH27: =GDAM!AL27 -> 0 | FI27: =GDAM!AQ27 -> 0 | FJ27: =GDAM!AR27 -> 0 | FK27: =GDAM!AW27 -> 0 | FL27: =GDAM!AX27 -> 0 | FM27: =GDAM!BC27 -> 0 | FN27: =GDAM!BD27 -> 0 | FO27: =GDAM!BI27 -> 0 | FP27: =GDAM!BJ27 -> 0 | FQ27: =C27+E27+G27+I27+K27+M27+O27+Q27+W27+Y27+AA27+AC27+AE27+AG27+AI27+AK27+AM27+AO27+AQ27+AS27+AU27+AW27+AY27+BA27+BC27+BE27+BG27+BI27+BK27+BM27+BO27+BQ27+BS27+BU27+BW27+BY27+CA27+CC27+CE27+CG27+CI27+CK27+CM27+CQ27+CS27+CU27+CW27+CY27+DA27+DC27+DE27+DG27+DI27+DK27+DM27+DO27+DQ27+DS27+DU27+DW27+DY27+EA27+EC27+EE27+EG27+EI27+EK27+CO27+EM27+EO27+EQ27+ES27+EU27+EW27+EY27+FA27+FC27+FE27+FG27+FI27+FK27+FM27+FO27 -> 1823.1187 | FR27: =D27+F27+H27+J27+L27+N27+P27+R27+X27+Z27+AB27+AD27+AF27+AH27+AJ27+AL27+AN27+AP27+AR27+AT27+AV27+AX27+AZ27+BB27+BD27+BH27+BJ27+BL27+BN27+BP27+BF27+BR27+BT27+BV27+BX27+BZ27+CB27+CD27+CF27+CH27+CJ27+CL27+CN27+CR27+CT27+CV27+CX27+CZ27+DB27+DD27+DF27+DH27+DJ27+DL27+DN27+DP27+DR27+DT27+DV27+DX27+DZ27+EB27+ED27+EF27+EH27+EJ27+EL27+EN27+CP27+EP27+ER27+ET27+EV27+EX27+EZ27+FB27+FD27+FF27+FH27+FJ27+FL27+FN27+FP27 -> 187.785
A28: 0415-0430 | B28: 18 | G28: 24 | H28: 0.9 | O28: 0 | Q28: 9 | R28: 0.85 | S28: 25 | U28: 37 | W28: 0 | Y28: 0 | AA28: 0 | AC28: 0 | AE28: ='OA&GRIDCO'!W28+'Day Ahead IEX PXIL'!M28+RTM!M28 -> 9.27 | AF28: ='OA&GRIDCO'!X28+'Day Ahead IEX PXIL'!N28+RTM!N28 -> 1.03 | AG28: ='OA&GRIDCO'!AC28+'Day Ahead IEX PXIL'!S28+RTM!S28 -> 1.86 | AH28: ='OA&GRIDCO'!AD28+'Day Ahead IEX PXIL'!T28+RTM!T28 -> 0 | AI28: ='OA&GRIDCO'!AU28+'Day Ahead IEX PXIL'!Y28+RTM!Y28 -> 115 | AJ28: ='OA&GRIDCO'!AV28+'Day Ahead IEX PXIL'!Z28+RTM!Z28 -> 34.5 | AK28: ='OA&GRIDCO'!BS28+'Day Ahead IEX PXIL'!AK28+RTM!AK28 -> 70.62 | AL28: ='OA&GRIDCO'!BT28+'Day Ahead IEX PXIL'!AL28+RTM!AL28 -> 7.12 | AM28: ='OA&GRIDCO'!BC28+'Day Ahead IEX PXIL'!AE28+RTM!AE28 -> 0 | AN28: ='OA&GRIDCO'!BD28+'Day Ahead IEX PXIL'!AF28+RTM!AF28 -> 0 | AO28: ='OA&GRIDCO'!CC28+'Day Ahead IEX PXIL'!AQ28+RTM!AQ28 -> 0 | AP28: ='OA&GRIDCO'!CD28+'Day Ahead IEX PXIL'!AR28+RTM!AR28 -> 0 | AQ28: ='OA&GRIDCO'!CO28+'Day Ahead IEX PXIL'!AW28+RTM!AW28 -> 45.08 | AR28: ='OA&GRIDCO'!CP28+'Day Ahead IEX PXIL'!AX28+RTM!AX28 -> 14 | AS28: ='OA&GRIDCO'!DA28+'Day Ahead IEX PXIL'!BC28+RTM!BC28 -> 329.77738 | AT28: ='OA&GRIDCO'!DB28+'Day Ahead IEX PXIL'!BD28+RTM!BD28 -> 0 | AU28: ='Day Ahead IEX PXIL'!BI28+RTM!BI28+'OA&GRIDCO'!OY28 -> 0 | AV28: ='Day Ahead IEX PXIL'!BJ28+RTM!BJ28+'OA&GRIDCO'!OZ28 -> 0 | AY28: 0 | AZ28: ='OA&GRIDCO'!DL28+'Day Ahead IEX PXIL'!BP28+RTM!BP28 -> 13.7 | BA28: ='OA&GRIDCO'!EC28+'Day Ahead IEX PXIL'!BU28+RTM!BU28 -> 0 | BB28: ='OA&GRIDCO'!ED28+'Day Ahead IEX PXIL'!BV28+RTM!BV28 -> 0 | BC28: ='OA&GRIDCO'!EQ28+'Day Ahead IEX PXIL'!CA28+RTM!CA28 -> 600 | BD28: ='OA&GRIDCO'!ER28+'Day Ahead IEX PXIL'!CB28+RTM!CB28 -> 103.61 | BE28: ='OA&GRIDCO'!OC28+GDAM!U28 -> 0 | BF28: ='OA&GRIDCO'!OD28+GDAM!V28 -> 0 | BI28: ='OA&GRIDCO'!EW28+'Day Ahead IEX PXIL'!CG28+RTM!CG28 -> 1.03 | BJ28: ='OA&GRIDCO'!EX28+'Day Ahead IEX PXIL'!CH28+RTM!CH28 -> 0 | BK28: ='OA&GRIDCO'!KY28+RTM!FG28+'Day Ahead IEX PXIL'!GW28 -> 0 | BL28: ='OA&GRIDCO'!KZ28+RTM!FH28+'Day Ahead IEX PXIL'!GX28 -> 0 | BM28: ='Day Ahead IEX PXIL'!CM28+RTM!CM28+'OA&GRIDCO'!FC28 -> 28 | BN28: ='OA&GRIDCO'!FD28+'Day Ahead IEX PXIL'!CN28+RTM!CN28 -> 0 | BQ28: ='OA&GRIDCO'!FQ28+'Day Ahead IEX PXIL'!CS28+RTM!CS28 -> 2.06 | BR28: ='OA&GRIDCO'!FR28+'Day Ahead IEX PXIL'!CT28+RTM!CT28 -> 0 | BS28: ='OA&GRIDCO'!JW28+'Day Ahead IEX PXIL'!FA28+RTM!EU28 -> 53.8863 | BT28: ='OA&GRIDCO'!JX28+'Day Ahead IEX PXIL'!FB28+RTM!EV28 -> 11 | BU28: ='OA&GRIDCO'!GG28+RTM!G28 -> 0 | BV28: ='OA&GRIDCO'!GH28 -> 0 | BW28: ='OA&GRIDCO'!HA28+'Day Ahead IEX PXIL'!DK28+RTM!DE28 -> 0 | BX28: ='OA&GRIDCO'!HB28 -> 0 | BY28: ='Day Ahead IEX PXIL'!GK28+RTM!FA28+'OA&GRIDCO'!LE28 -> 0 | BZ28: ='Day Ahead IEX PXIL'!GL28+RTM!FB28+'OA&GRIDCO'!LF28 -> 0 | CC28: =RTM!GI28+'Day Ahead IEX PXIL'!II28+GDAM!M28 -> 0 | CD28: =RTM!GJ28 -> 0 | CE28: ='OA&GRIDCO'!HI28+'Day Ahead IEX PXIL'!DQ28+RTM!DK28 -> 0 | CF28: ='OA&GRIDCO'!HJ28+'Day Ahead IEX PXIL'!DR28+RTM!DL28 -> 0 | CG28: ='OA&GRIDCO'!HO28+'Day Ahead IEX PXIL'!DW28+RTM!DQ28 -> 5.15 | CH28: ='OA&GRIDCO'!HP28+'Day Ahead IEX PXIL'!DX28+RTM!DR28 -> 0 | CI28: ='Day Ahead IEX PXIL'!HE28+'OA&GRIDCO'!DI28+RTM!GY28 -> 1.03 | CJ28: ='Day Ahead IEX PXIL'!HF28+'OA&GRIDCO'!DJ28 -> 0 | CK28: ='OA&GRIDCO'!KU28+'Day Ahead IEX PXIL'!DE28 -> 0 | CL28: ='OA&GRIDCO'!KV28+'Day Ahead IEX PXIL'!DF28 -> 0 | CM28: ='Day Ahead IEX PXIL'!FS28+RTM!FS28 -> 0 | CN28: ='Day Ahead IEX PXIL'!FT28 -> 0 | CO28: =RTM!IY28+'Day Ahead IEX PXIL'!IU28 -> 0 | CP28: =RTM!IZ28+'Day Ahead IEX PXIL'!IV28 -> 0 | CQ28: ='OA&GRIDCO'!KI28+'Day Ahead IEX PXIL'!FM28+RTM!GE28 -> 0 | CR28: ='OA&GRIDCO'!KJ28+'Day Ahead IEX PXIL'!FN28 -> 0 | CS28: ='OA&GRIDCO'!KO28+'Day Ahead IEX PXIL'!FY28+RTM!FY28 -> 0 | CT28: ='Day Ahead IEX PXIL'!FZ28 -> 0 | CU28: 0 | CV28: ='Day Ahead IEX PXIL'!GF28 -> 0 | CW28: ='OA&GRIDCO'!HU28+'Day Ahead IEX PXIL'!EC28+RTM!DW28 -> 400 | CX28: ='OA&GRIDCO'!HV28+'Day Ahead IEX PXIL'!ED28+RTM!DX28 -> 0 | CY28: ='OA&GRIDCO'!IG28+'Day Ahead IEX PXIL'!EI28+RTM!EC28 -> 4.3 | CZ28: ='OA&GRIDCO'!IH28+'Day Ahead IEX PXIL'!EJ28+RTM!ED28 -> 1.075 | DA28: ='OA&GRIDCO'!IU28+'Day Ahead IEX PXIL'!EO28+RTM!EI28 -> 0 | DB28: ='OA&GRIDCO'!IV28+'Day Ahead IEX PXIL'!EP28+RTM!EJ28 -> 0 | DE28: ='Day Ahead IEX PXIL'!FC28+'OA&GRIDCO'!KC28+RTM!GM28 -> 0 | DF28: ='Day Ahead IEX PXIL'!FD28+'OA&GRIDCO'!KD28 -> 0 | DG28: ='OA&GRIDCO'!JG28+'Day Ahead IEX PXIL'!EU28+RTM!EO28 -> 26.8 | DH28: ='OA&GRIDCO'!JH28+'Day Ahead IEX PXIL'!EV28+RTM!EP28 -> 0 | DI28: 0 | DJ28: 0 | DK28: =RTM!FM28 -> 0 | DL28: =RTM!FN28 -> 0 | DM28: ='OA&GRIDCO'!LH28+'Day Ahead IEX PXIL'!HU28+'Day Ahead IEX PXIL'!HU28 -> 0 | DN28: ='OA&GRIDCO'!LJ28+'Day Ahead IEX PXIL'!HV28+RTM!GV28 -> 0 | DO28: ='OA&GRIDCO'!LU28+'Day Ahead IEX PXIL'!HO28+RTM!IU28 -> 54.795 | DP28: ='OA&GRIDCO'!LV28+'Day Ahead IEX PXIL'!HP28+RTM!IV28 -> 0 | DQ28: =RTM!HK28 -> 1.24 | DR28: =RTM!HL28 -> 0 | DS28: =RTM!HO28 -> 0 | DT28: =RTM!HP28 -> 0 | DU28: =RTM!HS28 -> 0 | DV28: =RTM!HT28 -> 0 | DW28: =RTM!HW28+'OA&GRIDCO'!MK28 -> 25.26 | DX28: =RTM!HX28 -> 0 | DY28: =RTM!IA28 -> 0 | DZ28: =RTM!IB28 -> 0 | EA28: =RTM!IC28 -> 0 | EB28: =RTM!ID28 -> 0 | EC28: ='OA&GRIDCO'!MQ28 -> 0 | ED28: ='OA&GRIDCO'!MR28 -> 0 | EE28: ='OA&GRIDCO'!MU28 -> 0 | EF28: ='OA&GRIDCO'!MV28 -> 0 | EG28: ='OA&GRIDCO'!MY28+'Day Ahead IEX PXIL'!IM28+GDAM!G28+RTM!II28 -> 0 | EH28: ='OA&GRIDCO'!MZ28+'Day Ahead IEX PXIL'!IN28+RTM!IJ28+GDAM!H28 -> 0 | EI28: ='Day Ahead IEX PXIL'!IQ28+RTM!IM28+'OA&GRIDCO'!NC28+GDAM!BO28 -> 0 | EJ28: ='Day Ahead IEX PXIL'!IR28+RTM!IN28+'OA&GRIDCO'!ND28 -> 0 | EK28: ='OA&GRIDCO'!NG28 -> 0 | EL28: ='OA&GRIDCO'!NH28 -> 0 | EM28: =RTM!IQ28 -> 0 | EN28: =RTM!IR28 -> 0 | EO28: =RTM!JC28 -> 0 | EP28: =RTM!JD28 -> 0 | EQ28: ='OA&GRIDCO'!NK28 -> 0 | ER28: ='OA&GRIDCO'!NL28 -> 0 | ES28: ='OA&GRIDCO'!NM28+RTM!HC28+'Day Ahead IEX PXIL'!IY28 -> 0 | ET28: ='OA&GRIDCO'!NP28+RTM!HD28+'Day Ahead IEX PXIL'!IZ28 -> 0 | EU28: =RTM!JG28 -> 1.55 | EV28: =RTM!JH28 -> 0 | EW28: =RTM!JK28 -> 0 | EX28: =RTM!JL28 -> 0 | EY28: =GDAM!S28+'OA&GRIDCO'!OM28+RTM!JO28 -> 0 | EZ28: =GDAM!T28+'OA&GRIDCO'!OD28+RTM!JP28 -> 0 | FA28: =GDAM!Y28+RTM!JS28 -> 0 | FB28: =GDAM!Z28+RTM!JT28 -> 0 | FC28: =RTM!JW28 -> 0 | FD28: =RTM!JX28 -> 0 | FE28: =GDAM!AE28+'OA&GRIDCO'!OU28 -> 0 | FF28: =GDAM!AF28+'OA&GRIDCO'!OV28 -> 0 | FG28: =GDAM!AK28 -> 0 | FH28: =GDAM!AL28 -> 0 | FI28: =GDAM!AQ28 -> 0 | FJ28: =GDAM!AR28 -> 0 | FK28: =GDAM!AW28 -> 0 | FL28: =GDAM!AX28 -> 0 | FM28: =GDAM!BC28 -> 0 | FN28: =GDAM!BD28 -> 0 | FO28: =GDAM!BI28 -> 0 | FP28: =GDAM!BJ28 -> 0 | FQ28: =C28+E28+G28+I28+K28+M28+O28+Q28+W28+Y28+AA28+AC28+AE28+AG28+AI28+AK28+AM28+AO28+AQ28+AS28+AU28+AW28+AY28+BA28+BC28+BE28+BG28+BI28+BK28+BM28+BO28+BQ28+BS28+BU28+BW28+BY28+CA28+CC28+CE28+CG28+CI28+CK28+CM28+CQ28+CS28+CU28+CW28+CY28+DA28+DC28+DE28+DG28+DI28+DK28+DM28+DO28+DQ28+DS28+DU28+DW28+DY28+EA28+EC28+EE28+EG28+EI28+EK28+CO28+EM28+EO28+EQ28+ES28+EU28+EW28+EY28+FA28+FC28+FE28+FG28+FI28+FK28+FM28+FO28 -> 1809.7087 | FR28: =D28+F28+H28+J28+L28+N28+P28+R28+X28+Z28+AB28+AD28+AF28+AH28+AJ28+AL28+AN28+AP28+AR28+AT28+AV28+AX28+AZ28+BB28+BD28+BH28+BJ28+BL28+BN28+BP28+BF28+BR28+BT28+BV28+BX28+BZ28+CB28+CD28+CF28+CH28+CJ28+CL28+CN28+CR28+CT28+CV28+CX28+CZ28+DB28+DD28+DF28+DH28+DJ28+DL28+DN28+DP28+DR28+DT28+DV28+DX28+DZ28+EB28+ED28+EF28+EH28+EJ28+EL28+EN28+CP28+EP28+ER28+ET28+EV28+EX28+EZ28+FB28+FD28+FF28+FH28+FJ28+FL28+FN28+FP28 -> 187.785
A29: 0430-0445 | B29: 19 | G29: 24 | H29: 0.9 | O29: 0 | Q29: 9 | R29: 0.85 | S29: 25 | U29: 37 | W29: 0 | Y29: 0 | AA29: 0 | AC29: 0 | AE29: ='OA&GRIDCO'!W29+'Day Ahead IEX PXIL'!M29+RTM!M29 -> 9.27 | AF29: ='OA&GRIDCO'!X29+'Day Ahead IEX PXIL'!N29+RTM!N29 -> 1.03 | AG29: ='OA&GRIDCO'!AC29+'Day Ahead IEX PXIL'!S29+RTM!S29 -> 1.86 | AH29: ='OA&GRIDCO'!AD29+'Day Ahead IEX PXIL'!T29+RTM!T29 -> 0 | AI29: ='OA&GRIDCO'!AU29+'Day Ahead IEX PXIL'!Y29+RTM!Y29 -> 115 | AJ29: ='OA&GRIDCO'!AV29+'Day Ahead IEX PXIL'!Z29+RTM!Z29 -> 34.5 | AK29: ='OA&GRIDCO'!BS29+'Day Ahead IEX PXIL'!AK29+RTM!AK29 -> 50 | AL29: ='OA&GRIDCO'!BT29+'Day Ahead IEX PXIL'!AL29+RTM!AL29 -> 7.12 | AM29: ='OA&GRIDCO'!BC29+'Day Ahead IEX PXIL'!AE29+RTM!AE29 -> 0 | AN29: ='OA&GRIDCO'!BD29+'Day Ahead IEX PXIL'!AF29+RTM!AF29 -> 0 | AO29: ='OA&GRIDCO'!CC29+'Day Ahead IEX PXIL'!AQ29+RTM!AQ29 -> 0 | AP29: ='OA&GRIDCO'!CD29+'Day Ahead IEX PXIL'!AR29+RTM!AR29 -> 0 | AQ29: ='OA&GRIDCO'!CO29+'Day Ahead IEX PXIL'!AW29+RTM!AW29 -> 45.08 | AR29: ='OA&GRIDCO'!CP29+'Day Ahead IEX PXIL'!AX29+RTM!AX29 -> 14 | AS29: ='OA&GRIDCO'!DA29+'Day Ahead IEX PXIL'!BC29+RTM!BC29 -> 329.77738 | AT29: ='OA&GRIDCO'!DB29+'Day Ahead IEX PXIL'!BD29+RTM!BD29 -> 0 | AU29: ='Day Ahead IEX PXIL'!BI29+RTM!BI29+'OA&GRIDCO'!OY29 -> 0 | AV29: ='Day Ahead IEX PXIL'!BJ29+RTM!BJ29+'OA&GRIDCO'!OZ29 -> 0 | AY29: 0 | AZ29: ='OA&GRIDCO'!DL29+'Day Ahead IEX PXIL'!BP29+RTM!BP29 -> 13.7 | BA29: ='OA&GRIDCO'!EC29+'Day Ahead IEX PXIL'!BU29+RTM!BU29 -> 0 | BB29: ='OA&GRIDCO'!ED29+'Day Ahead IEX PXIL'!BV29+RTM!BV29 -> 0 | BC29: ='OA&GRIDCO'!EQ29+'Day Ahead IEX PXIL'!CA29+RTM!CA29 -> 610.31 | BD29: ='OA&GRIDCO'!ER29+'Day Ahead IEX PXIL'!CB29+RTM!CB29 -> 103.61 | BE29: ='OA&GRIDCO'!OC29+GDAM!U29 -> 0 | BF29: ='OA&GRIDCO'!OD29+GDAM!V29 -> 0 | BI29: ='OA&GRIDCO'!EW29+'Day Ahead IEX PXIL'!CG29+RTM!CG29 -> 1.03 | BJ29: ='OA&GRIDCO'!EX29+'Day Ahead IEX PXIL'!CH29+RTM!CH29 -> 0 | BK29: ='OA&GRIDCO'!KY29+RTM!FG29+'Day Ahead IEX PXIL'!GW29 -> 0 | BL29: ='OA&GRIDCO'!KZ29+RTM!FH29+'Day Ahead IEX PXIL'!GX29 -> 0 | BM29: ='Day Ahead IEX PXIL'!CM29+RTM!CM29+'OA&GRIDCO'!FC29 -> 28 | BN29: ='OA&GRIDCO'!FD29+'Day Ahead IEX PXIL'!CN29+RTM!CN29 -> 0 | BQ29: ='OA&GRIDCO'!FQ29+'Day Ahead IEX PXIL'!CS29+RTM!CS29 -> 2.06 | BR29: ='OA&GRIDCO'!FR29+'Day Ahead IEX PXIL'!CT29+RTM!CT29 -> 0 | BS29: ='OA&GRIDCO'!JW29+'Day Ahead IEX PXIL'!FA29+RTM!EU29 -> 53.8863 | BT29: ='OA&GRIDCO'!JX29+'Day Ahead IEX PXIL'!FB29+RTM!EV29 -> 11 | BU29: ='OA&GRIDCO'!GG29+RTM!G29 -> 0 | BV29: ='OA&GRIDCO'!GH29 -> 0 | BW29: ='OA&GRIDCO'!HA29+'Day Ahead IEX PXIL'!DK29+RTM!DE29 -> 0 | BX29: ='OA&GRIDCO'!HB29 -> 0 | BY29: ='Day Ahead IEX PXIL'!GK29+RTM!FA29+'OA&GRIDCO'!LE29 -> 0 | BZ29: ='Day Ahead IEX PXIL'!GL29+RTM!FB29+'OA&GRIDCO'!LF29 -> 0 | CC29: =RTM!GI29+'Day Ahead IEX PXIL'!II29+GDAM!M29 -> 0 | CD29: =RTM!GJ29 -> 0 | CE29: ='OA&GRIDCO'!HI29+'Day Ahead IEX PXIL'!DQ29+RTM!DK29 -> 0 | CF29: ='OA&GRIDCO'!HJ29+'Day Ahead IEX PXIL'!DR29+RTM!DL29 -> 0 | CG29: ='OA&GRIDCO'!HO29+'Day Ahead IEX PXIL'!DW29+RTM!DQ29 -> 5.15 | CH29: ='OA&GRIDCO'!HP29+'Day Ahead IEX PXIL'!DX29+RTM!DR29 -> 0 | CI29: ='Day Ahead IEX PXIL'!HE29+'OA&GRIDCO'!DI29+RTM!GY29 -> 1.03 | CJ29: ='Day Ahead IEX PXIL'!HF29+'OA&GRIDCO'!DJ29 -> 0 | CK29: ='OA&GRIDCO'!KU29+'Day Ahead IEX PXIL'!DE29 -> 0 | CL29: ='OA&GRIDCO'!KV29+'Day Ahead IEX PXIL'!DF29 -> 0 | CM29: ='Day Ahead IEX PXIL'!FS29+RTM!FS29 -> 0 | CN29: ='Day Ahead IEX PXIL'!FT29 -> 0 | CO29: =RTM!IY29+'Day Ahead IEX PXIL'!IU29 -> 0 | CP29: =RTM!IZ29+'Day Ahead IEX PXIL'!IV29 -> 0 | CQ29: ='OA&GRIDCO'!KI29+'Day Ahead IEX PXIL'!FM29+RTM!GE29 -> 0 | CR29: ='OA&GRIDCO'!KJ29+'Day Ahead IEX PXIL'!FN29 -> 0 | CS29: ='OA&GRIDCO'!KO29+'Day Ahead IEX PXIL'!FY29+RTM!FY29 -> 0 | CT29: ='Day Ahead IEX PXIL'!FZ29 -> 0 | CU29: 0 | CV29: ='Day Ahead IEX PXIL'!GF29 -> 0 | CW29: ='OA&GRIDCO'!HU29+'Day Ahead IEX PXIL'!EC29+RTM!DW29 -> 400 | CX29: ='OA&GRIDCO'!HV29+'Day Ahead IEX PXIL'!ED29+RTM!DX29 -> 0 | CY29: ='OA&GRIDCO'!IG29+'Day Ahead IEX PXIL'!EI29+RTM!EC29 -> 4.3 | CZ29: ='OA&GRIDCO'!IH29+'Day Ahead IEX PXIL'!EJ29+RTM!ED29 -> 1.075 | DA29: ='OA&GRIDCO'!IU29+'Day Ahead IEX PXIL'!EO29+RTM!EI29 -> 0 | DB29: ='OA&GRIDCO'!IV29+'Day Ahead IEX PXIL'!EP29+RTM!EJ29 -> 0 | DE29: ='Day Ahead IEX PXIL'!FC29+'OA&GRIDCO'!KC29+RTM!GM29 -> 0 | DF29: ='Day Ahead IEX PXIL'!FD29+'OA&GRIDCO'!KD29 -> 0 | DG29: ='OA&GRIDCO'!JG29+'Day Ahead IEX PXIL'!EU29+RTM!EO29 -> 26.8 | DH29: ='OA&GRIDCO'!JH29+'Day Ahead IEX PXIL'!EV29+RTM!EP29 -> 0 | DI29: 0 | DJ29: 0 | DK29: =RTM!FM29 -> 0 | DL29: =RTM!FN29 -> 0 | DM29: ='OA&GRIDCO'!LH29+'Day Ahead IEX PXIL'!HU29+'Day Ahead IEX PXIL'!HU29 -> 0 | DN29: ='OA&GRIDCO'!LJ29+'Day Ahead IEX PXIL'!HV29+RTM!GV29 -> 0 | DO29: ='OA&GRIDCO'!LU29+'Day Ahead IEX PXIL'!HO29+RTM!IU29 -> 54.795 | DP29: ='OA&GRIDCO'!LV29+'Day Ahead IEX PXIL'!HP29+RTM!IV29 -> 0 | DQ29: =RTM!HK29 -> 1.24 | DR29: =RTM!HL29 -> 0 | DS29: =RTM!HO29 -> 0 | DT29: =RTM!HP29 -> 0 | DU29: =RTM!HS29 -> 0 | DV29: =RTM!HT29 -> 0 | DW29: =RTM!HW29+'OA&GRIDCO'!MK29 -> 25.26 | DX29: =RTM!HX29 -> 0 | DY29: =RTM!IA29 -> 0 | DZ29: =RTM!IB29 -> 0 | EA29: =RTM!IC29 -> 0 | EB29: =RTM!ID29 -> 0 | EC29: ='OA&GRIDCO'!MQ29 -> 0 | ED29: ='OA&GRIDCO'!MR29 -> 0 | EE29: ='OA&GRIDCO'!MU29 -> 0 | EF29: ='OA&GRIDCO'!MV29 -> 0 | EG29: ='OA&GRIDCO'!MY29+'Day Ahead IEX PXIL'!IM29+GDAM!G29+RTM!II29 -> 0 | EH29: ='OA&GRIDCO'!MZ29+'Day Ahead IEX PXIL'!IN29+RTM!IJ29+GDAM!H29 -> 0 | EI29: ='Day Ahead IEX PXIL'!IQ29+RTM!IM29+'OA&GRIDCO'!NC29+GDAM!BO29 -> 0 | EJ29: ='Day Ahead IEX PXIL'!IR29+RTM!IN29+'OA&GRIDCO'!ND29 -> 0 | EK29: ='OA&GRIDCO'!NG29 -> 0 | EL29: ='OA&GRIDCO'!NH29 -> 0 | EM29: =RTM!IQ29 -> 0 | EN29: =RTM!IR29 -> 0 | EO29: =RTM!JC29 -> 0 | EP29: =RTM!JD29 -> 0 | EQ29: ='OA&GRIDCO'!NK29 -> 0 | ER29: ='OA&GRIDCO'!NL29 -> 0 | ES29: ='OA&GRIDCO'!NM29+RTM!HC29+'Day Ahead IEX PXIL'!IY29 -> 0 | ET29: ='OA&GRIDCO'!NP29+RTM!HD29+'Day Ahead IEX PXIL'!IZ29 -> 0 | EU29: =RTM!JG29 -> 1.55 | EV29: =RTM!JH29 -> 0 | EW29: =RTM!JK29 -> 0 | EX29: =RTM!JL29 -> 0 | EY29: =GDAM!S29+'OA&GRIDCO'!OM29+RTM!JO29 -> 0 | EZ29: =GDAM!T29+'OA&GRIDCO'!OD29+RTM!JP29 -> 0 | FA29: =GDAM!Y29+RTM!JS29 -> 0 | FB29: =GDAM!Z29+RTM!JT29 -> 0 | FC29: =RTM!JW29 -> 0 | FD29: =RTM!JX29 -> 0 | FE29: =GDAM!AE29+'OA&GRIDCO'!OU29 -> 0 | FF29: =GDAM!AF29+'OA&GRIDCO'!OV29 -> 0 | FG29: =GDAM!AK29 -> 0 | FH29: =GDAM!AL29 -> 0 | FI29: =GDAM!AQ29 -> 0 | FJ29: =GDAM!AR29 -> 0 | FK29: =GDAM!AW29 -> 0 | FL29: =GDAM!AX29 -> 0 | FM29: =GDAM!BC29 -> 0 | FN29: =GDAM!BD29 -> 0 | FO29: =GDAM!BI29 -> 0 | FP29: =GDAM!BJ29 -> 0 | FQ29: =C29+E29+G29+I29+K29+M29+O29+Q29+W29+Y29+AA29+AC29+AE29+AG29+AI29+AK29+AM29+AO29+AQ29+AS29+AU29+AW29+AY29+BA29+BC29+BE29+BG29+BI29+BK29+BM29+BO29+BQ29+BS29+BU29+BW29+BY29+CA29+CC29+CE29+CG29+CI29+CK29+CM29+CQ29+CS29+CU29+CW29+CY29+DA29+DC29+DE29+DG29+DI29+DK29+DM29+DO29+DQ29+DS29+DU29+DW29+DY29+EA29+EC29+EE29+EG29+EI29+EK29+CO29+EM29+EO29+EQ29+ES29+EU29+EW29+EY29+FA29+FC29+FE29+FG29+FI29+FK29+FM29+FO29 -> 1799.3987 | FR29: =D29+F29+H29+J29+L29+N29+P29+R29+X29+Z29+AB29+AD29+AF29+AH29+AJ29+AL29+AN29+AP29+AR29+AT29+AV29+AX29+AZ29+BB29+BD29+BH29+BJ29+BL29+BN29+BP29+BF29+BR29+BT29+BV29+BX29+BZ29+CB29+CD29+CF29+CH29+CJ29+CL29+CN29+CR29+CT29+CV29+CX29+CZ29+DB29+DD29+DF29+DH29+DJ29+DL29+DN29+DP29+DR29+DT29+DV29+DX29+DZ29+EB29+ED29+EF29+EH29+EJ29+EL29+EN29+CP29+EP29+ER29+ET29+EV29+EX29+EZ29+FB29+FD29+FF29+FH29+FJ29+FL29+FN29+FP29 -> 187.785
A30: 0445-0500 | B30: 20 | G30: 24 | H30: 0.9 | O30: 0 | Q30: 9 | R30: 0.85 | S30: 25 | U30: 37 | W30: 0 | Y30: 0 | AA30: 0 | AC30: 0 | AE30: ='OA&GRIDCO'!W30+'Day Ahead IEX PXIL'!M30+RTM!M30 -> 9.27 | AF30: ='OA&GRIDCO'!X30+'Day Ahead IEX PXIL'!N30+RTM!N30 -> 1.03 | AG30: ='OA&GRIDCO'!AC30+'Day Ahead IEX PXIL'!S30+RTM!S30 -> 1.86 | AH30: ='OA&GRIDCO'!AD30+'Day Ahead IEX PXIL'!T30+RTM!T30 -> 0 | AI30: ='OA&GRIDCO'!AU30+'Day Ahead IEX PXIL'!Y30+RTM!Y30 -> 115 | AJ30: ='OA&GRIDCO'!AV30+'Day Ahead IEX PXIL'!Z30+RTM!Z30 -> 34.5 | AK30: ='OA&GRIDCO'!BS30+'Day Ahead IEX PXIL'!AK30+RTM!AK30 -> 60.31 | AL30: ='OA&GRIDCO'!BT30+'Day Ahead IEX PXIL'!AL30+RTM!AL30 -> 7.12 | AM30: ='OA&GRIDCO'!BC30+'Day Ahead IEX PXIL'!AE30+RTM!AE30 -> 0 | AN30: ='OA&GRIDCO'!BD30+'Day Ahead IEX PXIL'!AF30+RTM!AF30 -> 0 | AO30: ='OA&GRIDCO'!CC30+'Day Ahead IEX PXIL'!AQ30+RTM!AQ30 -> 0 | AP30: ='OA&GRIDCO'!CD30+'Day Ahead IEX PXIL'!AR30+RTM!AR30 -> 0 | AQ30: ='OA&GRIDCO'!CO30+'Day Ahead IEX PXIL'!AW30+RTM!AW30 -> 45.08 | AR30: ='OA&GRIDCO'!CP30+'Day Ahead IEX PXIL'!AX30+RTM!AX30 -> 14 | AS30: ='OA&GRIDCO'!DA30+'Day Ahead IEX PXIL'!BC30+RTM!BC30 -> 329.77738 | AT30: ='OA&GRIDCO'!DB30+'Day Ahead IEX PXIL'!BD30+RTM!BD30 -> 0 | AU30: ='Day Ahead IEX PXIL'!BI30+RTM!BI30+'OA&GRIDCO'!OY30 -> 0 | AV30: ='Day Ahead IEX PXIL'!BJ30+RTM!BJ30+'OA&GRIDCO'!OZ30 -> 0 | AY30: 0 | AZ30: ='OA&GRIDCO'!DL30+'Day Ahead IEX PXIL'!BP30+RTM!BP30 -> 13.7 | BA30: ='OA&GRIDCO'!EC30+'Day Ahead IEX PXIL'!BU30+RTM!BU30 -> 0 | BB30: ='OA&GRIDCO'!ED30+'Day Ahead IEX PXIL'!BV30+RTM!BV30 -> 0 | BC30: ='OA&GRIDCO'!EQ30+'Day Ahead IEX PXIL'!CA30+RTM!CA30 -> 610.31 | BD30: ='OA&GRIDCO'!ER30+'Day Ahead IEX PXIL'!CB30+RTM!CB30 -> 103.61 | BE30: ='OA&GRIDCO'!OC30+GDAM!U30 -> 0 | BF30: ='OA&GRIDCO'!OD30+GDAM!V30 -> 0 | BI30: ='OA&GRIDCO'!EW30+'Day Ahead IEX PXIL'!CG30+RTM!CG30 -> 1.03 | BJ30: ='OA&GRIDCO'!EX30+'Day Ahead IEX PXIL'!CH30+RTM!CH30 -> 0 | BK30: ='OA&GRIDCO'!KY30+RTM!FG30+'Day Ahead IEX PXIL'!GW30 -> 0 | BL30: ='OA&GRIDCO'!KZ30+RTM!FH30+'Day Ahead IEX PXIL'!GX30 -> 0 | BM30: ='Day Ahead IEX PXIL'!CM30+RTM!CM30+'OA&GRIDCO'!FC30 -> 28 | BN30: ='OA&GRIDCO'!FD30+'Day Ahead IEX PXIL'!CN30+RTM!CN30 -> 0 | BQ30: ='OA&GRIDCO'!FQ30+'Day Ahead IEX PXIL'!CS30+RTM!CS30 -> 2.06 | BR30: ='OA&GRIDCO'!FR30+'Day Ahead IEX PXIL'!CT30+RTM!CT30 -> 0 | BS30: ='OA&GRIDCO'!JW30+'Day Ahead IEX PXIL'!FA30+RTM!EU30 -> 53.8863 | BT30: ='OA&GRIDCO'!JX30+'Day Ahead IEX PXIL'!FB30+RTM!EV30 -> 11 | BU30: ='OA&GRIDCO'!GG30+RTM!G30 -> 0 | BV30: ='OA&GRIDCO'!GH30 -> 0 | BW30: ='OA&GRIDCO'!HA30+'Day Ahead IEX PXIL'!DK30+RTM!DE30 -> 0 | BX30: ='OA&GRIDCO'!HB30 -> 0 | BY30: ='Day Ahead IEX PXIL'!GK30+RTM!FA30+'OA&GRIDCO'!LE30 -> 0 | BZ30: ='Day Ahead IEX PXIL'!GL30+RTM!FB30+'OA&GRIDCO'!LF30 -> 0 | CC30: =RTM!GI30+'Day Ahead IEX PXIL'!II30+GDAM!M30 -> 0 | CD30: =RTM!GJ30 -> 0 | CE30: ='OA&GRIDCO'!HI30+'Day Ahead IEX PXIL'!DQ30+RTM!DK30 -> 0 | CF30: ='OA&GRIDCO'!HJ30+'Day Ahead IEX PXIL'!DR30+RTM!DL30 -> 0 | CG30: ='OA&GRIDCO'!HO30+'Day Ahead IEX PXIL'!DW30+RTM!DQ30 -> 5.15 | CH30: ='OA&GRIDCO'!HP30+'Day Ahead IEX PXIL'!DX30+RTM!DR30 -> 0 | CI30: ='Day Ahead IEX PXIL'!HE30+'OA&GRIDCO'!DI30+RTM!GY30 -> 1.03 | CJ30: ='Day Ahead IEX PXIL'!HF30+'OA&GRIDCO'!DJ30 -> 0 | CK30: ='OA&GRIDCO'!KU30+'Day Ahead IEX PXIL'!DE30 -> 0 | CL30: ='OA&GRIDCO'!KV30+'Day Ahead IEX PXIL'!DF30 -> 0 | CM30: ='Day Ahead IEX PXIL'!FS30+RTM!FS30 -> 0 | CN30: ='Day Ahead IEX PXIL'!FT30 -> 0 | CO30: =RTM!IY30+'Day Ahead IEX PXIL'!IU30 -> 0 | CP30: =RTM!IZ30+'Day Ahead IEX PXIL'!IV30 -> 0 | CQ30: ='OA&GRIDCO'!KI30+'Day Ahead IEX PXIL'!FM30+RTM!GE30 -> 0 | CR30: ='OA&GRIDCO'!KJ30+'Day Ahead IEX PXIL'!FN30 -> 0 | CS30: ='OA&GRIDCO'!KO30+'Day Ahead IEX PXIL'!FY30+RTM!FY30 -> 0 | CT30: ='Day Ahead IEX PXIL'!FZ30 -> 0 | CU30: 0 | CV30: ='Day Ahead IEX PXIL'!GF30 -> 0 | CW30: ='OA&GRIDCO'!HU30+'Day Ahead IEX PXIL'!EC30+RTM!DW30 -> 400 | CX30: ='OA&GRIDCO'!HV30+'Day Ahead IEX PXIL'!ED30+RTM!DX30 -> 0 | CY30: ='OA&GRIDCO'!IG30+'Day Ahead IEX PXIL'!EI30+RTM!EC30 -> 4.3 | CZ30: ='OA&GRIDCO'!IH30+'Day Ahead IEX PXIL'!EJ30+RTM!ED30 -> 1.075 | DA30: ='OA&GRIDCO'!IU30+'Day Ahead IEX PXIL'!EO30+RTM!EI30 -> 0 | DB30: ='OA&GRIDCO'!IV30+'Day Ahead IEX PXIL'!EP30+RTM!EJ30 -> 0 | DE30: ='Day Ahead IEX PXIL'!FC30+'OA&GRIDCO'!KC30+RTM!GM30 -> 0 | DF30: ='Day Ahead IEX PXIL'!FD30+'OA&GRIDCO'!KD30 -> 0 | DG30: ='OA&GRIDCO'!JG30+'Day Ahead IEX PXIL'!EU30+RTM!EO30 -> 26.8 | DH30: ='OA&GRIDCO'!JH30+'Day Ahead IEX PXIL'!EV30+RTM!EP30 -> 0 | DI30: 0 | DJ30: 0 | DK30: =RTM!FM30 -> 0 | DL30: =RTM!FN30 -> 0 | DM30: ='OA&GRIDCO'!LH30+'Day Ahead IEX PXIL'!HU30+'Day Ahead IEX PXIL'!HU30 -> 0 | DN30: ='OA&GRIDCO'!LJ30+'Day Ahead IEX PXIL'!HV30+RTM!GV30 -> 0 | DO30: ='OA&GRIDCO'!LU30+'Day Ahead IEX PXIL'!HO30+RTM!IU30 -> 54.795 | DP30: ='OA&GRIDCO'!LV30+'Day Ahead IEX PXIL'!HP30+RTM!IV30 -> 0 | DQ30: =RTM!HK30 -> 1.24 | DR30: =RTM!HL30 -> 0 | DS30: =RTM!HO30 -> 0 | DT30: =RTM!HP30 -> 0 | DU30: =RTM!HS30 -> 0 | DV30: =RTM!HT30 -> 0 | DW30: =RTM!HW30+'OA&GRIDCO'!MK30 -> 25.26 | DX30: =RTM!HX30 -> 0 | DY30: =RTM!IA30 -> 0 | DZ30: =RTM!IB30 -> 0 | EA30: =RTM!IC30 -> 0 | EB30: =RTM!ID30 -> 0 | EC30: ='OA&GRIDCO'!MQ30 -> 0 | ED30: ='OA&GRIDCO'!MR30 -> 0 | EE30: ='OA&GRIDCO'!MU30 -> 0 | EF30: ='OA&GRIDCO'!MV30 -> 0 | EG30: ='OA&GRIDCO'!MY30+'Day Ahead IEX PXIL'!IM30+GDAM!G30+RTM!II30 -> 0 | EH30: ='OA&GRIDCO'!MZ30+'Day Ahead IEX PXIL'!IN30+RTM!IJ30+GDAM!H30 -> 0 | EI30: ='Day Ahead IEX PXIL'!IQ30+RTM!IM30+'OA&GRIDCO'!NC30+GDAM!BO30 -> 0 | EJ30: ='Day Ahead IEX PXIL'!IR30+RTM!IN30+'OA&GRIDCO'!ND30 -> 0 | EK30: ='OA&GRIDCO'!NG30 -> 0 | EL30: ='OA&GRIDCO'!NH30 -> 0 | EM30: =RTM!IQ30 -> 0 | EN30: =RTM!IR30 -> 0 | EO30: =RTM!JC30 -> 0 | EP30: =RTM!JD30 -> 0 | EQ30: ='OA&GRIDCO'!NK30 -> 0 | ER30: ='OA&GRIDCO'!NL30 -> 0 | ES30: ='OA&GRIDCO'!NM30+RTM!HC30+'Day Ahead IEX PXIL'!IY30 -> 0 | ET30: ='OA&GRIDCO'!NP30+RTM!HD30+'Day Ahead IEX PXIL'!IZ30 -> 0 | EU30: =RTM!JG30 -> 1.55 | EV30: =RTM!JH30 -> 0 | EW30: =RTM!JK30 -> 0 | EX30: =RTM!JL30 -> 0 | EY30: =GDAM!S30+'OA&GRIDCO'!OM30+RTM!JO30 -> 0 | EZ30: =GDAM!T30+'OA&GRIDCO'!OD30+RTM!JP30 -> 0 | FA30: =GDAM!Y30+RTM!JS30 -> 0 | FB30: =GDAM!Z30+RTM!JT30 -> 0 | FC30: =RTM!JW30 -> 0 | FD30: =RTM!JX30 -> 0 | FE30: =GDAM!AE30+'OA&GRIDCO'!OU30 -> 0 | FF30: =GDAM!AF30+'OA&GRIDCO'!OV30 -> 0 | FG30: =GDAM!AK30 -> 0 | FH30: =GDAM!AL30 -> 0 | FI30: =GDAM!AQ30 -> 0 | FJ30: =GDAM!AR30 -> 0 | FK30: =GDAM!AW30 -> 0 | FL30: =GDAM!AX30 -> 0 | FM30: =GDAM!BC30 -> 0 | FN30: =GDAM!BD30 -> 0 | FO30: =GDAM!BI30 -> 0 | FP30: =GDAM!BJ30 -> 0 | FQ30: =C30+E30+G30+I30+K30+M30+O30+Q30+W30+Y30+AA30+AC30+AE30+AG30+AI30+AK30+AM30+AO30+AQ30+AS30+AU30+AW30+AY30+BA30+BC30+BE30+BG30+BI30+BK30+BM30+BO30+BQ30+BS30+BU30+BW30+BY30+CA30+CC30+CE30+CG30+CI30+CK30+CM30+CQ30+CS30+CU30+CW30+CY30+DA30+DC30+DE30+DG30+DI30+DK30+DM30+DO30+DQ30+DS30+DU30+DW30+DY30+EA30+EC30+EE30+EG30+EI30+EK30+CO30+EM30+EO30+EQ30+ES30+EU30+EW30+EY30+FA30+FC30+FE30+FG30+FI30+FK30+FM30+FO30 -> 1809.7087 | FR30: =D30+F30+H30+J30+L30+N30+P30+R30+X30+Z30+AB30+AD30+AF30+AH30+AJ30+AL30+AN30+AP30+AR30+AT30+AV30+AX30+AZ30+BB30+BD30+BH30+BJ30+BL30+BN30+BP30+BF30+BR30+BT30+BV30+BX30+BZ30+CB30+CD30+CF30+CH30+CJ30+CL30+CN30+CR30+CT30+CV30+CX30+CZ30+DB30+DD30+DF30+DH30+DJ30+DL30+DN30+DP30+DR30+DT30+DV30+DX30+DZ30+EB30+ED30+EF30+EH30+EJ30+EL30+EN30+CP30+EP30+ER30+ET30+EV30+EX30+EZ30+FB30+FD30+FF30+FH30+FJ30+FL30+FN30+FP30 -> 187.785
A31: 0500-0515 | B31: 21 | G31: 24 | H31: 0.9 | O31: 0 | Q31: 9 | R31: 0.85 | S31: 25 | U31: 37 | W31: 0 | Y31: 0 | AA31: 0 | AC31: 0 | AE31: ='OA&GRIDCO'!W31+'Day Ahead IEX PXIL'!M31+RTM!M31 -> 14.43 | AF31: ='OA&GRIDCO'!X31+'Day Ahead IEX PXIL'!N31+RTM!N31 -> 1.03 | AG31: ='OA&GRIDCO'!AC31+'Day Ahead IEX PXIL'!S31+RTM!S31 -> 1.86 | AH31: ='OA&GRIDCO'!AD31+'Day Ahead IEX PXIL'!T31+RTM!T31 -> 0 | AI31: ='OA&GRIDCO'!AU31+'Day Ahead IEX PXIL'!Y31+RTM!Y31 -> 115 | AJ31: ='OA&GRIDCO'!AV31+'Day Ahead IEX PXIL'!Z31+RTM!Z31 -> 34.5 | AK31: ='OA&GRIDCO'!BS31+'Day Ahead IEX PXIL'!AK31+RTM!AK31 -> 96.39 | AL31: ='OA&GRIDCO'!BT31+'Day Ahead IEX PXIL'!AL31+RTM!AL31 -> 7.12 | AM31: ='OA&GRIDCO'!BC31+'Day Ahead IEX PXIL'!AE31+RTM!AE31 -> 0 | AN31: ='OA&GRIDCO'!BD31+'Day Ahead IEX PXIL'!AF31+RTM!AF31 -> 0 | AO31: ='OA&GRIDCO'!CC31+'Day Ahead IEX PXIL'!AQ31+RTM!AQ31 -> 0 | AP31: ='OA&GRIDCO'!CD31+'Day Ahead IEX PXIL'!AR31+RTM!AR31 -> 0 | AQ31: ='OA&GRIDCO'!CO31+'Day Ahead IEX PXIL'!AW31+RTM!AW31 -> 45.08 | AR31: ='OA&GRIDCO'!CP31+'Day Ahead IEX PXIL'!AX31+RTM!AX31 -> 14 | AS31: ='OA&GRIDCO'!DA31+'Day Ahead IEX PXIL'!BC31+RTM!BC31 -> 329.77738 | AT31: ='OA&GRIDCO'!DB31+'Day Ahead IEX PXIL'!BD31+RTM!BD31 -> 0 | AU31: ='Day Ahead IEX PXIL'!BI31+RTM!BI31+'OA&GRIDCO'!OY31 -> 0 | AV31: ='Day Ahead IEX PXIL'!BJ31+RTM!BJ31+'OA&GRIDCO'!OZ31 -> 0 | AY31: 0 | AZ31: ='OA&GRIDCO'!DL31+'Day Ahead IEX PXIL'!BP31+RTM!BP31 -> 13.7 | BA31: ='OA&GRIDCO'!EC31+'Day Ahead IEX PXIL'!BU31+RTM!BU31 -> 0 | BB31: ='OA&GRIDCO'!ED31+'Day Ahead IEX PXIL'!BV31+RTM!BV31 -> 0 | BC31: ='OA&GRIDCO'!EQ31+'Day Ahead IEX PXIL'!CA31+RTM!CA31 -> 610.31 | BD31: ='OA&GRIDCO'!ER31+'Day Ahead IEX PXIL'!CB31+RTM!CB31 -> 103.61 | BE31: ='OA&GRIDCO'!OC31+GDAM!U31 -> 0 | BF31: ='OA&GRIDCO'!OD31+GDAM!V31 -> 0 | BI31: ='OA&GRIDCO'!EW31+'Day Ahead IEX PXIL'!CG31+RTM!CG31 -> 1.24 | BJ31: ='OA&GRIDCO'!EX31+'Day Ahead IEX PXIL'!CH31+RTM!CH31 -> 0 | BK31: ='OA&GRIDCO'!KY31+RTM!FG31+'Day Ahead IEX PXIL'!GW31 -> 0 | BL31: ='OA&GRIDCO'!KZ31+RTM!FH31+'Day Ahead IEX PXIL'!GX31 -> 0 | BM31: ='Day Ahead IEX PXIL'!CM31+RTM!CM31+'OA&GRIDCO'!FC31 -> 28 | BN31: ='OA&GRIDCO'!FD31+'Day Ahead IEX PXIL'!CN31+RTM!CN31 -> 0 | BQ31: ='OA&GRIDCO'!FQ31+'Day Ahead IEX PXIL'!CS31+RTM!CS31 -> 2.06 | BR31: ='OA&GRIDCO'!FR31+'Day Ahead IEX PXIL'!CT31+RTM!CT31 -> 0 | BS31: ='OA&GRIDCO'!JW31+'Day Ahead IEX PXIL'!FA31+RTM!EU31 -> 53.8863 | BT31: ='OA&GRIDCO'!JX31+'Day Ahead IEX PXIL'!FB31+RTM!EV31 -> 10 | BU31: ='OA&GRIDCO'!GG31+RTM!G31 -> 0 | BV31: ='OA&GRIDCO'!GH31 -> 0 | BW31: ='OA&GRIDCO'!HA31+'Day Ahead IEX PXIL'!DK31+RTM!DE31 -> 0 | BX31: ='OA&GRIDCO'!HB31 -> 0 | BY31: ='Day Ahead IEX PXIL'!GK31+RTM!FA31+'OA&GRIDCO'!LE31 -> 0 | BZ31: ='Day Ahead IEX PXIL'!GL31+RTM!FB31+'OA&GRIDCO'!LF31 -> 0 | CC31: =RTM!GI31+'Day Ahead IEX PXIL'!II31+GDAM!M31 -> 0 | CD31: =RTM!GJ31 -> 0 | CE31: ='OA&GRIDCO'!HI31+'Day Ahead IEX PXIL'!DQ31+RTM!DK31 -> 0 | CF31: ='OA&GRIDCO'!HJ31+'Day Ahead IEX PXIL'!DR31+RTM!DL31 -> 0 | CG31: ='OA&GRIDCO'!HO31+'Day Ahead IEX PXIL'!DW31+RTM!DQ31 -> 5.15 | CH31: ='OA&GRIDCO'!HP31+'Day Ahead IEX PXIL'!DX31+RTM!DR31 -> 0 | CI31: ='Day Ahead IEX PXIL'!HE31+'OA&GRIDCO'!DI31+RTM!GY31 -> 1.03 | CJ31: ='Day Ahead IEX PXIL'!HF31+'OA&GRIDCO'!DJ31 -> 0 | CK31: ='OA&GRIDCO'!KU31+'Day Ahead IEX PXIL'!DE31 -> 0 | CL31: ='OA&GRIDCO'!KV31+'Day Ahead IEX PXIL'!DF31 -> 0 | CM31: ='Day Ahead IEX PXIL'!FS31+RTM!FS31 -> 0 | CN31: ='Day Ahead IEX PXIL'!FT31 -> 0 | CO31: =RTM!IY31+'Day Ahead IEX PXIL'!IU31 -> 0 | CP31: =RTM!IZ31+'Day Ahead IEX PXIL'!IV31 -> 0 | CQ31: ='OA&GRIDCO'!KI31+'Day Ahead IEX PXIL'!FM31+RTM!GE31 -> 0 | CR31: ='OA&GRIDCO'!KJ31+'Day Ahead IEX PXIL'!FN31 -> 0 | CS31: ='OA&GRIDCO'!KO31+'Day Ahead IEX PXIL'!FY31+RTM!FY31 -> 0 | CT31: ='Day Ahead IEX PXIL'!FZ31 -> 0 | CU31: 0 | CV31: ='Day Ahead IEX PXIL'!GF31 -> 0 | CW31: ='OA&GRIDCO'!HU31+'Day Ahead IEX PXIL'!EC31+RTM!DW31 -> 400 | CX31: ='OA&GRIDCO'!HV31+'Day Ahead IEX PXIL'!ED31+RTM!DX31 -> 0 | CY31: ='OA&GRIDCO'!IG31+'Day Ahead IEX PXIL'!EI31+RTM!EC31 -> 4.3 | CZ31: ='OA&GRIDCO'!IH31+'Day Ahead IEX PXIL'!EJ31+RTM!ED31 -> 1.075 | DA31: ='OA&GRIDCO'!IU31+'Day Ahead IEX PXIL'!EO31+RTM!EI31 -> 0 | DB31: ='OA&GRIDCO'!IV31+'Day Ahead IEX PXIL'!EP31+RTM!EJ31 -> 0 | DE31: ='Day Ahead IEX PXIL'!FC31+'OA&GRIDCO'!KC31+RTM!GM31 -> 0 | DF31: ='Day Ahead IEX PXIL'!FD31+'OA&GRIDCO'!KD31 -> 0 | DG31: ='OA&GRIDCO'!JG31+'Day Ahead IEX PXIL'!EU31+RTM!EO31 -> 26.8 | DH31: ='OA&GRIDCO'!JH31+'Day Ahead IEX PXIL'!EV31+RTM!EP31 -> 0 | DI31: 0 | DJ31: 0 | DK31: =RTM!FM31 -> 0 | DL31: =RTM!FN31 -> 0 | DM31: ='OA&GRIDCO'!LH31+'Day Ahead IEX PXIL'!HU31+'Day Ahead IEX PXIL'!HU31 -> 0 | DN31: ='OA&GRIDCO'!LJ31+'Day Ahead IEX PXIL'!HV31+RTM!GV31 -> 0 | DO31: ='OA&GRIDCO'!LU31+'Day Ahead IEX PXIL'!HO31+RTM!IU31 -> 54.795 | DP31: ='OA&GRIDCO'!LV31+'Day Ahead IEX PXIL'!HP31+RTM!IV31 -> 0 | DQ31: =RTM!HK31 -> 1.24 | DR31: =RTM!HL31 -> 0 | DS31: =RTM!HO31 -> 0 | DT31: =RTM!HP31 -> 0 | DU31: =RTM!HS31 -> 0 | DV31: =RTM!HT31 -> 0 | DW31: =RTM!HW31+'OA&GRIDCO'!MK31 -> 25.26 | DX31: =RTM!HX31 -> 0 | DY31: =RTM!IA31 -> 0 | DZ31: =RTM!IB31 -> 0 | EA31: =RTM!IC31 -> 0 | EB31: =RTM!ID31 -> 0 | EC31: ='OA&GRIDCO'!MQ31 -> 0 | ED31: ='OA&GRIDCO'!MR31 -> 0 | EE31: ='OA&GRIDCO'!MU31 -> 0 | EF31: ='OA&GRIDCO'!MV31 -> 0 | EG31: ='OA&GRIDCO'!MY31+'Day Ahead IEX PXIL'!IM31+GDAM!G31+RTM!II31 -> 0 | EH31: ='OA&GRIDCO'!MZ31+'Day Ahead IEX PXIL'!IN31+RTM!IJ31+GDAM!H31 -> 0 | EI31: ='Day Ahead IEX PXIL'!IQ31+RTM!IM31+'OA&GRIDCO'!NC31+GDAM!BO31 -> 0 | EJ31: ='Day Ahead IEX PXIL'!IR31+RTM!IN31+'OA&GRIDCO'!ND31 -> 0 | EK31: ='OA&GRIDCO'!NG31 -> 0 | EL31: ='OA&GRIDCO'!NH31 -> 0 | EM31: =RTM!IQ31 -> 0 | EN31: =RTM!IR31 -> 0 | EO31: =RTM!JC31 -> 0 | EP31: =RTM!JD31 -> 0 | EQ31: ='OA&GRIDCO'!NK31 -> 0 | ER31: ='OA&GRIDCO'!NL31 -> 0 | ES31: ='OA&GRIDCO'!NM31+RTM!HC31+'Day Ahead IEX PXIL'!IY31 -> 4.12 | ET31: ='OA&GRIDCO'!NP31+RTM!HD31+'Day Ahead IEX PXIL'!IZ31 -> 0 | EU31: =RTM!JG31 -> 1.55 | EV31: =RTM!JH31 -> 0 | EW31: =RTM!JK31 -> 0 | EX31: =RTM!JL31 -> 0 | EY31: =GDAM!S31+'OA&GRIDCO'!OM31+RTM!JO31 -> 0 | EZ31: =GDAM!T31+'OA&GRIDCO'!OD31+RTM!JP31 -> 0 | FA31: =GDAM!Y31+RTM!JS31 -> 0 | FB31: =GDAM!Z31+RTM!JT31 -> 0 | FC31: =RTM!JW31 -> 0 | FD31: =RTM!JX31 -> 0 | FE31: =GDAM!AE31+'OA&GRIDCO'!OU31 -> 0 | FF31: =GDAM!AF31+'OA&GRIDCO'!OV31 -> 0 | FG31: =GDAM!AK31 -> 0 | FH31: =GDAM!AL31 -> 0 | FI31: =GDAM!AQ31 -> 0 | FJ31: =GDAM!AR31 -> 0 | FK31: =GDAM!AW31 -> 0 | FL31: =GDAM!AX31 -> 0 | FM31: =GDAM!BC31 -> 0 | FN31: =GDAM!BD31 -> 0 | FO31: =GDAM!BI31 -> 0 | FP31: =GDAM!BJ31 -> 0 | FQ31: =C31+E31+G31+I31+K31+M31+O31+Q31+W31+Y31+AA31+AC31+AE31+AG31+AI31+AK31+AM31+AO31+AQ31+AS31+AU31+AW31+AY31+BA31+BC31+BE31+BG31+BI31+BK31+BM31+BO31+BQ31+BS31+BU31+BW31+BY31+CA31+CC31+CE31+CG31+CI31+CK31+CM31+CQ31+CS31+CU31+CW31+CY31+DA31+DC31+DE31+DG31+DI31+DK31+DM31+DO31+DQ31+DS31+DU31+DW31+DY31+EA31+EC31+EE31+EG31+EI31+EK31+CO31+EM31+EO31+EQ31+ES31+EU31+EW31+EY31+FA31+FC31+FE31+FG31+FI31+FK31+FM31+FO31 -> 1855.2787 | FR31: =D31+F31+H31+J31+L31+N31+P31+R31+X31+Z31+AB31+AD31+AF31+AH31+AJ31+AL31+AN31+AP31+AR31+AT31+AV31+AX31+AZ31+BB31+BD31+BH31+BJ31+BL31+BN31+BP31+BF31+BR31+BT31+BV31+BX31+BZ31+CB31+CD31+CF31+CH31+CJ31+CL31+CN31+CR31+CT31+CV31+CX31+CZ31+DB31+DD31+DF31+DH31+DJ31+DL31+DN31+DP31+DR31+DT31+DV31+DX31+DZ31+EB31+ED31+EF31+EH31+EJ31+EL31+EN31+CP31+EP31+ER31+ET31+EV31+EX31+EZ31+FB31+FD31+FF31+FH31+FJ31+FL31+FN31+FP31 -> 186.785
... A106: 2345-2400 | B106: 96 | G106: 24 | H106: 0.9 | O106: 0 | Q106: 9 | R106: 0.85 | S106: 25 | U106: 37 | W106: 0 | Y106: 0 | AA106: 0 | AC106: 0 | AE106: ='OA&GRIDCO'!W106+'Day Ahead IEX PXIL'!M106+RTM!M106 -> 36.08 | AF106: ='OA&GRIDCO'!X106+'Day Ahead IEX PXIL'!N106+RTM!N106 -> 1.03 | AG106: ='OA&GRIDCO'!AC106+'Day Ahead IEX PXIL'!S106+RTM!S106 -> 1.86 | AH106: ='OA&GRIDCO'!AD106+'Day Ahead IEX PXIL'!T106+RTM!T106 -> 0 | AI106: ='OA&GRIDCO'!AU106+'Day Ahead IEX PXIL'!Y106+RTM!Y106 -> 115 | AJ106: ='OA&GRIDCO'!AV106+'Day Ahead IEX PXIL'!Z106+RTM!Z106 -> 34.5 | AK106: ='OA&GRIDCO'!BS106+'Day Ahead IEX PXIL'!AK106+RTM!AK106 -> 60.31 | AL106: ='OA&GRIDCO'!BT106+'Day Ahead IEX PXIL'!AL106+RTM!AL106 -> 7.12 | AM106: ='OA&GRIDCO'!BC106+'Day Ahead IEX PXIL'!AE106+RTM!AE106 -> 0 | AN106: ='OA&GRIDCO'!BD106+'Day Ahead IEX PXIL'!AF106+RTM!AF106 -> 0 | AO106: ='OA&GRIDCO'!CC106+'Day Ahead IEX PXIL'!AQ106+RTM!AQ106 -> 0 | AP106: ='OA&GRIDCO'!CD106+'Day Ahead IEX PXIL'!AR106+RTM!AR106 -> 0 | AQ106: ='OA&GRIDCO'!CO106+'Day Ahead IEX PXIL'!AW106+RTM!AW106 -> 45.08 | AR106: ='OA&GRIDCO'!CP106+'Day Ahead IEX PXIL'!AX106+RTM!AX106 -> 14 | AS106: ='OA&GRIDCO'!DA106+'Day Ahead IEX PXIL'!BC106+RTM!BC106 -> 329.77738 | AT106: ='OA&GRIDCO'!DB106+'Day Ahead IEX PXIL'!BD106+RTM!BD106 -> 0 | AU106: ='Day Ahead IEX PXIL'!BI106+RTM!BI106+'OA&GRIDCO'!OY106 -> 0 | AV106: ='Day Ahead IEX PXIL'!BJ106+RTM!BJ106+'OA&GRIDCO'!OZ106 -> 0 | AY106: 0 | AZ106: ='OA&GRIDCO'!DL106+'Day Ahead IEX PXIL'!BP106+RTM!BP106 -> 13.7 | BA106: ='OA&GRIDCO'!EC106+'Day Ahead IEX PXIL'!BU106+RTM!BU106 -> 0 | BB106: ='OA&GRIDCO'!ED106+'Day Ahead IEX PXIL'!BV106+RTM!BV106 -> 0 | BC106: ='OA&GRIDCO'!EQ106+'Day Ahead IEX PXIL'!CA106+RTM!CA106 -> 465.98 | BD106: ='OA&GRIDCO'!ER106+'Day Ahead IEX PXIL'!CB106+RTM!CB106 -> 103.61 | BE106: ='OA&GRIDCO'!OC106+GDAM!U106 -> 0 | BF106: ='OA&GRIDCO'!OD106+GDAM!V106 -> 0 | BI106: ='OA&GRIDCO'!EW106+'Day Ahead IEX PXIL'!CG106+RTM!CG106 -> 1.03 | BJ106: ='OA&GRIDCO'!EX106+'Day Ahead IEX PXIL'!CH106+RTM!CH106 -> 0 | BK106: ='OA&GRIDCO'!KY106+RTM!FG106+'Day Ahead IEX PXIL'!GW106 -> 0 | BL106: ='OA&GRIDCO'!KZ106+RTM!FH106+'Day Ahead IEX PXIL'!GX106 -> 0 | BM106: ='Day Ahead IEX PXIL'!CM106+RTM!CM106+'OA&GRIDCO'!FC106 -> 28 | BN106: ='OA&GRIDCO'!FD106+'Day Ahead IEX PXIL'!CN106+RTM!CN106 -> 0 | BQ106: ='OA&GRIDCO'!FQ106+'Day Ahead IEX PXIL'!CS106+RTM!CS106 -> 2.06 | BR106: ='OA&GRIDCO'!FR106+'Day Ahead IEX PXIL'!CT106+RTM!CT106 -> 0 | BS106: ='OA&GRIDCO'!JW106+'Day Ahead IEX PXIL'!FA106+RTM!EU106 -> 53.8863 | BT106: ='OA&GRIDCO'!JX106+'Day Ahead IEX PXIL'!FB106+RTM!EV106 -> 10 | BU106: ='OA&GRIDCO'!GG106+RTM!G106 -> 0 | BV106: ='OA&GRIDCO'!GH106 -> 0 | BW106: ='OA&GRIDCO'!HA106+'Day Ahead IEX PXIL'!DK106+RTM!DE106 -> 0 | BX106: ='OA&GRIDCO'!HB106 -> 0 | BY106: ='Day Ahead IEX PXIL'!GK106+RTM!FA106+'OA&GRIDCO'!LE106 -> 0 | BZ106: ='Day Ahead IEX PXIL'!GL106+RTM!FB106+'OA&GRIDCO'!LF106 -> 0 | CC106: =RTM!GI106+'Day Ahead IEX PXIL'!II106+GDAM!M106 -> 0 | CD106: =RTM!GJ106 -> 0 | CE106: ='OA&GRIDCO'!HI106+'Day Ahead IEX PXIL'!DQ106+RTM!DK106 -> 0 | CF106: ='OA&GRIDCO'!HJ106+'Day Ahead IEX PXIL'!DR106+RTM!DL106 -> 0 | CG106: ='OA&GRIDCO'!HO106+'Day Ahead IEX PXIL'!DW106+RTM!DQ106 -> 1.55 | CH106: ='OA&GRIDCO'!HP106+'Day Ahead IEX PXIL'!DX106+RTM!DR106 -> 0 | CI106: ='Day Ahead IEX PXIL'!HE106+'OA&GRIDCO'!DI106+RTM!GY106 -> 0 | CJ106: ='Day Ahead IEX PXIL'!HF106+'OA&GRIDCO'!DJ106 -> 0 | CK106: ='OA&GRIDCO'!KU106+'Day Ahead IEX PXIL'!DE106 -> 0 | CL106: ='OA&GRIDCO'!KV106+'Day Ahead IEX PXIL'!DF106 -> 0 | CM106: ='Day Ahead IEX PXIL'!FS106+RTM!FS106 -> 0 | CN106: ='Day Ahead IEX PXIL'!FT106 -> 0 | CO106: =RTM!IY106+'Day Ahead IEX PXIL'!IU106 -> 0 | CP106: =RTM!IZ106+'Day Ahead IEX PXIL'!IV106 -> 0 | CQ106: ='OA&GRIDCO'!KI106+'Day Ahead IEX PXIL'!FM106+RTM!GE106 -> 0 | CR106: ='OA&GRIDCO'!KJ106+'Day Ahead IEX PXIL'!FN106 -> 0 | CS106: ='OA&GRIDCO'!KO106+'Day Ahead IEX PXIL'!FY106+RTM!FY106 -> 0 | CT106: ='Day Ahead IEX PXIL'!FZ106 -> 0 | CU106: 0 | CV106: ='Day Ahead IEX PXIL'!GF106 -> 0 | CW106: ='OA&GRIDCO'!HU106+'Day Ahead IEX PXIL'!EC106+RTM!DW106 -> 565 | CX106: ='OA&GRIDCO'!HV106+'Day Ahead IEX PXIL'!ED106+RTM!DX106 -> 0 | CY106: ='OA&GRIDCO'!IG106+'Day Ahead IEX PXIL'!EI106+RTM!EC106 -> 4.3 | CZ106: ='OA&GRIDCO'!IH106+'Day Ahead IEX PXIL'!EJ106+RTM!ED106 -> 1.075 | DA106: ='OA&GRIDCO'!IU106+'Day Ahead IEX PXIL'!EO106+RTM!EI106 -> 0 | DB106: ='OA&GRIDCO'!IV106+'Day Ahead IEX PXIL'!EP106+RTM!EJ106 -> 0 | DE106: ='Day Ahead IEX PXIL'!FC106+'OA&GRIDCO'!KC106+RTM!GM106 -> 0 | DF106: ='Day Ahead IEX PXIL'!FD106+'OA&GRIDCO'!KD106 -> 0 | DG106: ='OA&GRIDCO'!JG106+'Day Ahead IEX PXIL'!EU106+RTM!EO106 -> 26.8 | DH106: ='OA&GRIDCO'!JH106+'Day Ahead IEX PXIL'!EV106+RTM!EP106 -> 0 | DI106: 0 | DJ106: 0 | DK106: =RTM!FM106 -> 4.76 | DL106: =RTM!FN106 -> 0 | DM106: ='OA&GRIDCO'!LH106+'Day Ahead IEX PXIL'!HU106+'Day Ahead IEX PXIL'!HU106 -> 0 | DN106: ='OA&GRIDCO'!LJ106+'Day Ahead IEX PXIL'!HV106+RTM!GV106 -> 0 | DO106: ='OA&GRIDCO'!LU106+'Day Ahead IEX PXIL'!HO106+RTM!IU106 -> 54.795 | DP106: ='OA&GRIDCO'!LV106+'Day Ahead IEX PXIL'!HP106+RTM!IV106 -> 0 | DQ106: =RTM!HK106 -> 1.03 | DR106: =RTM!HL106 -> 0 | DS106: =RTM!HO106 -> 0 | DT106: =RTM!HP106 -> 0 | DU106: =RTM!HS106 -> 0 | DV106: =RTM!HT106 -> 0 | DW106: =RTM!HW106+'OA&GRIDCO'!MK106 -> 25.26 | DX106: =RTM!HX106 -> 0 | DY106: =RTM!IA106 -> 0 | DZ106: =RTM!IB106 -> 0 | EA106: =RTM!IC106 -> 0 | EB106: =RTM!ID106 -> 0 | EC106: ='OA&GRIDCO'!MQ106 -> 0 | ED106: ='OA&GRIDCO'!MR106 -> 0 | EE106: ='OA&GRIDCO'!MU106 -> 0 | EF106: ='OA&GRIDCO'!MV106 -> 0 | EG106: ='OA&GRIDCO'!MY106+'Day Ahead IEX PXIL'!IM106+GDAM!G106+RTM!II106 -> 0 | EH106: ='OA&GRIDCO'!MZ106+'Day Ahead IEX PXIL'!IN106+RTM!IJ106+GDAM!H106 -> 0 | EI106: ='Day Ahead IEX PXIL'!IQ106+RTM!IM106+'OA&GRIDCO'!NC106+GDAM!BO106 -> 4.43 | EJ106: ='Day Ahead IEX PXIL'!IR106+RTM!IN106+'OA&GRIDCO'!ND106 -> 0 | EK106: ='OA&GRIDCO'!NG106 -> 0 | EL106: ='OA&GRIDCO'!NH106 -> 0 | EM106: =RTM!IQ106 -> 0 | EN106: =RTM!IR106 -> 0 | EO106: =RTM!JC106 -> 0 | EP106: =RTM!JD106 -> 0 | EQ106: ='OA&GRIDCO'!NK106 -> 0 | ER106: ='OA&GRIDCO'!NL106 -> 0 | ES106: ='OA&GRIDCO'!NM106+RTM!HC106+'Day Ahead IEX PXIL'!IY106 -> 0 | ET106: ='OA&GRIDCO'!NP106+RTM!HD106+'Day Ahead IEX PXIL'!IZ106 -> 0 | EU106: =RTM!JG106 -> 1.67 | EV106: =RTM!JH106 -> 0 | EW106: =RTM!JK106 -> 0 | EX106: =RTM!JL106 -> 0 | EY106: =GDAM!S106+'OA&GRIDCO'!OM106+RTM!JO106 -> 0 | EZ106: =GDAM!T106+'OA&GRIDCO'!OD106+RTM!JP106 -> 0 | FA106: =GDAM!Y106+RTM!JS106 -> 0 | FB106: =GDAM!Z106+RTM!JT106 -> 0 | FC106: =RTM!JW106 -> 0 | FD106: =RTM!JX106 -> 0 | FE106: =GDAM!AE106+'OA&GRIDCO'!OU106 -> 0 | FF106: =GDAM!AF106+'OA&GRIDCO'!OV106 -> 0 | FG106: =GDAM!AK106 -> 0 | FH106: =GDAM!AL106 -> 0 | FI106: =GDAM!AQ106 -> 0 | FJ106: =GDAM!AR106 -> 0 | FK106: =GDAM!AW106 -> 0 | FL106: =GDAM!AX106 -> 0 | FM106: =GDAM!BC106 -> 0 | FN106: =GDAM!BD106 -> 0 | FO106: =GDAM!BI106 -> 0 | FP106: =GDAM!BJ106 -> 0 | FQ106: =C106+E106+G106+I106+K106+M106+O106+Q106+W106+Y106+AA106+AC106+AE106+AG106+AI106+AK106+AM106+AO106+AQ106+AS106+AU106+AW106+AY106+BA106+BC106+BE106+BG106+BI106+BK106+BM106+BO106+BQ106+BS106+BU106+BW106+BY106+CA106+CC106+CE106+CG106+CI106+CK106+CM106+CQ106+CS106+CU106+CW106+CY106+DA106+DC106+DE106+DG106+DI106+DK106+DM106+DO106+DQ106+DS106+DU106+DW106+DY106+EA106+EC106+EE106+EG106+EI106+EK106+CO106+EM106+EO106+EQ106+ES106+EU106+EW106+EY106+FA106+FC106+FE106+FG106+FI106+FK106+FM106+FO106 -> 1861.6587 | FR106: =D106+F106+H106+J106+L106+N106+P106+R106+X106+Z106+AB106+AD106+AF106+AH106+AJ106+AL106+AN106+AP106+AR106+AT106+AV106+AX106+AZ106+BB106+BD106+BH106+BJ106+BL106+BN106+BP106+BF106+BR106+BT106+BV106+BX106+BZ106+CB106+CD106+CF106+CH106+CJ106+CL106+CN106+CR106+CT106+CV106+CX106+CZ106+DB106+DD106+DF106+DH106+DJ106+DL106+DN106+DP106+DR106+DT106+DV106+DX106+DZ106+EB106+ED106+EF106+EH106+EJ106+EL106+EN106+CP106+EP106+ER106+ET106+EV106+EX106+EZ106+FB106+FD106+FF106+FH106+FJ106+FL106+FN106+FP106 -> 186.785
A107: Max | C107: =MAX(C11:C106) -> 0 | D107: =MAX(D11:D106) -> 0 | E107: =MAX(E11:E106) -> 0 | F107: =MAX(F11:F106) -> 0 | G107: =MAX(G11:G106) -> 24 | H107: =MAX(H11:H106) -> 0.9 | I107: =MAX(I11:I106) -> 0 | J107: =MAX(J11:J106) -> 0 | ... N107: =MAX(N11:N106) -> 0 | O107: 0 | P107: =MAX(P11:P106) -> 0 | Q107: =MAX(Q11:Q106) -> 9 | R107: =MAX(R11:R106) -> 0.85 | S107: =MAX(S11:S106) -> 25 | T107: =MAX(T11:T106) -> 0 | U107: =MAX(U11:U106) -> 37 | V107: =MAX(V11:V106) -> 0 | W107: =MAX(W11:W106) -> 12.22 | ... FR107: =MAX(FR11:FR106) -> 188.785
A108: Min | C108: =MIN(C11:C106) -> 0 | D108: =MIN(D11:D106) -> 0 | E108: =MIN(E11:E106) -> 0 | F108: =MIN(F11:F106) -> 0 | G108: =MIN(G11:G106) -> 24 | H108: =MIN(H11:H106) -> 0.9 | I108: =MIN(I11:I106) -> 0 | J108: =MIN(J11:J106) -> 0 | ... FR108: =MIN(FR11:FR106) -> 175.785
A109: AVG | C109: =AVERAGE(C11:C106) -> #DIV/0! | D109: =AVERAGE(D11:D106) -> #DIV/0! | E109: =AVERAGE(E11:E106) -> #DIV/0! | F109: =AVERAGE(F11:F106) -> #DIV/0! | G109: =AVERAGE(G11:G106) -> 24 | H109: =AVERAGE(H11:H106) -> 0.9 | I109: =AVERAGE(I11:I106) -> #DIV/0! | J109: =AVERAGE(J11:J106) -> #DIV/0! | ... FR109: =AVERAGE(FR11:FR106) -> 183.70167
A110: MU | C110: =AVERAGE(C11:C106)*24/1000 -> #DIV/0! | D110: =AVERAGE(D11:D106)*24/1000 -> #DIV/0! | E110: =AVERAGE(E11:E106)*24/1000 -> #DIV/0! | F110: =AVERAGE(F11:F106)*24/1000 -> #DIV/0! | G110: =AVERAGE(G11:G106)*24/1000 -> 0.576 | H110: =AVERAGE(H11:H106)*24/1000 -> 0.0216 | I110: =AVERAGE(I11:I106)*24/1000 -> #DIV/0! | J110: =AVERAGE(J11:J106)*24/1000 -> #DIV/0! | ... FR110: =AVERAGE(FR11:FR106)*24/1000 -> 4.40884
A111: NB:- | AE111: 1.During high frequency condition injection of power may be restricted to the power purchase agreement quantum for maintaining grid security.
AE112: 2.The despatch quantum subject to availability of evacuation system and may vary on real time basis by the instruction of SCE over telephone.
AE113: L E G E N D
AE114: Yellow Colour | AM114: Schedule has been submitted as "Zero"
AE116: Blue Colour | AM116: Schedule has not been submitted
AE118: NO Colour | AM118: Schedule submitted but has not been accepted
AM119: (except for NALCO and IMFA)

Sheet OA&GRIDCO
A4: MESSAGE No. NIL | J4: DATE: | K4: ='CGP SCHEDULE'!L5 -> 20.09.2026 | AA4: Time: | AB4: ='CGP SCHEDULE'!$AG$5 -> 23:20
A6: From: GM(SLDC), Bhubaneswar | AD6: ='CGP SCHEDULE'!AG7 -> Revision-02
J7: FOR DATE: | L7: ='CGP SCHEDULE'!O8 -> 20.09.2026
A8: Time | B8: Block | C8: Aditya Aluminium | K8: Arati Steels | Y8: Aryan Ispat & Power Pvt. Ltd. | AE8: TATA STEEL POWER PLANT ATHAGARH (ERSTWHILE Bhubaneswar Power (P) Ltd) | AW8: JSW Bhushan Power & Steel Ltd, Jharsuguda | BE8: TSL Bhusan Steel Ltd, Meramundali | BU8: AMNS INDIA LTD (ESSAR) | CE8: FACOR POWER LTD Bhadrak | CQ8: GKEL(IPP) | DC8: Shyam Metallics | DK8: IMFA, Choudwar | DS8: JSL, Duburi | EE8: JSPL Angul | ES8: MGM_Minerals_Ltd | EY8: Nalco | FE8: NBVL CPP | FS8: RUNGTA MINES, Dhenkanal | GI8: DCBL(OCL), Rajgangpur | HC8: RSP, Rourkela | HK8: SREE GANESH METALICS | HQ8: VAL IPP | HW8: TATA STEEL SPONGE IRON | II8: VAL (CGP) | IW8: Visa Steel Ltd | JI8: NBVL (IPP) | JY8: VIRAJ STEEL & ENERGY PVT. LTD. | KE8: SMC Power Generation Ltd #2, Badmal, Jharsuguda | KK8: SMC Power Generation #1, Hirma,Jharsuguda | KQ8: MAITHAN ISPAT | KW8: MSP | LA8: ORISA SPONGE IRON | LG8: THAKUR PRASAD SAO & SONS PVT. LTD, #4, Jharsuguda | LK8: MTPCL | LW8: SID RUNGTA MINES LIMITED, KARAKOLHA | MC8: OCL_Iron_and_Steel_Limited | MM8: MCL 50MW SOLAR.PATNAGARH | MS8: Jagannath Power & Infra Private Limited | MW8: MGM_Green_Energy_Ltd | NA8: Times steel and power limited | NE8: VEDANTA_LANJIGARH | NI8: RUNGTA MINES LIMITED, KAMANDA STEEL PLANT | NM8: RUNGTA SONS PRIVATE LIMITED (JHARSUGUDA STEEL PLANT) | NQ8: Ampin_C&I_Eleven_Private_Limited | OE8: Ampin_C&I_three_Private_Limited | OO8: Sunglaze Power Private Limited | OW8: Hindalco
C9: Gridco | E9: OA (Hirakud Smelter) | I9: Total | K9: Gridco(OA) | M9: GUJARAT URJA VIKAS NIGAM LIMITED | O9: U P POWER CORPORATION LTD/UTTAR PRADESH/NR | Q9: PCKL_ KARNATAKA STATE | S9: DALMIA CEMENT BHARAT LTD, RAJGANGPUR,ODISHA | U9: VEDANTA LIMITED SEZ UNIT,JHARSUGUDA | W9: Total | Y9: BALCO | AA9: VEDANTA LTD SEZ UNIT JHARSUGUDA | AC9: Total | AE9: OA (EIM, Keonjhar) | AG9: OA (FAP, Balasore) | AI9: OA (FAP, Joda) | AK9: OA (Duburi, KPO) | AM9: OA (FAP, Bamnipal) | AO9: OA (TS Alloys, Athagarh) | AQ9: OA (FAP, Gopalpur) | AS9: OA (TSM, Meramundali) | AU9: Total | AW9: Gridco | BC9: Total | BE9: M/s Tata Steel Ltd, Kalinganagar | BG9: M/s FAP_JODA, TATA STEEL | BI9: M/s EIM_JODA, TATA STEEL | BK9: M/s FAP BALESORE, TATA STEEL | BM9: Dadra and Nagar Haveli and Daman and Diu Power Distribution Corporation Limited | BO9: VEDANTA ALUMINIUM METAL LIMITED- SEZ UNIT,JHARSUGUDA | BQ9: Torrent Power Limited - Dahej | BS9: Total | BU9: Gridco | BW9: OA (Palasponga) | BY9: O. A. (Hazira) | CA9: O. A. (Chitrakonda) | CC9: Total | CE9: Gridco | CG9: TAMILNADU GENERATION AND DISTRIBUTION CORPORATION LIMITED/Tamil Nadu/SR | CI9: Punjab State Power Corporation Limited/Punjab/NR | CK9: Ferro Alloys corporation limited | CM9: Rajasthan Urja Vikas and IT service ( Limited/Rajasthan/NR) | CO9: Total | CQ9: Gridco | CS9: Rajasthan Urja vikas and IT servies Ltd | CU9: TANGEDCO | CW9: GUVNL | CY9: TATA Steel, Meramandali | DA9: Total | DC9: Gridco | DI9: Total | DK9: Choudwar Given Schedule | DM9: Choudwar Accepted Schedule | DO9: TVL (Drawal) | DQ9: TVL Drawl from GRIDCO (STOA) | DS9: Gridco | DU9: RENEW GREEN (MHS ONE) PRIVATE LIMITED_SOLAR_HYBRID/Maharashtra/WR | DV9: RENEW GREEN (MHS ONE) PRIVATE LIMITED_SOLAR_HYBRID/Maharashtra/WR | EC9: Total | EG9: JSPL, Barbil | EI9: RAJASTHAN URJA VIKAS AND IT SERVICES LIMITED/Rajasthan/NR | EK9: GUVNL | EM9: TAMILNADU GENERATION AND DISTRIBUTION CORPORATION LIMITED/ TAMIL NADU/SR | EO9: MSEDCL/Maharashtra/WR | EQ9: Total | ES9: Gridco | EW9: Total | EY9: Gridco | FA9: Damanjodi (Drawl) | FC9: Angul (Generation) | FG9: Punjab State Power Corporation Limited/Punjab/NR | FI9: MSEDCL Discom | FK9: BIHAR DISCOM | FM9: Gujurat DISCOM | FQ9: Total | FS9: Gridco | FU9: Rungta Sons Pvt Ltd+Ferro Alloy Division | FW9: Rungta Mines Ltd+Kamanda Steel Plant | FY9: Rungta Mines Ltd+Sponge Iron Division karakola | GA9: Rungta Sons Pvt Ltd+Jharsuguda steel plant. | GC9: SMC Power Generation Limited(UNIT II) BADMAL | GE9: SMC Power Generation Limited (UNIT 1) HIRMA. | GG9: Total | GI9: KCW | GK9: Dalmia Cement (Bharat )Ltd, Lumshnong, Meghalaya | GM9: Dalmia Cement (Bharat) Ltd, Umrangso Line-1, North East | GO9: Dalmia Cement (Bharat) Ltd, Umrangso Line-2, North East | GQ9: Dalmia Cement (Bharat) Ltd, Lanka-Unit-1, North East | GS9: Dalmia Cement (Bharat) Ltd, Lanka-Unit-2, North East | GU9: Dalmia Cement (Bharat )Ltd, RCW | GW9: Dalmia Cement (Bharat) Ltd, Kadapa, AP | GY9: AIL GCW | HA9: Total | HC9: Gridco | HI9: Total | HK9: Power Company Karnataka Ltd SLDC / SR | HM9: PTC India Ltd | HO9: Total | HQ9: GRIDCO Schedule | HS9: DC | HU9: Total | HW9: Gridco | HY9: FAP (Joda) | IA9: FAP (Bamanipal) | IC9: FAP (Balasore) | IE9: Tata steel Joda East Iron mines,Joda | IG9: Total | II9: VAL SEZ | IK9: pxil(JBVNL) | IM9: APCPDCL | IO9: GUJARAT DISCOM | IU9: Total | IW9: Gridco | IY9: CENTRAL RAILWAY MAHARASTRA | JA9: TANGEDCO | JC9: APCPDCL | JE9: DNHDDPCL | JG9: Total | JI9: IPP+1 TO GRIDCO | JK9: IPP+2 TO GRIDCO | JM9: Vedanta Aluminium Metal Limited-SEZ UNIT,Jharsuguda | JO9: KPTCL | JQ9: BIHAR STATE POWER (HOLDING) COMPANY LIMITED / BIHAR / ER | JS9: RAJASTHAN URJA VIKAS AND IT SERVICES LIMITED | JU9: MSEDCL Discom | JW9: Total | JY9: Gridco | KA9: TANGEDCO | KC9: Total | KE9: TAMILNADU GENERATION AND DISTRIBUTION CORPORATION LIMITED | KG9: <Vedanta Limited SEZ UNIT, Jharsuguda2> | KI9: Total | KK9: T GNA (ADANI ELECTRICITY MUMBAI LTD. ) | KM9: TANGEDCO | KO9: Total | KQ9: CSPDCL, Chhattisgarh | KU9: Total | KW9: OA (Vedanta) | KY9: Total | LE9: Total | LG9: OA (Vedanta) | LI9: Total | LK9: OA (GRIDCO MTOA) | LM9: NPCL | LO9: GRIDCO LTA | LQ9: PCKL | LS9: PSPCL | LU9: Total | LW9: RSPL FAD, Dhenkanal | LY9: KSP | MA9: TOTAL | MC9: CSPDCL | ME9: BRPL | MG9: TPDDL | MI9: BYPL | MK9: TOTAL | MM9: MCL,JAGANNATH, TALCHER | MO9: MCL,LAKHANPUR, JHARSUGUDA | MQ9: TOTAL | MS9: NPCL | MU9: TOTAL | MY9: TOTAL | NA9: U P POWER CORPORATION LTD/UTTAR PRADESH/NR | NC9: TOTAL | NE9: VAL SEZ | NG9: TOTAL | NI9: RUNGTA MINES LIMITED, SPONGE IRON DIV | NK9: TOTAL | NM9: RSPL_FAD DHENKANAL | NO9: TOTAL | NQ9: KIIT | NS9: Graphite India | NU9: Parle Agro | NW9: Arya Iron and Steel Company Private Limited | NY9: Hindustan Coca Cola Beverages Private Limited | OA9: Shree Ganesh Metaliks Limited | OC9: TOTAL | OE9: Jindal Stainless Limited(11.3MW) New Duburi GSS | OG9: Emami Mills Limited(4.66 MW) | OI9: Bharti Airtel Limited(2.95 MW) Chandaka GSS | OK9: Jindal Ferrous Limited(1MW) New Duburi GSS | OM9: TOTAL | OO9: TRL Krosaki Refractories Limited | OQ9: Cogent Steel & Pipes Pvt. Ltd. | OS9: Sterling Industries | OU9: TOTAL | OY9: TOTAL
C10: MW | D10: MVAR | E10: MW | F10: MVAR | G10: MW | H10: MVAR | I10: MW | J10: MVAR | K10: MW | L10: MVAR | M10: MW | N10: MVAR | O10: MW | P10: MVAR | Q10: MW | R10: MVAR | S10: MW | T10: MVAR | U10: MW | V10: MVAR | W10: MW | X10: MVAR | Y10: MW | Z10: MVAR | AA10: MW | AB10: MVAR | AC10: MW | AD10: MVAR | AE10: MW | AF10: MVAR | AG10: MW | AH10: MVAR | AI10: MW | AJ10: MVAR | AK10: MW | AL10: MVAR | AM10: MW | AN10: MVAR | AO10: MW | AP10: MVAR | AQ10: MW | AR10: MVAR | AS10: MW | AT10: MVAR | AU10: MW | AV10: MVAR | AW10: MW | AX10: MVAR | AY10: MW | AZ10: MVAR | BA10: MW | BB10: MVAR | BC10: MW | BD10: MVAR | BE10: MW | BF10: MVAR | BG10: MW | BH10: MVAR | BI10: MW | BJ10: MVAR | BK10: MW | BL10: MVAR | BM10: MW | BN10: MVAR | BO10: MW | BP10: MVAR | BQ10: MW | BR10: MVAR | BS10: MW | BT10: MVAR | BU10: MW | BV10: MVAR | BW10: MW | BX10: MVAR | BY10: MW | BZ10: MVAR | CA10: MW | CB10: MVAR | CC10: MW | CD10: MVAR | CE10: MW | CF10: MVAR | CG10: MW | CH10: MVAR | CI10: MW | CJ10: MVAR | CK10: MW | CL10: MVAR | CM10: MW | CN10: MVAR | CO10: MW | CP10: MVAR | CQ10: MW | CR10: MVAR | CS10: MW | CT10: MVAR | CU10: MW | CV10: MVAR | CW10: MW | CX10: MVAR | CY10: MW | CZ10: MVAR | DA10: MW | DB10: MVAR | DC10: MW | DD10: MVAR | DE10: MW | DF10: MVAR | DG10: MW | DH10: MVAR | DI10: MW | DJ10: MVAR | DK10: MW | DL10: MVAR | DM10: MW | DN10: MVAR | DO10: MW | DP10: MVAR | DQ10: MW | DR10: MVAR | DS10: MW | DT10: MVAR | DU10: MW | DV10: MVAR | DW10: MW | DX10: MVAR | DY10: MW | DZ10: MVAR | EA10: MW | EB10: MVAR | EC10: MW | ED10: MVAR | EG10: MW | EH10: MVAR | EI10: MW | EJ10: MVAR | EK10: MW | EL10: MVAR | EM10: MW | EN10: MVAR | EO10: MW | EP10: MVAR | EQ10: MW | ER10: MVAR | ES10: MW | ET10: MVAR | EU10: MW | EV10: MVAR | EW10: MW | EX10: MVAR | EY10: MW | EZ10: MVAR | FA10: MW | FB10: MVAR | FC10: MW | FD10: MVAR | FE10: MW | FF10: MVAR | FG10: MW | FH10: MVAR | FI10: MW | FJ10: MVAR | FK10: MW | FL10: MVAR | FM10: MW | FN10: MVAR | FO10: MW | FP10: MVAR | FQ10: MW | FR10: MVAR | FS10: MW | FT10: MVAR | FU10: MW | FV10: MVAR | FW10: MW | FX10: MVAR | FY10: MW | FZ10: MVAR | GA10: MW | GB10: MVAR | GC10: MW | GD10: MVAR | GE10: MW | GF10: MVAR | GG10: MW | GH10: MVAR | GI10: MW | GJ10: MVAR | GK10: MW | GL10: MVAR | GM10: MW | GN10: MVAR | GO10: MW | GP10: MVAR | GQ10: MW | GR10: MVAR | GS10: MW | GT10: MVAR | GU10: MW | GV10: MVAR | GW10: MW | GX10: MVAR | GY10: MW | GZ10: MVAR | HA10: MW | HB10: MVAR | HC10: MW | HD10: MVAR | HE10: MW | HF10: MVAR | HG10: MW | HH10: MVAR | HI10: MW | HJ10: MVAR | HK10: MW | HL10: MVAR | HM10: MW | HN10: MVAR | HO10: MW | HP10: MVAR | HQ10: MW | HR10: MVAR | HS10: MW | HT10: MVAR | HU10: MW | HV10: MVAR | HW10: MW | HX10: MVAR | HY10: MW | HZ10: MVAR | IA10: MW | IB10: MVAR | IC10: MW | ID10: MVAR | IE10: MW | IF10: MVAR | IG10: MW | IH10: MVAR | II10: MW | IJ10: MVAR | IK10: MW | IL10: MVAR | IM10: MW | IN10: MVAR | IO10: MW | IP10: MVAR | IQ10: MW | IR10: MW | IS10: MW | IT10: MVAR | IU10: MW | IV10: MVAR | IW10: MW | IX10: MVAR | IY10: MW | IZ10: MVAR | JA10: MW | JB10: MVAR | JC10: MW | JD10: MVAR | JE10: MW | JF10: MVAR | JG10: MW | JH10: MVAR | JI10: MW | JJ10: MVAR | JK10: MW | JL10: MVAR | JM10: MW | JN10: MVAR | JO10: MW | JP10: MVAR | JQ10: MW | JR10: MVAR | JS10: MW | JT10: MVAR | JU10: MW | JV10: MVAR | JW10: MW | JX10: MVAR | JY10: MW | JZ10: MVAR | KA10: MW | KB10: MVAR | KC10: MW | KD10: MVAR | KE10: MW | KF10: MVAR | KG10: MW | KH10: MVAR | KI10: MW | KJ10: MVAR | KK10: MW | KL10: MVAR | KM10: MW | KN10: MVAR | KO10: MW | KP10: MVAR | KQ10: MW | KR10: MVAR | KS10: MW | KT10: MVAR | KU10: MW | KV10: MVAR | KW10: MW | KX10: MVAR | KY10: MW | KZ10: MVAR | LA10: MW | LB10: MVAR | LC10: MW | LD10: MVAR | LE10: MW | LF10: MVAR | LG10: MW | LH10: MVAR | LI10: MW | LJ10: MVAR | LK10: MW | LL10: MVAR | LM10: MW | LN10: MVAR | LO10: MW | LP10: MVAR | LQ10: MW | LR10: MVAR | LS10: MW | LT10: MVAR | LU10: MW | LV10: MVAR | LW10: MW | LX10: MVAR | LY10: MW | LZ10: MVAR | MA10: MW | MB10: MVAR | MC10: MW | MD10: MVAR | ME10: MW | MF10: MVAR | MG10: MW | MH10: MVAR | MI10: MW | MJ10: MVAR | MK10: MW | ML10: MVAR | MM10: MW | MN10: MVAR | MO10: MW | MP10: MVAR | MQ10: MW | MR10: MVAR | MS10: MW | MT10: MVAR | MU10: MW | MV10: MVAR | MW10: MW | MX10: MVAR | MY10: MW | MZ10: MVAR | NA10: MW | NB10: MVAR | NC10: MW | ND10: MVAR | NE10: MW | NF10: MVAR | NG10: MW | NH10: MVAR | NI10: MW | NJ10: MVAR | NK10: MW | NL10: MVAR | NM10: MW | NN10: MVAR | NO10: MW | NP10: MVAR | NQ10: MW | NR10: MVAR | NS10: MW | NT10: MVAR | NU10: MW | NV10: MVAR | NW10: MW | NX10: MVAR | NY10: MW | NZ10: MVAR | OA10: MW | OB10: MVAR | OC10: MW | OD10: MVAR | OE10: MW | OF10: MVAR | OG10: MW | OH10: MVAR | OI10: MW | OJ10: MVAR | OK10: MW | OL10: MVAR | OM10: MW | ON10: MVAR | OO10: MW | OP10: MVAR | OQ10: MW | OR10: MVAR | OS10: MW | OT10: MVAR | OU10: MW | OV10: MVAR | OW10: MW | OX10: MVAR | OY10: MW | OZ10: MVAR
A11: 0 | B11: 1 | I11: =C11+E11+G11 -> 0 | J11: =D11+F11+H11 -> 0 | M11: 0 | N11: 0 | O11: 0 | P11: 0 | Q11: 5.15 | R11: 1.03 | W11: =K11+O11+Q11+S11+U11+M11 -> 5.15 | X11: =L11+N11+P11+R11+T11+V11 -> 1.03 | AC11: =Y11+AA11 -> 0 | AD11: =Z11+AB11 -> 0 | AK11: 115 | AL11: 34.5 | AU11: =AE11+AG11+AI11+AK11+AM11+AO11+AQ11+AS11 -> 115 | AV11: =AF11+AH11+AJ11+AL11+AN11+AP11+AR11+AT11 -> 34.5 | BC11: =AW11+AY11+BA11 -> 0 | BD11: =AX11+AZ11+BB11 -> 0 | BE11: 32 | BF11: 4.5568 | BG11: 10 | BH11: 1.424 | BI11: 0 | BJ11: 0 | BK11: 8 | BL11: 1.1392 | BS11: =BE11+BG11+BI11+BK11+BM11+BO11+BQ11 -> 50 | BT11: =BF11+BH11+BJ11+BL11+BN11+BP11+BR11 -> 7.12 | CC11: =BW11+BY11+CA11 -> 0 | CD11: =BX11+BZ11+CB11 -> 0 | CI11: 30.9 | CJ11: 10 | CK11: 8 | CL11: 2 | CM11: 6.18 | CN11: 2 | CO11: =CG11+CI11+CK11+CM11 -> 45.08 | CP11: =CH11+CJ11+CL11+CN11 -> 14 | CQ11: 50 | CU11: 0 | CW11: 63.814433 | DA11: =CQ11+CS11+CU11+CW11+CY11 -> 113.81443 | DB11: =CR11+CT11+CV11+CX11+CZ11 -> 0 | DI11: =DC11+DE11+DG11 -> 0 | DJ11: =DD11+DF11+DH11 -> 0 | DK11: 41.1 | DL11: 13.7 | DO11: 39.87 | DP11: 13.29 | EC11: =DS11+DU11+DW11+DY11+EA11 -> 0 | ED11: =DT11+DV11+DX11+DZ11+EB11 -> 0 | EG11: 43.3 | EH11: 10.83 | EI11: 257.73 | EJ11: 64.43 | EK11: 113.4 | EL11: 28.35 | EQ11: =EE11+EG11+EI11+EK11+EM11+EO11 -> 414.43 | ER11: =EF11+EH11+EJ11+EL11 -> 103.61 | EW11: =ES11+EU11 -> 0 | EX11: =ET11+EV11 -> 0 | FA11: 43 | FB11: 0 | FC11: 28 | FD11: 0 | FQ11: =FG11+FI11+FK11+FM11+FO11 -> 0 | FR11: =FH11+FJ11+FL11+FN11+FP11 -> 0 | GG11: =FS11+FW11+FY11+FU11+GA11+GC11+GE11 -> 0 | GH11: =FT11+FX11+FZ11+GB11+GD11+GF11 -> 0 | HI11: =HC11+HE11+HG11 -> 0 | HJ11: =HD11+HF11+HH11 -> 0 | HO11: =HK11+HM11 -> 0 | HP11: =HL11+HN11 -> 0 | HQ11: 535 | HS11: 535 | HU11: =HQ11 -> 535 | HV11: =HR11 -> 0 | IC11: 4.3 | ID11: 1.075 | IG11: =HW11+HY11+IA11+IC11+IE11 -> 4.3 | IH11: =HX11+HZ11+IB11+ID11+IF11 -> 1.075 | IU11: =II11+IK11+IM11+IO11+IQ11+IS11 -> 0 | IV11: =IJ11+IL11+IN11+IP11+IT11+IT11 -> 0 | JA11: 10.31 | JB11: 0 | JC11: 10.31 | JD11: 0 | JE11: 5.15 | JF11: 0 | JG11: =IW11+IY11+JA11+JC11+JE11 -> 25.77 | JH11: =IX11+IZ11+JB11+JD11+JF11 -> 0 | JI11: 0 | JJ11: 0 | JK11: 6.4663 | JL11: 1 | JO11: 0 | JP11: 0 | JQ11: 44.33 | JR11: 9 | JS11: 0 | JT11: 0 | JW11: =JI11+JK11+JM11+JO11+JQ11+JS11+JU11 -> 50.7963 | JX11: =JJ11+JL11+JN11+JP11+JR11+JT11+JV11 -> 10 | KC11: =JY11+KA11 -> 0 | KD11: =JZ11+KB11 -> 0 | KI11: =KE11+KG11 -> 0 | KJ11: =KF11+KH11 -> 0 | KO11: =KK11+KM11 -> 0 | KP11: =KL11+KN11 -> 0 | KU11: =KQ11+KS11 -> 0 | KV11: =KR11+KT11 -> 0 | KY11: =KW11 -> 0 | KZ11: =KX11 -> 0 | LE11: =LA11+LC11 -> 0 | LF11: =LD11+LB11 -> 0 | LI11: =LG11 -> 0 | LJ11: =LH11 -> 0 | LK11: 24.2 | LL11: 0 | LM11: 24.02 | LN11: 0 | LO11: 6.575 | LP11: 0 | LU11: =LO11+LM11+LK11+LQ11+LS11 -> 54.795 | LV11: =LP11+LN11+LL11+LT11 -> 0 | MA11: =LX11+LY11 -> 0 | MB11: =LY11+LZ11 -> 0 | MK11: =MC11+ME11+MG11+MI11 -> 0 | ML11: =MF11+MD11+MH11+MJ11 -> 0 | MM11: 0 | MO11: 0 | MQ11: =MM11+MO11 -> 0 | MR11: =MN11+MP11 -> 0 | MU11: =MS11 -> 0 | MV11: =MT11 -> 0 | MY11: =MW11 -> 0 | MZ11: =MX11 -> 0 | NC11: =NA11 -> 0 | ND11: =NB11 -> 0 | NG11: =NE11 -> 0 | NH11: =NF11 -> 0 | NK11: =NI11 -> 0 | NL11: =NJ11 -> 0 | NO11: =NM11 -> 0 | NP11: =NN11 -> 0 | NQ11: 0 | NS11: 0 | NU11: 0 | NW11: 0 | NY11: 0 | OA11: 0 | OC11: =NS11+NU11+NW11+OA11+NQ11+NY11 -> 0 | OD11: =NT11+NV11+NX11+OB11+NR11+NZ11 -> 0 | OE11: 0 | OG11: 0 | OI11: 0 | OK11: 0 | OM11: =OE11+OG11+OI11+OK11 -> 0 | ON11: =OF11+OH11+OJ11+OL11 -> 0 | OO11: 0 | OQ11: 0 | OS11: 0 | OU11: =OO11+OQ11 -> 0 | OV11: =OP11+OR11 -> 0 | OY11: =OW11 -> 0 | OZ11: =OX11 -> 0
B12: 2 | I12: =C12+E12+G12 -> 0 | J12: =D12+F12+H12 -> 0 | M12: 0 | N12: 0 | O12: 0 | P12: 0 | Q12: 5.15 | R12: 1.03 | W12: =K12+O12+Q12+S12+U12+M12 -> 5.15 | X12: =L12+N12+P12+R12+T12+V12 -> 1.03 | AC12: =Y12+AA12 -> 0 | AD12: =Z12+AB12 -> 0 | AK12: 115 | AL12: 34.5 | AU12: =AE12+AG12+AI12+AK12+AM12+AO12+AQ12+AS12 -> 115 | AV12: =AF12+AH12+AJ12+AL12+AN12+AP12+AR12+AT12 -> 34.5 | BC12: =AW12+AY12+BA12 -> 0 | BD12: =AX12+AZ12+BB12 -> 0 | BE12: 32 | BF12: 4.5568 | BG12: 10 | BH12: 1.424 | BI12: 0 | BJ12: 0 | BK12: 8 | BL12: 1.1392 | BS12: =BE12+BG12+BI12+BK12+BM12+BO12+BQ12 -> 50 | BT12: =BF12+BH12+BJ12+BL12+BN12+BP12+BR12 -> 7.12 | CC12: =BW12+BY12+CA12 -> 0 | CD12: =BX12+BZ12+CB12 -> 0 | CI12: 30.9 | CJ12: 10 | CK12: 8 | CL12: 2 | CM12: 6.18 | CN12: 2 | CO12: =CG12+CI12+CK12+CM12 -> 45.08 | CP12: =CH12+CJ12+CL12+CN12 -> 14 | CQ12: 50 | CU12: 0 | CW12: 63.814433 | DA12: =CQ12+CS12+CU12+CW12+CY12 -> 113.81443 | DB12: =CR12+CT12+CV12+CX12+CZ12 -> 0 | DI12: =DC12+DE12+DG12 -> 0 | DJ12: =DD12+DF12+DH12 -> 0 | DK12: 41.1 | DL12: 13.7 | DO12: 39.87 | DP12: 13.29 | EC12: =DS12+DU12+DW12+DY12+EA12 -> 0 | ED12: =DT12+DV12+DX12+DZ12+EB12 -> 0 | EG12: 43.3 | EH12: 10.83 | EI12: 257.73 | EJ12: 64.43 | EK12: 113.4 | EL12: 28.35 | EQ12: =EE12+EG12+EI12+EK12+EM12+EO12 -> 414.43 | ER12: =EF12+EH12+EJ12+EL12 -> 103.61 | EW12: =ES12+EU12 -> 0 | EX12: =ET12+EV12 -> 0 | FA12: 43 | FB12: 0 | FC12: 28 | FD12: 0 | FQ12: =FG12+FI12+FK12+FM12+FO12 -> 0 | FR12: =FH12+FJ12+FL12+FN12+FP12 -> 0 | GG12: =FS12+FW12+FY12+FU12+GA12+GC12+GE12 -> 0 | GH12: =FT12+FX12+FZ12+GB12+GD12+GF12 -> 0 | HI12: =HC12+HE12+HG12 -> 0 | HJ12: =HD12+HF12+HH12 -> 0 | HO12: =HK12+HM12 -> 0 | HP12: =HL12+HN12 -> 0 | HQ12: 505 | HS12: 505 | HU12: =HQ12 -> 505 | HV12: =HR12 -> 0 | IC12: 4.3 | ID12: 1.075 | IG12: =HW12+HY12+IA12+IC12+IE12 -> 4.3 | IH12: =HX12+HZ12+IB12+ID12+IF12 -> 1.075 | IU12: =II12+IK12+IM12+IO12+IQ12+IS12 -> 0 | IV12: =IJ12+IL12+IN12+IP12+IT12+IT12 -> 0 | JA12: 10.31 | JB12: 0 | JC12: 10.31 | JD12: 0 | JE12: 5.15 | JF12: 0 | JG12: =IW12+IY12+JA12+JC12+JE12 -> 25.77 | JH12: =IX12+IZ12+JB12+JD12+JF12 -> 0 | JI12: 0 | JJ12: 0 | JK12: 6.4663 | JL12: 1 | JO12: 0 | JP12: 0 | JQ12: 44.33 | JR12: 9 | JS12: 0 | JT12: 0 | JW12: =JI12+JK12+JM12+JO12+JQ12+JS12+JU12 -> 50.7963 | JX12: =JJ12+JL12+JN12+JP12+JR12+JT12+JV12 -> 10 | KC12: =JY12+KA12 -> 0 | KD12: =JZ12+KB12 -> 0 | KI12: =KE12+KG12 -> 0 | KJ12: =KF12+KH12 -> 0 | KO12: =KK12+KM12 -> 0 | KP12: =KL12+KN12 -> 0 | KU12: =KQ12+KS12 -> 0 | KV12: =KR12+KT12 -> 0 | KY12: =KW12 -> 0 | KZ12: =KX12 -> 0 | LE12: =LA12+LC12 -> 0 | LF12: =LD12+LB12 -> 0 | LI12: =LG12 -> 0 | LJ12: =LH12 -> 0 | LK12: 24.2 | LL12: 0 | LM12: 24.02 | LN12: 0 | LO12: 6.575 | LP12: 0 | LU12: =LO12+LM12+LK12+LQ12 -> 54.795 | LV12: =LP12+LN12+LL12+LT12 -> 0 | MA12: =LW12+LY12 -> 0 | MB12: =LY12+LZ12 -> 0 | MK12: =MC12+ME12+MG12+MI12 -> 0 | ML12: =MF12+MD12+MH12+MJ12 -> 0 | MM12: 0 | MO12: 0 | MQ12: =MM12+MO12 -> 0 | MR12: =MN12+MP12 -> 0 | MU12: =MS12 -> 0 | MV12: =MT12 -> 0 | MY12: =MW12 -> 0 | MZ12: =MX12 -> 0 | NC12: =NA12 -> 0 | ND12: =NB12 -> 0 | NG12: =NE12 -> 0 | NH12: =NF12 -> 0 | NK12: =NI12 -> 0 | NL12: =NJ12 -> 0 | NO12: =NM12 -> 0 | NP12: =NN12 -> 0 | NQ12: 0 | NS12: 0 | NU12: 0 | NW12: 0 | NY12: 0 | OA12: 0 | OC12: =NS12+NU12+NW12+OA12+NQ12+NY12 -> 0 | OD12: =NT12+NV12+NX12+OB12+NR12+NZ12 -> 0 | OE12: 0 | OG12: 0 | OI12: 0 | OK12: 0 | OM12: =OE12+OG12+OI12+OK12 -> 0 | ON12: =OF12+OH12+OJ12+OL12 -> 0 | OO12: 0 | OQ12: 0 | OS12: 0 | OU12: =OO12+OQ12 -> 0 | OV12: =OP12+OR12 -> 0 | OY12: =OW12 -> 0 | OZ12: =OX12 -> 0
B13: 3 | I13: =C13+E13+G13 -> 0 | J13: =D13+F13+H13 -> 0 | M13: 0 | N13: 0 | O13: 0 | P13: 0 | Q13: 5.15 | R13: 1.03 | W13: =K13+O13+Q13+S13+U13+M13 -> 5.15 | X13: =L13+N13+P13+R13+T13+V13 -> 1.03 | AC13: =Y13+AA13 -> 0 | AD13: =Z13+AB13 -> 0 | AK13: 115 | AL13: 34.5 | AU13: =AE13+AG13+AI13+AK13+AM13+AO13+AQ13+AS13 -> 115 | AV13: =AF13+AH13+AJ13+AL13+AN13+AP13+AR13+AT13 -> 34.5 | BC13: =AW13+AY13+BA13 -> 0 | BD13: =AX13+AZ13+BB13 -> 0 | BE13: 32 | BF13: 4.5568 | BG13: 10 | BH13: 1.424 | BI13: 0 | BJ13: 0 | BK13: 8 | BL13: 1.1392 | BS13: =BE13+BG13+BI13+BK13+BM13+BO13+BQ13 -> 50 | BT13: =BF13+BH13+BJ13+BL13+BN13+BP13+BR13 -> 7.12 | CC13: =BW13+BY13+CA13 -> 0 | CD13: =BX13+BZ13+CB13 -> 0 | CI13: 30.9 | CJ13: 10 | CK13: 8 | CL13: 2 | CM13: 6.18 | CN13: 2 | CO13: =CG13+CI13+CK13+CM13 -> 45.08 | CP13: =CH13+CJ13+CL13+CN13 -> 14 | CQ13: 100 | CU13: 0 | CW13: 63.814433 | DA13: =CQ13+CS13+CU13+CW13+CY13 -> 163.81443 | DB13: =CR13+CT13+CV13+CX13+CZ13 -> 0 | DI13: =DC13+DE13+DG13 -> 0 | DJ13: =DD13+DF13+DH13 -> 0 | DK13: 41.1 | DL13: 13.7 | DO13: 39.87 | DP13: 13.29 | EC13: =DS13+DU13+DW13+DY13+EA13 -> 0 | ED13: =DT13+DV13+DX13+DZ13+EB13 -> 0 | EG13: 43.3 | EH13: 10.83 | EI13: 257.73 | EJ13: 64.43 | EK13: 113.4 | EL13: 28.35 | EQ13: =EE13+EG13+EI13+EK13+EM13+EO13 -> 414.43 | ER13: =EF13+EH13+EJ13+EL13 -> 103.61 | EW13: =ES13+EU13 -> 0 | EX13: =ET13+EV13 -> 0 | FA13: 43 | FB13: 0 | FC13: 28 | FD13: 0 | FQ13: =FG13+FI13+FK13+FM13+FO13 -> 0 | FR13: =FH13+FJ13+FL13+FN13+FP13 -> 0 | GG13: =FS13+FW13+FY13+FU13+GA13+GC13+GE13 -> 0 | GH13: =FT13+FX13+FZ13+GB13+GD13+GF13 -> 0 | HI13: =HC13+HE13+HG13 -> 0 | HJ13: =HD13+HF13+HH13 -> 0 | HO13: =HK13+HM13 -> 0 | HP13: =HL13+HN13 -> 0 | HQ13: 475 | HS13: 475 | HU13: =HQ13 -> 475 | HV13: =HR13 -> 0 | IC13: 4.3 | ID13: 1.075 | IG13: =HW13+HY13+IA13+IC13+IE13 -> 4.3 | IH13: =HX13+HZ13+IB13+ID13+IF13 -> 1.075 | IU13: =II13+IK13+IM13+IO13+IQ13+IS13 -> 0 | IV13: =IJ13+IL13+IN13+IP13+IT13+IT13 -> 0 | JA13: 10.31 | JB13: 0 | JC13: 10.31 | JD13: 0 | JE13: 5.15 | JF13: 0 | JG13: =IW13+IY13+JA13+JC13+JE13 -> 25.77 | JH13: =IX13+IZ13+JB13+JD13+JF13 -> 0 | JI13: 0 | JJ13: 0 | JK13: 6.4663 | JL13: 1 | JO13: 0 | JP13: 0 | JQ13: 44.33 | JR13: 9 | JS13: 0 | JT13: 0 | JW13: =JI13+JK13+JM13+JO13+JQ13+JS13+JU13 -> 50.7963 | JX13: =JJ13+JL13+JN13+JP13+JR13+JT13+JV13 -> 10 | KC13: =JY13+KA13 -> 0 | KD13: =JZ13+KB13 -> 0 | KI13: =KE13+KG13 -> 0 | KJ13: =KF13+KH13 -> 0 | KO13: =KK13+KM13 -> 0 | KP13: =KL13+KN13 -> 0 | KU13: =KQ13+KS13 -> 0 | KV13: =KR13+KT13 -> 0 | KY13: =KW13 -> 0 | KZ13: =KX13 -> 0 | LE13: =LA13+LC13 -> 0 | LF13: =LD13+LB13 -> 0 | LI13: =LG13 -> 0 | LJ13: =LH13 -> 0 | LK13: 24.2 | LL13: 0 | LM13: 24.02 | LN13: 0 | LO13: 6.575 | LP13: 0 | LU13: =LO13+LM13+LK13+LQ13 -> 54.795 | LV13: =LP13+LN13+LL13+LT13 -> 0 | MA13: =LW13+LY13 -> 0 | MB13: =LY13+LZ13 -> 0 | MK13: =MC13+ME13+MG13+MI13 -> 0 | ML13: =MF13+MD13+MH13+MJ13 -> 0 | MM13: 0 | MO13: 0 | MQ13: =MM13+MO13 -> 0 | MR13: =MN13+MP13 -> 0 | MU13: =MS13 -> 0 | MV13: =MT13 -> 0 | MY13: =MW13 -> 0 | MZ13: =MX13 -> 0 | NC13: =NA13 -> 0 | ND13: =NB13 -> 0 | NG13: =NE13 -> 0 | NH13: =NF13 -> 0 | NK13: =NI13 -> 0 | NL13: =NJ13 -> 0 | NO13: =NM13 -> 0 | NP13: =NN13 -> 0 | NQ13: 0 | NS13: 0 | NU13: 0 | NW13: 0 | NY13: 0 | OA13: 0 | OC13: =NS13+NU13+NW13+OA13+NQ13+NY13 -> 0 | OD13: =NT13+NV13+NX13+OB13+NR13+NZ13 -> 0 | OE13: 0 | OG13: 0 | OI13: 0 | OK13: 0 | OM13: =OE13+OG13+OI13+OK13 -> 0 | ON13: =OF13+OH13+OJ13+OL13 -> 0 | OO13: 0 | OQ13: 0 | OS13: 0 | OU13: =OO13+OQ13 -> 0 | OV13: =OP13+OR13 -> 0 | OY13: =OW13 -> 0 | OZ13: =OX13 -> 0
B14: 4 | I14: =C14+E14+G14 -> 0 | J14: =D14+F14+H14 -> 0 | M14: 0 | N14: 0 | O14: 0 | P14: 0 | Q14: 5.15 | R14: 1.03 | W14: =K14+O14+Q14+S14+U14+M14 -> 5.15 | X14: =L14+N14+P14+R14+T14+V14 -> 1.03 | AC14: =Y14+AA14 -> 0 | AD14: =Z14+AB14 -> 0 | AK14: 115 | AL14: 34.5 | AU14: =AE14+AG14+AI14+AK14+AM14+AO14+AQ14+AS14 -> 115 | AV14: =AF14+AH14+AJ14+AL14+AN14+AP14+AR14+AT14 -> 34.5 | BC14: =AW14+AY14+BA14 -> 0 | BD14: =AX14+AZ14+BB14 -> 0 | BE14: 32 | BF14: 4.5568 | BG14: 10 | BH14: 1.424 | BI14: 0 | BJ14: 0 | BK14: 8 | BL14: 1.1392 | BS14: =BE14+BG14+BI14+BK14+BM14+BO14+BQ14 -> 50 | BT14: =BF14+BH14+BJ14+BL14+BN14+BP14+BR14 -> 7.12 | CC14: =BW14+BY14+CA14 -> 0 | CD14: =BX14+BZ14+CB14 -> 0 | CI14: 30.9 | CJ14: 10 | CK14: 8 | CL14: 2 | CM14: 6.18 | CN14: 2 | CO14: =CG14+CI14+CK14+CM14 -> 45.08 | CP14: =CH14+CJ14+CL14+CN14 -> 14 | CQ14: 100 | CU14: 0 | CW14: 63.814433 | DA14: =CQ14+CS14+CU14+CW14+CY14 -> 163.81443 | DB14: =CR14+CT14+CV14+CX14+CZ14 -> 0 | DI14: =DC14+DE14+DG14 -> 0 | DJ14: =DD14+DF14+DH14 -> 0 | DK14: 41.1 | DL14: 13.7 | DO14: 39.87 | DP14: 13.29 | EC14: =DS14+DU14+DW14+DY14+EA14 -> 0 | ED14: =DT14+DV14+DX14+DZ14+EB14 -> 0 | EG14: 43.3 | EH14: 10.83 | EI14: 257.73 | EJ14: 64.43 | EK14: 113.4 | EL14: 28.35 | EQ14: =EE14+EG14+EI14+EK14+EM14+EO14 -> 414.43 | ER14: =EF14+EH14+EJ14+EL14 -> 103.61 | EW14: =ES14+EU14 -> 0 | EX14: =ET14+EV14 -> 0 | FA14: 43 | FB14: 0 | FC14: 28 | FD14: 0 | FQ14: =FG14+FI14+FK14+FM14+FO14 -> 0 | FR14: =FH14+FJ14+FL14+FN14+FP14 -> 0 | GG14: =FS14+FW14+FY14+FU14+GA14+GC14+GE14 -> 0 | GH14: =FT14+FX14+FZ14+GB14+GD14+GF14 -> 0 | HI14: =HC14+HE14+HG14 -> 0 | HJ14: =HD14+HF14+HH14 -> 0 | HO14: =HK14+HM14 -> 0 | HP14: =HL14+HN14 -> 0 | HQ14: 445 | HS14: 445 | HU14: =HQ14 -> 445 | HV14: =HR14 -> 0 | IC14: 4.3 | ID14: 1.075 | IG14: =HW14+HY14+IA14+IC14+IE14 -> 4.3 | IH14: =HX14+HZ14+IB14+ID14+IF14 -> 1.075 | IU14: =II14+IK14+IM14+IO14+IQ14+IS14 -> 0 | IV14: =IJ14+IL14+IN14+IP14+IT14+IT14 -> 0 | JA14: 10.31 | JB14: 0 | JC14: 10.31 | JD14: 0 | JE14: 5.15 | JF14: 0 | JG14: =IW14+IY14+JA14+JC14+JE14 -> 25.77 | JH14: =IX14+IZ14+JB14+JD14+JF14 -> 0 | JI14: 0 | JJ14: 0 | JK14: 6.4663 | JL14: 1 | JO14: 0 | JP14: 0 | JQ14: 44.33 | JR14: 9 | JS14: 0 | JT14: 0 | JW14: =JI14+JK14+JM14+JO14+JQ14+JS14+JU14 -> 50.7963 | JX14: =JJ14+JL14+JN14+JP14+JR14+JT14+JV14 -> 10 | KC14: =JY14+KA14 -> 0 | KD14: =JZ14+KB14 -> 0 | KI14: =KE14+KG14 -> 0 | KJ14: =KF14+KH14 -> 0 | KO14: =KK14+KM14 -> 0 | KP14: =KL14+KN14 -> 0 | KU14: =KQ14+KS14 -> 0 | KV14: =KR14+KT14 -> 0 | KY14: =KW14 -> 0 | KZ14: =KX14 -> 0 | LE14: =LA14+LC14 -> 0 | LF14: =LD14+LB14 -> 0 | LI14: =LG14 -> 0 | LJ14: =LH14 -> 0 | LK14: 24.2 | LL14: 0 | LM14: 24.02 | LN14: 0 | LO14: 6.575 | LP14: 0 | LU14: =LO14+LM14+LK14+LQ14 -> 54.795 | LV14: =LP14+LN14+LL14+LT14 -> 0 | MA14: =LW14+LY14 -> 0 | MB14: =LY14+LZ14 -> 0 | MK14: =MC14+ME14+MG14+MI14 -> 0 | ML14: =MF14+MD14+MH14+MJ14 -> 0 | MM14: 0 | MO14: 0 | MQ14: =MM14+MO14 -> 0 | MR14: =MN14+MP14 -> 0 | MU14: =MS14 -> 0 | MV14: =MT14 -> 0 | MY14: =MW14 -> 0 | MZ14: =MX14 -> 0 | NC14: =NA14 -> 0 | ND14: =NB14 -> 0 | NG14: =NE14 -> 0 | NH14: =NF14 -> 0 | NK14: =NI14 -> 0 | NL14: =NJ14 -> 0 | NO14: =NM14 -> 0 | NP14: =NN14 -> 0 | NQ14: 0 | NS14: 0 | NU14: 0 | NW14: 0 | NY14: 0 | OA14: 0 | OC14: =NS14+NU14+NW14+OA14+NQ14+NY14 -> 0 | OD14: =NT14+NV14+NX14+OB14+NR14+NZ14 -> 0 | OE14: 0 | OG14: 0 | OI14: 0 | OK14: 0 | OM14: =OE14+OG14+OI14+OK14 -> 0 | ON14: =OF14+OH14+OJ14+OL14 -> 0 | OO14: 0 | OQ14: 0 | OS14: 0 | OU14: =OO14+OQ14 -> 0 | OV14: =OP14+OR14 -> 0 | OY14: =OW14 -> 0 | OZ14: =OX14 -> 0
A15: 0.041666667 | B15: 5 | I15: =C15+E15+G15 -> 0 | J15: =D15+F15+H15 -> 0 | M15: 0 | N15: 0 | O15: 0 | P15: 0 | Q15: 5.15 | R15: 1.03 | W15: =K15+O15+Q15+S15+U15+M15 -> 5.15 | X15: =L15+N15+P15+R15+T15+V15 -> 1.03 | AC15: =Y15+AA15 -> 0 | AD15: =Z15+AB15 -> 0 | AK15: 115 | AL15: 34.5 | AU15: =AE15+AG15+AI15+AK15+AM15+AO15+AQ15+AS15 -> 115 | AV15: =AF15+AH15+AJ15+AL15+AN15+AP15+AR15+AT15 -> 34.5 | BC15: =AW15+AY15+BA15 -> 0 | BD15: =AX15+AZ15+BB15 -> 0 | BE15: 32 | BF15: 4.5568 | BG15: 10 | BH15: 1.424 | BI15: 0 | BJ15: 0 | BK15: 8 | BL15: 1.1392 | BS15: =BE15+BG15+BI15+BK15+BM15+BO15+BQ15 -> 50 | BT15: =BF15+BH15+BJ15+BL15+BN15+BP15+BR15 -> 7.12 | CC15: =BW15+BY15+CA15 -> 0 | CD15: =BX15+BZ15+CB15 -> 0 | CI15: 30.9 | CJ15: 10 | CK15: 8 | CL15: 2 | CM15: 6.18 | CN15: 2 | CO15: =CG15+CI15+CK15+CM15 -> 45.08 | CP15: =CH15+CJ15+CL15+CN15 -> 14 | CQ15: 130 | CU15: 0 | CW15: 63.814433 | DA15: =CQ15+CS15+CU15+CW15+CY15 -> 193.81443 | DB15: =CR15+CT15+CV15+CX15+CZ15 -> 0 | DI15: =DC15+DE15+DG15 -> 0 | DJ15: =DD15+DF15+DH15 -> 0 | DK15: 41.1 | DL15: 13.7 | DO15: 39.87 | DP15: 13.29 | EC15: =DS15+DU15+DW15+DY15+EA15 -> 0 | ED15: =DT15+DV15+DX15+DZ15+EB15 -> 0 | EG15: 43.3 | EH15: 10.83 | EI15: 257.73 | EJ15: 64.43 | EK15: 113.4 | EL15: 28.35 | EQ15: =EE15+EG15+EI15+EK15+EM15+EO15 -> 414.43 | ER15: =EF15+EH15+EJ15+EL15 -> 103.61 | EW15: =ES15+EU15 -> 0 | EX15: =ET15+EV15 -> 0 | FA15: 43 | FB15: 0 | FC15: 28 | FD15: 0 | FQ15: =FG15+FI15+FK15+FM15+FO15 -> 0 | FR15: =FH15+FJ15+FL15+FN15+FP15 -> 0 | GG15: =FS15+FW15+FY15+FU15+GA15+GC15+GE15 -> 0 | GH15: =FT15+FX15+FZ15+GB15+GD15+GF15 -> 0 | HI15: =HC15+HE15+HG15 -> 0 | HJ15: =HD15+HF15+HH15 -> 0 | HO15: =HK15+HM15 -> 0 | HP15: =HL15+HN15 -> 0 | HQ15: 415 | HS15: 415 | HU15: =HQ15 -> 415 | HV15: =HR15 -> 0 | IC15: 4.3 | ID15: 1.075 | IG15: =HW15+HY15+IA15+IC15+IE15 -> 4.3 | IH15: =HX15+HZ15+IB15+ID15+IF15 -> 1.075 | IU15: =II15+IK15+IM15+IO15+IQ15+IS15 -> 0 | IV15: =IJ15+IL15+IN15+IP15+IT15+IT15 -> 0 | JA15: 10.31 | JB15: 0 | JC15: 10.31 | JD15: 0 | JE15: 5.15 | JF15: 0 | JG15: =IW15+IY15+JA15+JC15+JE15 -> 25.77 | JH15: =IX15+IZ15+JB15+JD15+JF15 -> 0 | JI15: 0 | JJ15: 0 | JK15: 6.4663 | JL15: 1 | JO15: 0 | JP15: 0 | JQ15: 44.33 | JR15: 9 | JS15: 0 | JT15: 0 | JW15: =JI15+JK15+JM15+JO15+JQ15+JS15+JU15 -> 50.7963 | JX15: =JJ15+JL15+JN15+JP15+JR15+JT15+JV15 -> 10 | KC15: =JY15+KA15 -> 0 | KD15: =JZ15+KB15 -> 0 | KI15: =KE15+KG15 -> 0 | KJ15: =KF15+KH15 -> 0 | KO15: =KK15+KM15 -> 0 | KP15: =KL15+KN15 -> 0 | KU15: =KQ15+KS15 -> 0 | KV15: =KR15+KT15 -> 0 | KY15: =KW15 -> 0 | KZ15: =KX15 -> 0 | LE15: =LA15+LC15 -> 0 | LF15: =LD15+LB15 -> 0 | LI15: =LG15 -> 0 | LJ15: =LH15 -> 0 | LK15: 24.2 | LL15: 0 | LM15: 24.02 | LN15: 0 | LO15: 6.575 | LP15: 0 | LU15: =LO15+LM15+LK15+LQ15 -> 54.795 | LV15: =LP15+LN15+LL15+LT15 -> 0 | MA15: =LW15+LY15 -> 0 | MB15: =LY15+LZ15 -> 0 | MK15: =MC15+ME15+MG15+MI15 -> 0 | ML15: =MF15+MD15+MH15+MJ15 -> 0 | MM15: 0 | MO15: 0 | MQ15: =MM15+MO15 -> 0 | MR15: =MN15+MP15 -> 0 | MU15: =MS15 -> 0 | MV15: =MT15 -> 0 | MY15: =MW15 -> 0 | MZ15: =MX15 -> 0 | NC15: =NA15 -> 0 | ND15: =NB15 -> 0 | NG15: =NE15 -> 0 | NH15: =NF15 -> 0 | NK15: =NI15 -> 0 | NL15: =NJ15 -> 0 | NO15: =NM15 -> 0 | NP15: =NN15 -> 0 | NQ15: 0 | NS15: 0 | NU15: 0 | NW15: 0 | NY15: 0 | OA15: 0 | OC15: =NS15+NU15+NW15+OA15+NQ15+NY15 -> 0 | OD15: =NT15+NV15+NX15+OB15+NR15+NZ15 -> 0 | OE15: 0 | OG15: 0 | OI15: 0 | OK15: 0 | OM15: =OE15+OG15+OI15+OK15 -> 0 | ON15: =OF15+OH15+OJ15+OL15 -> 0 | OO15: 0 | OQ15: 0 | OS15: 0 | OU15: =OO15+OQ15 -> 0 | OV15: =OP15+OR15 -> 0 | OY15: =OW15 -> 0 | OZ15: =OX15 -> 0
