Workbook

Sheet CGP SCHEDULE
A2: OFFICE OF CLD(POWER SYSTEM), BHUBANESWAR - 751 017, FAX-0674-2748509/2748218
A3: DESPATCH SCHEDULE [ MW / MVAR ] FOR CGPs
A4: (FROM SLDC BHUBANESWAR BY 20:00 HRS. EVERYDAY)
A5: MESSAGE No. NIL | K5: DATE: | L5: 20.09.2026 | AF5: Time: | AG5: 23:20
A7: From: GM(SLDC), BBSR | AG7: Revision-02
K8: FOR DATE: | O8: 20.09.2026
A9: . | B9: Block | C9: ACME Solar Power Pvt. Ltd. | E9: Aditya Aluminium | G9: Baitarani Power Project Pvt Ltd (BPPPL) to GRIDCO | I9: OPCL | K9: Action Ispat | M9: Saptadhra / Avantika | O9: Aftaab Solar Private Limited | Q9: KAKATIYA SHEP | S9: M/s Meenakshi Odisha Power Pvt Ltd, SLN SHEP (2x12.5MW) | U9: M/s Meenakshi Power Pvt Ltd, MK & LK SHEP (2X12.5MW + 3X 4MW) | W9: ABREL Solar, Ganjam | Y9: ABREL Solar. Cuttack | AA9: ABREL Solar, Jharsuguda | AC9: BEL Solar | AE9: Arati Steels | AG9: Aryan Ispat & Power Pvt. Ltd. | AI9: Bhubaneswar Power (P) Ltd | AK9: TATA STEEL BHUSAN STEEL LTD, Meramundali | AM9: Bhushan Power & Steel Ltd, Jharsuguda | AO9: ESSAR POWER ORISSA | AQ9: FACOR POWER LTD Bhadrak | AS9: GKEL(IPP) | AU9: HINDALCO | AW9: IFFCO, Paradeep | AY9: IMFA, Choudwar | BA9: JSL, Duburi | BC9: JSPL, Angul | BE9: Ampin_Energy_C_&_I_Eleven_Private_Limited | BG9: NINL | BI9: MGM_Minerals_Ltd | BK9: MSP, Jharsuguda | BM9: NALCO, Angul | BO9: Narbheram Power & Steel Ltd. Dhenkanal | BQ9: NBVL | BS9: NBVL(IPP) | BU9: RUNGTA MINES Dhenkanal | BW9: OCL, Rajgangpur | BY9: Orissa Sponge Iron & Steel Ltd, Polasponga | CA9: Patnaik Steels & Alloys Ltd. | CC9: Shri_Jagannath_Steels_&_Power_Ltd | CE9: RSP, Rourkela | CG9: Shree_Ganesh_Metaliks_Ltd_Kuarmunda | CI9: Shyam Metallics | CK9: Maithan Ispat | CM9: Rungta Mines,Karakolha, Barbil | CO9: Rungta Mines,Sundargarh | CQ9: SMC Power Generation Ltd #2, Badmal,Jharsuguda | CS9: SMC Power Generation #1, Hirma,Jharsuguda | CU9: Narbheram Power & Steel, Dhenkanal | CW9: VAL (IPP) | CY9: TATA STEEL SPONGE IRON | DA9: VAL (CGP) | DC9: Vedanta Aluminium, Lanjigarh | DE9: Viraj Steel and Energy Pvt Ltd Power Limited | DG9: Visa Steel Ltd | DI9: ORISSA POWER SHREE CEMENT | DK9: KJS_Ahluwalia_(Steel_&_Power_Division) | DM9: THAKUR PRASAD SAO & SONS | DO9: MTPLC | DQ9: Adhunik | DS9: Beekay Steel | DU9: Yazdani | DW9: OCL_Iron_and_Steel_Limited | DY9: OCL_Iron_and_Steel_Limited_MPL | EA9: Envirocare_Infrasolution_Pvt_Ltd | EC9: MCL 50MW SOLAR,PATNAGARH | EE9: Jagannath Power & Infra Private Limited | EG9: MGM_Green_Energy_Ltd | EI9: Times_Steel_&_Power_Private_limited | EK9: VEDANTA_LANJIGARH | EM9: Indian_Farmers_Fertiliser_Cooperative_Limited | EO9: Bhaskar_Steel_And_Ferro_Alloy_Private_Limited | EQ9: RUNGTA MINES LIMITED, KAMANDA STEEL PLANT | ES9: RUNGTA SONS PRIVATE LIMITED JHARSUGUDA STEEL PLANT | EU9: Crackers_India_Alloys_Limited | EW9: Paradeep_Phosphates_Ltd | EY9: Ampin_C&I_Three_Private_Limited | FA9: Ampin_Energy_C_&_I_Eleven_Private_Limited | FC9: MGM_Green_Energy_Limited_5MW_Solar_Power_Plant_Lokapada | FE9: Sunglaze_Power_Private_Limited | FG9: JSW_Sambalpur_Steel_Limited | FI9: MSP_Sponge_Iron_Limited_Odisha | FK9: Tata_Steel_Limited_Ferro_Alloys_Plant_Balasore | FM9: Tata_Steel_Limited_Kalinga_Nagar | FO9: Tata_Steel_Ltd_Ferro_Alloys_Plant_Bamnipal | FQ9: Total CGP&IPP
C10: MW | D10: MVAR | E10: MW | F10: MVAR | G10: MW | H10: MVAR | I10: MW | J10: MVAR | K10: MW | L10: MVAR | M10: MW | N10: MVAR | O10: MW | P10: MVAR | Q10: MW | R10: MVAR | S10: MW | T10: MVAR | U10: MW | V10: MVAR | W10: MW | X10: MVAR | Y10: MW | Z10: MVAR | AA10: MW | AB10: MVAR | AC10: MW | AD10: MVAR | AE10: MW | AF10: MVAR | AG10: MW | AH10: MVAR | AI10: MW | AJ10: MVAR | AK10: MW | AL10: MVAR | AM10: MW | AN10: MVAR | AO10: MW | AP10: MVAR | AQ10: MW | AR10: MVAR | AS10: MW | AT10: MVAR | AU10: MW | AV10: MVAR | AW10: MW | AX10: MVAR | AY10: MW | AZ10: MVAR | BA10: MW | BB10: MVAR | BC10: MW | BD10: MVAR | BE10: MW | BF10: MVAR | BG10: MW | BH10: MVAR | BI10: MW | BJ10: MVAR | BK10: MW | BL10: MVAR | BM10: MW | BN10: MVAR | BO10: MW | BP10: MVAR | BQ10: MW | BR10: MVAR | BS10: MW | BT10: MVAR | BU10: MW | BV10: MVAR | BW10: MW | BX10: MVAR | BY10: MW | BZ10: MVAR | CA10: MW | CB10: MVAR | CC10: MW | CD10: MVAR | CE10: MW | CF10: MVAR | CG10: MW | CH10: MVAR | CI10: MW | CJ10: MVAR | CK10: MW | CL10: MVAR | CM10: MW | CN10: MVAR | CO10: MW | CP10: MVAR | CQ10: MW | CR10: MVAR | CS10: MW | CT10: MVAR | CU10: MW | CV10: MVAR | CW10: MW | CX10: MVAR | CY10: MW | CZ10: MVAR | DA10: MW | DB10: MVAR | DC10: MW | DD10: MVAR | DE10: MW | DF10: MVAR | DG10: MW | DH10: MVAR | DI10: MW | DJ10: MVAR | DK10: MW | DL10: MVAR | DM10: MW | DN10: MVAR | DO10: MW | DP10: MVAR | DQ10: MW | DR10: MVAR | DS10: MW | DT10: MVAR | DU10: MW | DV10: MVAR | DW10: MW | DX10: MVAR | DY10: MW | DZ10: MVAR | EA10: MW | EB10: MVAR | EC10: MW | ED10: MVAR | EE10: MW | EF10: MVAR | EG10: MW | EH10: MVAR | EI10: MW | EJ10: MVAR | EK10: MW | EL10: MVAR | EM10: MW | EN10: MVAR | EO10: MW | EP10: MVAR | EQ10: MW | ER10: MVAR | ES10: MW | ET10: MVAR | EU10: MW | EV10: MVAR | EW10: MW | EX10: MVAR | EY10: MW | EZ10: MVAR | FA10: MW | FB10: MVAR | FC10: MW | FD10: MVAR | FE10: MW | FF10: MVAR | FG10: MW | FH10: MVAR | FI10: MW | FJ10: MVAR | FK10: MW | FL10: MVAR | FM10: MW | FN10: MVAR | FO10: MW | FP10: MVAR | FQ10: MW | FR10: MVAR
A11: 0000-0015 | B11: 1 | G11: 24 | H11: 0.9 | O11: 0 | Q11: 9 | R11: 0.85 | S11: 25 | U11: 37 | W11: 0 | Y11: 0 | AA11: 0 | AC11: 0 | AE11: ='OA&GRIDCO'!W11+'Day Ahead IEX PXIL'!M11+RTM!M11 -> 5.15 | AF11: ='OA&GRIDCO'!X11+'Day Ahead IEX PXIL'!N11+RTM!N11 -> 1.03 | AG11: ='OA&GRIDCO'!AC11+'Day Ahead IEX PXIL'!S11+RTM!S11 -> 1.86 | AH11: ='OA&GRIDCO'!AD11+'Day Ahead IEX PXIL'!T11+RTM!T11 -> 0 | AI11: ='OA&GRIDCO'!AU11+'Day Ahead IEX PXIL'!Y11+RTM!Y11 -> 115 | AJ11: ='OA&GRIDCO'!AV11+'Day Ahead IEX PXIL'!Z11+RTM!Z11 -> 34.5 | AK11: ='OA&GRIDCO'!BS11+'Day Ahead IEX PXIL'!AK11+RTM!AK11 -> 50 | AL11: ='OA&GRIDCO'!BT11+'Day Ahead IEX PXIL'!AL11+RTM!AL11 -> 7.12 | AM11: ='OA&GRIDCO'!BC11+'Day Ahead IEX PXIL'!AE11+RTM!AE11 -> 0 | AN11: ='OA&GRIDCO'!BD11+'Day Ahead IEX PXIL'!AF11+RTM!AF11 -> 0 | AO11: ='OA&GRIDCO'!CC11+'Day Ahead IEX PXIL'!AQ11+RTM!AQ11 -> 0 | AP11: ='OA&GRIDCO'!CD11+'Day Ahead IEX PXIL'!AR11+RTM!AR11 -> 0 | AQ11: ='OA&GRIDCO'!CO11+'Day Ahead IEX PXIL'!AW11+RTM!AW11 -> 45.08 | AR11: ='OA&GRIDCO'!CP11+'Day Ahead IEX PXIL'!AX11+RTM!AX11 -> 14 | AS11: ='OA&GRIDCO'!DA11+'Day Ahead IEX PXIL'!BC11+RTM!BC11 -> 113.81443 | AT11: ='OA&GRIDCO'!DB11+'Day Ahead IEX PXIL'!BD11+RTM!BD11 -> 0 | AU11: ='Day Ahead IEX PXIL'!BI11+RTM!BI11+'OA&GRIDCO'!OY11 -> 0 | AV11: ='Day Ahead IEX PXIL'!BJ11+RTM!BJ11+'OA&GRIDCO'!OZ11 -> 0 | AY11: 0 | AZ11: ='OA&GRIDCO'!DL11+'Day Ahead IEX PXIL'!BP11+RTM!BP11 -> 13.7 | BA11: ='OA&GRIDCO'!EC11+'Day Ahead IEX PXIL'!BU11+RTM!BU11 -> 0 | BB11: ='OA&GRIDCO'!ED11+'Day Ahead IEX PXIL'!BV11+RTM!BV11 -> 0 | BC11: ='OA&GRIDCO'!EQ11+'Day Ahead IEX PXIL'!CA11+RTM!CA11 -> 589.69 | BD11: ='OA&GRIDCO'!ER11+'Day Ahead IEX PXIL'!CB11+RTM!CB11 -> 103.61 | BE11: ='OA&GRIDCO'!OC11+GDAM!U11 -> 0 | BF11: ='OA&GRIDCO'!OD11+GDAM!V11 -> 0 | BI11: ='OA&GRIDCO'!EW11+'Day Ahead IEX PXIL'!CG11+RTM!CG11 -> 1.03 | BJ11: ='OA&GRIDCO'!EX11+'Day Ahead IEX PXIL'!CH11+RTM!CH11 -> 0 | BK11: ='OA&GRIDCO'!KY11+RTM!FG11+'Day Ahead IEX PXIL'!GW11 -> 0 | BL11: ='OA&GRIDCO'!KZ11+RTM!FH11+'Day Ahead IEX PXIL'!GX11 -> 0 | BM11: ='Day Ahead IEX PXIL'!CM11+RTM!CM11+'OA&GRIDCO'!FC11 -> 28 | BN11: ='OA&GRIDCO'!FD11+'Day Ahead IEX PXIL'!CN11+RTM!CN11 -> 0 | BQ11: ='OA&GRIDCO'!FQ11+'Day Ahead IEX PXIL'!CS11+RTM!CS11 -> 2.06 | BR11: ='OA&GRIDCO'!FR11+'Day Ahead IEX PXIL'!CT11+RTM!CT11 -> 0 | BS11: ='OA&GRIDCO'!JW11+'Day Ahead IEX PXIL'!FA11+RTM!EU11 -> 53.8863 | BT11: ='OA&GRIDCO'!JX11+'Day Ahead IEX PXIL'!FB11+RTM!EV11 -> 10 | BU11: ='OA&GRIDCO'!GG11+RTM!G11 -> 0 | BV11: ='OA&GRIDCO'!GH11 -> 0 | BW11: ='OA&GRIDCO'!HA11+'Day Ahead IEX PXIL'!DK11+RTM!DE11 -> 0 | BX11: ='OA&GRIDCO'!HB11 -> 0 | BY11: ='Day Ahead IEX PXIL'!GK11+RTM!FA11+'OA&GRIDCO'!LE11 -> 0 | BZ11: ='Day Ahead IEX PXIL'!GL11+RTM!FB11+'OA&GRIDCO'!LF11 -> 0 | CC11: =RTM!GI11+'Day Ahead IEX PXIL'!II11+GDAM!M11 -> 0 | CD11: =RTM!GJ11 -> 0 | CE11: ='OA&GRIDCO'!HI11+'Day Ahead IEX PXIL'!DQ11+RTM!DK11 -> 0 | CF11: ='OA&GRIDCO'!HJ11+'Day Ahead IEX PXIL'!DR11+RTM!DL11 -> 0 | CG11: ='OA&GRIDCO'!HO11+'Day Ahead IEX PXIL'!DW11+RTM!DQ11 -> 0 | CH11: ='OA&GRIDCO'!HP11+'Day Ahead IEX PXIL'!DX11+RTM!DR11 -> 0 | CI11: ='Day Ahead IEX PXIL'!HE11+'OA&GRIDCO'!DI11+RTM!GY11 -> 1.03 | CJ11: ='Day Ahead IEX PXIL'!HF11+'OA&GRIDCO'!DJ11 -> 0 | CK11: ='OA&GRIDCO'!KU11+'Day Ahead IEX PXIL'!DE11 -> 0 | CL11: ='OA&GRIDCO'!KV11+'Day Ahead IEX PXIL'!DF11 -> 0 | CM11: ='Day Ahead IEX PXIL'!FS11+RTM!FS11 -> 0 | CN11: ='Day Ahead IEX PXIL'!FT11 -> 0 | CO11: =RTM!IY11+'Day Ahead IEX PXIL'!IU11 -> 0 | CP11: =RTM!IZ11+'Day Ahead IEX PXIL'!IV11 -> 0 | CQ11: ='OA&GRIDCO'!KI11+'Day Ahead IEX PXIL'!FM11+RTM!GE11 -> 0 | CR11: ='OA&GRIDCO'!KJ11+'Day Ahead IEX PXIL'!FN11 -> 0 | CS11: ='OA&GRIDCO'!KO11+'Day Ahead IEX PXIL'!FY11+RTM!FY11 -> 0 | CT11: ='OA&GRIDCO'!KP11+'Day Ahead IEX PXIL'!FZ11 -> 0 | CU11: 0 | CV11: ='Day Ahead IEX PXIL'!GF11 -> 0 | CW11: ='OA&GRIDCO'!HU11+'Day Ahead IEX PXIL'!EC11+RTM!DW11 -> 535 | CX11: ='OA&GRIDCO'!HV11+'Day Ahead IEX PXIL'!ED11+RTM!DX11 -> 0 | CY11: ='OA&GRIDCO'!IF11+'Day Ahead IEX PXIL'!EI11+RTM!EC11 -> 0 | CZ11: ='OA&GRIDCO'!IH11+'Day Ahead IEX PXIL'!EJ11+RTM!ED11 -> 1.075 | DA11: ='OA&GRIDCO'!IU11+'Day Ahead IEX PXIL'!EO11+RTM!EI11 -> 0 | DB11: ='OA&GRIDCO'!IV11+'Day Ahead IEX PXIL'!EP11+RTM!EJ11 -> 0 | DE11: ='Day Ahead IEX PXIL'!FC11+'OA&GRIDCO'!KC11+RTM!GM11 -> 0 | DF11: ='Day Ahead IEX PXIL'!FD11+'OA&GRIDCO'!KD11 -> 0 | DG11: ='OA&GRIDCO'!JG11+'Day Ahead IEX PXIL'!EU11+RTM!EO11 -> 26.8 | DH11: ='OA&GRIDCO'!JH11+'Day Ahead IEX PXIL'!EV11+RTM!EP11 -> 0 | DI11: 0 | DJ11: 0 | DK11: =RTM!FM11 -> 0 | DL11: =RTM!FN11 -> 0 | DM11: ='OA&GRIDCO'!LH11+'Day Ahead IEX PXIL'!HU11+'Day Ahead IEX PXIL'!HU11 -> 0 | DN11: ='OA&GRIDCO'!LJ11+'Day Ahead IEX PXIL'!HV11+RTM!GV11 -> 0 | DO11: ='OA&GRIDCO'!LU11+'Day Ahead IEX PXIL'!HO11+RTM!IU11 -> 54.795 | DP11: ='OA&GRIDCO'!LV11+'Day Ahead IEX PXIL'!HP11+RTM!IV11 -> 0 | DQ11: =RTM!HK11 -> 1.86 | DR11: =RTM!HL11 -> 0 | DS11: =RTM!HO11 -> 0 | DT11: =RTM!HP11 -> 0 | DU11: =RTM!HS11 -> 0 | DV11: =RTM!HT11 -> 0 | DW11: =RTM!HW11+'OA&GRIDCO'!MK11 -> 23.71 | DX11: =RTM!HX11 -> 0 | DY11: =RTM!IA11 -> 0 | DZ11: =RTM!IB11 -> 0 | EA11: =RTM!IC11 -> 0 | EB11: =RTM!ID11 -> 0 | EC11: ='OA&GRIDCO'!MQ11 -> 0 | ED11: ='OA&GRIDCO'!MR11 -> 0 | EE11: ='OA&GRIDCO'!MU11 -> 0 | EF11: ='OA&GRIDCO'!MV11 -> 0 | EG11: ='OA&GRIDCO'!MY11+'Day Ahead IEX PXIL'!IM11+GDAM!G11+RTM!II11 -> 0 | EH11: ='OA&GRIDCO'!MZ11+'Day Ahead IEX PXIL'!IN11+RTM!IJ11+GDAM!H11 -> 0 | EI11: ='Day Ahead IEX PXIL'!IQ11+RTM!IM11+'OA&GRIDCO'!NC11+GDAM!BO11 -> 0 | EJ11: ='Day Ahead IEX PXIL'!IR11+RTM!IN11+'OA&GRIDCO'!ND11 -> 0 | EK11: ='OA&GRIDCO'!NG11 -> 0 | EL11: ='OA&GRIDCO'!NH11 -> 0 | EM11: =RTM!IQ11 -> 0 | EN11: =RTM!IR11 -> 0 | EO11: =RTM!JC11 -> 0 | EP11: =RTM!JD11 -> 0 | EQ11: ='OA&GRIDCO'!NK11 -> 0 | ER11: ='OA&GRIDCO'!NL11 -> 0 | ES11: ='OA&GRIDCO'!NM11+RTM!HC11+'Day Ahead IEX PXIL'!IY11 -> 0 | ET11: ='OA&GRIDCO'!NP11+RTM!HD11+'Day Ahead IEX PXIL'!IZ11 -> 0 | EU11: =RTM!JG11 -> 1.55 | EV11: =RTM!JH11 -> 0 | EW11: =RTM!JK11 -> 0 | EX11: =RTM!JL11 -> 0 | EY11: =GDAM!S11+'OA&GRIDCO'!OM11+RTM!JO11 -> 0 | EZ11: =GDAM!T11+'OA&GRIDCO'!OD11+RTM!JP11 -> 0 | FA11: =GDAM!Y11+RTM!JS11 -> 0 | FB11: =GDAM!Z11+RTM!JT11 -> 0 | FC11: =RTM!JW11 -> 0 | FD11: =RTM!JX11 -> 0 | FE11: =GDAM!AE11+'OA&GRIDCO'!OU11 -> 0 | FF11: =GDAM!AF11+'OA&GRIDCO'!OV11 -> 0 | FG11: =GDAM!AK11 -> 0 | FH11: =GDAM!AL11 -> 0 | FI11: =GDAM!AQ11 -> 0 | FJ11: =GDAM!AR11 -> 0 | FK11: =GDAM!AW11 -> 0 | FL11: =GDAM!AX11 -> 0 | FM11: =GDAM!BC11 -> 0 | FN11: =GDAM!BD11 -> 0 | FO11: =GDAM!BI11 -> 0 | FP11: =GDAM!BJ11 -> 0 | FQ11: =C11+E11+G11+I11+K11+M11+O11+Q11+W11+Y11+AA11+AC11+AE11+AG11+AI11+AK11+AM11+AO11+AQ11+AS11+AU11+AW11+AY11+BA11+BC11+BE11+BG11+BI11+BK11+BM11+BO11+BQ11+BS11+BU11+BW11+BY11+CA11+CC11+CE11+CG11+CI11+CK11+CM11+CQ11+CS11+CU11+CW11+CY11+DA11+DC11+DE11+DG11+DI11+DK11+DM11+DO11+DQ11+DS11+DU11+DW11+DY11+EA11+EC11+EE11+EG11+EI11+EK11+CO11+EM11+EO11+EQ11+ES11+EU11+EW11+EY11+FA11+FC11+FE11+FG11+FI11+FK11+FM11+FO11 -> 1683.3157 | FR11: =D11+F11+H11+J11+L11+N11+P11+R11+X11+Z11+AB11+AD11+AF11+AH11+AJ11+AL11+AN11+AP11+AR11+AT11+AV11+AX11+AZ11+BB11+BD11+BH11+BJ11+BL11+BN11+BP11+BF11+BR11+BT11+BV11+BX11+BZ11+CB11+CD11+CF11+CH11+CJ11+CL11+CN11+CR11+CT11+CV11+CX11+CZ11+DB11+DD11+DF11+DH11+DJ11+DL11+DN11+DP11+DR11+DT11+DV11+DX11+DZ11+EB11+ED11+EF11+EH11+EJ11+EL11+EN11+CP11+EP11+ER11+ET11+EV11+EX11+EZ11+FB11+FD11+FF11+FH11+FJ11+FL11+FN11+FP11 -> 186.785
A12: 0015-0030 | B12: 2 | G12: 24 | H12: 0.9 | O12: 0 | Q12: 9 | R12: 0.85 | S12: 25 | U12: 37 | W12: 0 | Y12: 0 | AA12: 0 | AC12: 0 | AE12: ='OA&GRIDCO'!W12+'Day Ahead IEX PXIL'!M12+RTM!M12 -> 5.15 | AF12: ='OA&GRIDCO'!X12+'Day Ahead IEX PXIL'!N12+RTM!N12 -> 1.03 | AG12: ='OA&GRIDCO'!AC12+'Day Ahead IEX PXIL'!S12+RTM!S12 -> 1.86 | AH12: ='OA&GRIDCO'!AD12+'Day Ahead IEX PXIL'!T12+RTM!T12 -> 0 | AI12: ='OA&GRIDCO'!AU12+'Day Ahead IEX PXIL'!Y12+RTM!Y12 -> 115 | AJ12: ='OA&GRIDCO'!AV12+'Day Ahead IEX PXIL'!Z12+RTM!Z12 -> 34.5 | AK12: ='OA&GRIDCO'!BS12+'Day Ahead IEX PXIL'!AK12+RTM!AK12 -> 111.86 | AL12: ='OA&GRIDCO'!BT12+'Day Ahead IEX PXIL'!AL12+RTM!AL12 -> 7.12 | AM12: ='OA&GRIDCO'!BC12+'Day Ahead IEX PXIL'!AE12+RTM!AE12 -> 0 | AN12: ='OA&GRIDCO'!BD12+'Day Ahead IEX PXIL'!AF12+RTM!AF12 -> 0 | AO12: ='OA&GRIDCO'!CC12+'Day Ahead IEX PXIL'!AQ12+RTM!AQ12 -> 0 | AP12: ='OA&GRIDCO'!CD12+'Day Ahead IEX PXIL'!AR12+RTM!AR12 -> 0 | AQ12: ='OA&GRIDCO'!CO12+'Day Ahead IEX PXIL'!AW12+RTM!AW12 -> 45.08 | AR12: ='OA&GRIDCO'!CP12+'Day Ahead IEX PXIL'!AX12+RTM!AX12 -> 14 | AS12: ='OA&GRIDCO'!DA12+'Day Ahead IEX PXIL'!BC12+RTM!BC12 -> 113.81443 | AT12: ='OA&GRIDCO'!DB12+'Day Ahead IEX PXIL'!BD12+RTM!BD12 -> 0 | AU12: ='Day Ahead IEX PXIL'!BI12+RTM!BI12+'OA&GRIDCO'!OY12 -> 0 | AV12: ='Day Ahead IEX PXIL'!BJ12+RTM!BJ12+'OA&GRIDCO'!OZ12 -> 0 | AY12: 0 | AZ12: ='OA&GRIDCO'!DL12+'Day Ahead IEX PXIL'!BP12+RTM!BP12 -> 13.7 | BA12: ='OA&GRIDCO'!EC12+'Day Ahead IEX PXIL'!BU12+RTM!BU12 -> 0 | BB12: ='OA&GRIDCO'!ED12+'Day Ahead IEX PXIL'!BV12+RTM!BV12 -> 0 | BC12: ='OA&GRIDCO'!EQ12+'Day Ahead IEX PXIL'!CA12+RTM!CA12 -> 589.69 | BD12: ='OA&GRIDCO'!ER12+'Day Ahead IEX PXIL'!CB12+RTM!CB12 -> 103.61 | BE12: ='OA&GRIDCO'!OC12+GDAM!U12 -> 0 | BF12: ='OA&GRIDCO'!OD12+GDAM!V12 -> 0 | BI12: ='OA&GRIDCO'!EW12+'Day Ahead IEX PXIL'!CG12+RTM!CG12 -> 1.03 | BJ12: ='OA&GRIDCO'!EX12+'Day Ahead IEX PXIL'!CH12+RTM!CH12 -> 0 | BK12: ='OA&GRIDCO'!KY12+RTM!FG12+'Day Ahead IEX PXIL'!GW12 -> 0 | BL12: ='OA&GRIDCO'!KZ12+RTM!FH12+'Day Ahead IEX PXIL'!GX12 -> 0 | BM12: ='Day Ahead IEX PXIL'!CM12+RTM!CM12+'OA&GRIDCO'!FC12 -> 28 | BN12: ='OA&GRIDCO'!FD12+'Day Ahead IEX PXIL'!CN12+RTM!CN12 -> 0 | BQ12: ='OA&GRIDCO'!FQ12+'Day Ahead IEX PXIL'!CS12+RTM!CS12 -> 2.06 | BR12: ='OA&GRIDCO'!FR12+'Day Ahead IEX PXIL'!CT12+RTM!CT12 -> 0 | BS12: ='OA&GRIDCO'!JW12+'Day Ahead IEX PXIL'!FA12+RTM!EU12 -> 53.8863 | BT12: ='OA&GRIDCO'!JX12+'Day Ahead IEX PXIL'!FB12+RTM!EV12 -> 10 | BU12: ='OA&GRIDCO'!GG12+RTM!G12 -> 0 | BV12: ='OA&GRIDCO'!GH12 -> 0 | BW12: ='OA&GRIDCO'!HA12+'Day Ahead IEX PXIL'!DK12+RTM!DE12 -> 0 | BX12: ='OA&GRIDCO'!HB12 -> 0 | BY12: ='Day Ahead IEX PXIL'!GK12+RTM!FA12+'OA&GRIDCO'!LE12 -> 0 | BZ12: ='Day Ahead IEX PXIL'!GL12+RTM!FB12+'OA&GRIDCO'!LF12 -> 0 | CC12: =RTM!GI12+'Day Ahead IEX PXIL'!II12+GDAM!M12 -> 0 | CD12: =RTM!GJ12 -> 0 | CE12: ='OA&GRIDCO'!HI12+'Day Ahead IEX PXIL'!DQ12+RTM!DK12 -> 0 | CF12: ='OA&GRIDCO'!HJ12+'Day Ahead IEX PXIL'!DR12+RTM!DL12 -> 0 | CG12: ='OA&GRIDCO'!HO12+'Day Ahead IEX PXIL'!DW12+RTM!DQ12 -> 0 | CH12: ='OA&GRIDCO'!HP12+'Day Ahead IEX PXIL'!DX12+RTM!DR12 -> 0 | CI12: ='Day Ahead IEX PXIL'!HE12+'OA&GRIDCO'!DI12+RTM!GY12 -> 1.03 | CJ12: ='Day Ahead IEX PXIL'!HF12+'OA&GRIDCO'!DJ12 -> 0 | CK12: ='OA&GRIDCO'!KU12+'Day Ahead IEX PXIL'!DE12 -> 0 | CL12: ='OA&GRIDCO'!KV12+'Day Ahead IEX PXIL'!DF12 -> 0 | CM12: ='Day Ahead IEX PXIL'!FS12+RTM!FS12 -> 0 | CN12: ='Day Ahead IEX PXIL'!FT12 -> 0 | CO12: =RTM!IY12+'Day Ahead IEX PXIL'!IU12 -> 0 | CP12: =RTM!IZ12+'Day Ahead IEX PXIL'!IV12 -> 0 | CQ12: ='OA&GRIDCO'!KI12+'Day Ahead IEX PXIL'!FM12+RTM!GE12 -> 0 | CR12: ='OA&GRIDCO'!KJ12+'Day Ahead IEX PXIL'!FN12 -> 0 | CS12: ='OA&GRIDCO'!KO12+'Day Ahead IEX PXIL'!FY12+RTM!FY12 -> 0 | CT12: ='Day Ahead IEX PXIL'!FZ12 -> 0 | CU12: 0 | CV12: ='Day Ahead IEX PXIL'!GF12 -> 0 | CW12: ='OA&GRIDCO'!HU12+'Day Ahead IEX PXIL'!EC12+RTM!DW12 -> 505 | CX12: ='OA&GRIDCO'!HV12+'Day Ahead IEX PXIL'!ED12+RTM!DX12 -> 0 | CY12: ='OA&GRIDCO'!IG12+'Day Ahead IEX PXIL'!EI12+RTM!EC12 -> 4.3 | CZ12: ='OA&GRIDCO'!IH12+'Day Ahead IEX PXIL'!EJ12+RTM!ED12 -> 1.075 | DA12: ='OA&GRIDCO'!IU12+'Day Ahead IEX PXIL'!EO12+RTM!EI12 -> 0 | DB12: ='OA&GRIDCO'!IV12+'Day Ahead IEX PXIL'!EP12+RTM!EJ12 -> 0 | DE12: ='Day Ahead IEX PXIL'!FC12+'OA&GRIDCO'!KC12+RTM!GM12 -> 0 | DF12: ='Day Ahead IEX PXIL'!FD12+'OA&GRIDCO'!KD12 -> 0 | DG12: ='OA&GRIDCO'!JG12+'Day Ahead IEX PXIL'!EU12+RTM!EO12 -> 26.8 | DH12: ='OA&GRIDCO'!JH12+'Day Ahead IEX PXIL'!EV12+RTM!EP12 -> 0 | DI12: 0 | DJ12: 0 | DK12: =RTM!FM12 -> 0 | DL12: =RTM!FN12 -> 0 | DM12: ='OA&GRIDCO'!LH12+'Day Ahead IEX PXIL'!HU12+'Day Ahead IEX PXIL'!HU12 -> 0 | DN12: ='OA&GRIDCO'!LJ12+'Day Ahead IEX PXIL'!HV12+RTM!GV12 -> 0 | DO12: ='OA&GRIDCO'!LU12+'Day Ahead IEX PXIL'!HO12+RTM!IU12 -> 54.795 | DP12: ='OA&GRIDCO'!LV12+'Day Ahead IEX PXIL'!HP12+RTM!IV12 -> 0 | DQ12: =RTM!HK12 -> 1.86 | DR12: =RTM!HL12 -> 0 | DS12: =RTM!HO12 -> 0 | DT12: =RTM!HP12 -> 0 | DU12: =RTM!HS12 -> 0 | DV12: =RTM!HT12 -> 0 | DW12: =RTM!HW12+'OA&GRIDCO'!MK12 -> 23.71 | DX12: =RTM!HX12 -> 0 | DY12: =RTM!IA12 -> 0 | DZ12: =RTM!IB12 -> 0 | EA12: =RTM!IC12 -> 0 | EB12: =RTM!ID12 -> 0 | EC12: ='OA&GRIDCO'!MQ12 -> 0 | ED12: ='OA&GRIDCO'!MR12 -> 0 | EE12: ='OA&GRIDCO'!MU12 -> 0 | EF12: ='OA&GRIDCO'!MV12 -> 0 | EG12: ='OA&GRIDCO'!MY12+'Day Ahead IEX PXIL'!IM12+GDAM!G12+RTM!II12 -> 0 | EH12: ='OA&GRIDCO'!MZ12+'Day Ahead IEX PXIL'!IN12+RTM!IJ12+GDAM!H12 -> 0 | EI12: ='Day Ahead IEX PXIL'!IQ12+RTM!IM12+'OA&GRIDCO'!NC12+GDAM!BO12 -> 0 | EJ12: ='Day Ahead IEX PXIL'!IR12+RTM!IN12+'OA&GRIDCO'!ND12 -> 0 | EK12: ='OA&GRIDCO'!NG12 -> 0 | EL12: ='OA&GRIDCO'!NH12 -> 0 | EM12: =RTM!IQ12 -> 0 | EN12: =RTM!IR12 -> 0 | EO12: =RTM!JC12 -> 0 | EP12: =RTM!JD12 -> 0 | EQ12: ='OA&GRIDCO'!NK12 -> 0 | ER12: ='OA&GRIDCO'!NL12 -> 0 | ES12: ='OA&GRIDCO'!NM12+RTM!HC12+'Day Ahead IEX PXIL'!IY12 -> 0 | ET12: ='OA&GRIDCO'!NP12+RTM!HD12+'Day Ahead IEX PXIL'!IZ12 -> 0 | EU12: =RTM!JG12 -> 1.55 | EV12: =RTM!JH12 -> 0 | EW12: =RTM!JK12 -> 0 | EX12: =RTM!JL12 -> 0 | EY12: =GDAM!S12+'OA&GRIDCO'!OM12+RTM!JO12 -> 0 | EZ12: =GDAM!T12+'OA&GRIDCO'!OD12+RTM!JP12 -> 0 | FA12: =GDAM!Y12+RTM!JS12 -> 0 | FB12: =GDAM!Z12+RTM!JT12 -> 0 | FC12: =RTM!JW12 -> 0 | FD12: =RTM!JX12 -> 0 | FE12: =GDAM!AE12+'OA&GRIDCO'!OU12 -> 0 | FF12: =GDAM!AF12+'OA&GRIDCO'!OV12 -> 0 | FG12: =GDAM!AK12 -> 0 | FH12: =GDAM!AL12 -> 0 | FI12: =GDAM!AQ12 -> 0 | FJ12: =GDAM!AR12 -> 0 | FK12: =GDAM!AW12 -> 0 | FL12: =GDAM!AX12 -> 0 | FM12: =GDAM!BC12 -> 0 | FN12: =GDAM!BD12 -> 0 | FO12: =GDAM!BI12 -> 0 | FP12: =GDAM!BJ12 -> 0 | FQ12: =C12+E12+G12+I12+K12+M12+O12+Q12+W12+Y12+AA12+AC12+AE12+AG12+AI12+AK12+AM12+AO12+AQ12+AS12+AU12+AW12+AY12+BA12+BC12+BE12+BG12+BI12+BK12+BM12+BO12+BQ12+BS12+BU12+BW12+BY12+CA12+CC12+CE12+CG12+CI12+CK12+CM12+CQ12+CS12+CU12+CW12+CY12+DA12+DC12+DE12+DG12+DI12+DK12+DM12+DO12+DQ12+DS12+DU12+DW12+DY12+EA12+EC12+EE12+EG12+EI12+EK12+CO12+EM12+EO12+EQ12+ES12+EU12+EW12+EY12+FA12+FC12+FE12+FG12+FI12+FK12+FM12+FO12 -> 1719.4757 | FR12: =D12+F12+H12+J12+L12+N12+P12+R12+X12+Z12+AB12+AD12+AF12+AH12+AJ12+AL12+AN12+AP12+AR12+AT12+AV12+AX12+AZ12+BB12+BD12+BH12+BJ12+BL12+BN12+BP12+BF12+BR12+BT12+BV12+BX12+BZ12+CB12+CD12+CF12+CH12+CJ12+CL12+CN12+CR12+CT12+CV12+CX12+CZ12+DB12+DD12+DF12+DH12+DJ12+DL12+DN12+DP12+DR12+DT12+DV12+DX12+DZ12+EB12+ED12+EF12+EH12+EJ12+EL12+EN12+CP12+EP12+ER12+ET12+EV12+EX12+EZ12+FB12+FD12+FF12+FH12+FJ12+FL12+FN12+FP12 -> 186.785
A13: 0030-0045 | B13: 3 | G13: 24 | H13: 0.9 | O13: 0 | Q13: 9 | R13: 0.85 | S13: 25 | U13: 37 | W13: 0 | Y13: 0 | AA13: 0 | AC13: 0 | AE13: ='OA&GRIDCO'!W13+'Day Ahead IEX PXIL'!M13+RTM!M13 -> 10.3 | AF13: ='OA&GRIDCO'!X13+'Day Ahead IEX PXIL'!N13+RTM!N13 -> 1.03 | AG13: ='OA&GRIDCO'!AC13+'Day Ahead IEX PXIL'!S13+RTM!S13 -> 1.86 | AH13: ='OA&GRIDCO'!AD13+'Day Ahead IEX PXIL'!T13+RTM!T13 -> 0 | AI13: ='OA&GRIDCO'!AU13+'Day Ahead IEX PXIL'!Y13+RTM!Y13 -> 115 | AJ13: ='OA&GRIDCO'!AV13+'Day Ahead IEX PXIL'!Z13+RTM!Z13 -> 34.5 | AK13: ='OA&GRIDCO'!BS13+'Day Ahead IEX PXIL'!AK13+RTM!AK13 -> 70.62 | AL13: ='OA&GRIDCO'!BT13+'Day Ahead IEX PXIL'!AL13+RTM!AL13 -> 7.12 | AM13: ='OA&GRIDCO'!BC13+'Day Ahead IEX PXIL'!AE13+RTM!AE13 -> 0 | AN13: ='OA&GRIDCO'!BD13+'Day Ahead IEX PXIL'!AF13+RTM!AF13 -> 0 | AO13: ='OA&GRIDCO'!CC13+'Day Ahead IEX PXIL'!AQ13+RTM!AQ13 -> 0 | AP13: ='OA&GRIDCO'!CD13+'Day Ahead IEX PXIL'!AR13+RTM!AR13 -> 0 | AQ13: ='OA&GRIDCO'!CO13+'Day Ahead IEX PXIL'!AW13+RTM!AW13 -> 45.08 | AR13: ='OA&GRIDCO'!CP13+'Day Ahead IEX PXIL'!AX13+RTM!AX13 -> 14 | AS13: ='OA&GRIDCO'!DA13+'Day Ahead IEX PXIL'!BC13+RTM!BC13 -> 163.81443 | AT13: ='OA&GRIDCO'!DB13+'Day Ahead IEX PXIL'!BD13+RTM!BD13 -> 0 | AU13: ='Day Ahead IEX PXIL'!BI13+RTM!BI13+'OA&GRIDCO'!OY13 -> 0 | AV13: ='Day Ahead IEX PXIL'!BJ13+RTM!BJ13+'OA&GRIDCO'!OZ13 -> 0 | AY13: 0 | AZ13: ='OA&GRIDCO'!DL13+'Day Ahead IEX PXIL'!BP13+RTM!BP13 -> 13.7 | BA13: ='OA&GRIDCO'!EC13+'Day Ahead IEX PXIL'!BU13+RTM!BU13 -> 0 | BB13: ='OA&GRIDCO'!ED13+'Day Ahead IEX PXIL'!BV13+RTM!BV13 -> 0 | BC13: ='OA&GRIDCO'!EQ13+'Day Ahead IEX PXIL'!CA13+RTM!CA13 -> 589.69 | BD13: ='OA&GRIDCO'!ER13+'Day Ahead IEX PXIL'!CB13+RTM!CB13 -> 103.61 | BE13: ='OA&GRIDCO'!OC13+GDAM!U13 -> 0 | BF13: ='OA&GRIDCO'!OD13+GDAM!V13 -> 0 | BI13: ='OA&GRIDCO'!EW13+'Day Ahead IEX PXIL'!CG13+RTM!CG13 -> 1.03 | BJ13: ='OA&GRIDCO'!EX13+'Day Ahead IEX PXIL'!CH13+RTM!CH13 -> 0 | BK13: ='OA&GRIDCO'!KY13+RTM!FG13+'Day Ahead IEX PXIL'!GW13 -> 0 | BL13: ='OA&GRIDCO'!KZ13+RTM!FH13+'Day Ahead IEX PXIL'!GX13 -> 0 | BM13: ='Day Ahead IEX PXIL'!CM13+RTM!CM13+'OA&GRIDCO'!FC13 -> 28 | BN13: ='OA&GRIDCO'!FD13+'Day Ahead IEX PXIL'!CN13+RTM!CN13 -> 0 | BQ13: ='OA&GRIDCO'!FQ13+'Day Ahead IEX PXIL'!CS13+RTM!CS13 -> 2.06 | BR13: ='OA&GRIDCO'!FR13+'Day Ahead IEX PXIL'!CT13+RTM!CT13 -> 0 | BS13: ='OA&GRIDCO'!JW13+'Day Ahead IEX PXIL'!FA13+RTM!EU13 -> 53.8863 | BT13: ='OA&GRIDCO'!JX13+'Day Ahead IEX PXIL'!FB13+RTM!EV13 -> 10 | BU13: ='OA&GRIDCO'!GG13+RTM!G13 -> 0 | BV13: ='OA&GRIDCO'!GH13 -> 0 | BW13: ='OA&GRIDCO'!HA13+'Day Ahead IEX PXIL'!DK13+RTM!DE13 -> 0 | BX13: ='OA&GRIDCO'!HB13 -> 0 | BY13: ='Day Ahead IEX PXIL'!GK13+RTM!FA13+'OA&GRIDCO'!LE13 -> 0 | BZ13: ='Day Ahead IEX PXIL'!GL13+RTM!FB13+'OA&GRIDCO'!LF13 -> 0 | CC13: =RTM!GI13+'Day Ahead IEX PXIL'!II13+GDAM!M13 -> 0 | CD13: =RTM!GJ13 -> 0 | CE13: ='OA&GRIDCO'!HI13+'Day Ahead IEX PXIL'!DQ13+RTM!DK13 -> 0 | CF13: ='OA&GRIDCO'!HJ13+'Day Ahead IEX PXIL'!DR13+RTM!DL13 -> 0 | CG13: ='OA&GRIDCO'!HO13+'Day Ahead IEX PXIL'!DW13+RTM!DQ13 -> 0 | CH13: ='OA&GRIDCO'!HP13+'Day Ahead IEX PXIL'!DX13+RTM!DR13 -> 0 | CI13: ='Day Ahead IEX PXIL'!HE13+'OA&GRIDCO'!DI13+RTM!GY13 -> 1.03 | CJ13: ='Day Ahead IEX PXIL'!HF13+'OA&GRIDCO'!DJ13 -> 0 | CK13: ='OA&GRIDCO'!KU13+'Day Ahead IEX PXIL'!DE13 -> 0 | CL13: ='OA&GRIDCO'!KV13+'Day Ahead IEX PXIL'!DF13 -> 0 | CM13: ='Day Ahead IEX PXIL'!FS13+RTM!FS13 -> 0 | CN13: ='Day Ahead IEX PXIL'!FT13 -> 0 | CO13: =RTM!IY13+'Day Ahead IEX PXIL'!IU13 -> 0 | CP13: =RTM!IZ13+'Day Ahead IEX PXIL'!IV13 -> 0 | CQ13: ='OA&GRIDCO'!KI13+'Day Ahead IEX PXIL'!FM13+RTM!GE13 -> 0 | CR13: ='OA&GRIDCO'!KJ13+'Day Ahead IEX PXIL'!FN13 -> 0 | CS13: ='OA&GRIDCO'!KO13+'Day Ahead IEX PXIL'!FY13+RTM!FY13 -> 0 | CT13: ='Day Ahead IEX PXIL'!FZ13 -> 0 | CU13: 0 | CV13: ='Day Ahead IEX PXIL'!GF13 -> 0 | CW13: ='OA&GRIDCO'!HU13+'Day Ahead IEX PXIL'!EC13+RTM!DW13 -> 475 | CX13: ='OA&GRIDCO'!HV13+'Day Ahead IEX PXIL'!ED13+RTM!DX13 -> 0 | CY13: ='OA&GRIDCO'!IG13+'Day Ahead IEX PXIL'!EI13+RTM!EC13 -> 4.3 | CZ13: ='OA&GRIDCO'!IH13+'Day Ahead IEX PXIL'!EJ13+RTM!ED13 -> 1.075 | DA13: ='OA&GRIDCO'!IU13+'Day Ahead IEX PXIL'!EO13+RTM!EI13 -> 0 | DB13: ='OA&GRIDCO'!IV13+'Day Ahead IEX PXIL'!EP13+RTM!EJ13 -> 0 | DE13: ='Day Ahead IEX PXIL'!FC13+'OA&GRIDCO'!KC13+RTM!GM13 -> 0 | DF13: ='Day Ahead IEX PXIL'!FD13+'OA&GRIDCO'!KD13 -> 0 | DG13: ='OA&GRIDCO'!JG13+'Day Ahead IEX PXIL'!EU13+RTM!EO13 -> 26.8 | DH13: ='OA&GRIDCO'!JH13+'Day Ahead IEX PXIL'!EV13+RTM!EP13 -> 0 | DI13: 0 | DJ13: 0 | DK13: =RTM!FM13 -> 0 | DL13: =RTM!FN13 -> 0 | DM13: ='OA&GRIDCO'!LH13+'Day Ahead IEX PXIL'!HU13+'Day Ahead IEX PXIL'!HU13 -> 0 | DN13: ='OA&GRIDCO'!LJ13+'Day Ahead IEX PXIL'!HV13+RTM!GV13 -> 0 | DO13: ='OA&GRIDCO'!LU13+'Day Ahead IEX PXIL'!HO13+RTM!IU13 -> 54.795 | DP13: ='OA&GRIDCO'!LV13+'Day Ahead IEX PXIL'!HP13+RTM!IV13 -> 0 | DQ13: =RTM!HK13 -> 1.86 | DR13: =RTM!HL13 -> 0 | DS13: =RTM!HO13 -> 0 | DT13: =RTM!HP13 -> 0 | DU13: =RTM!HS13 -> 0 | DV13: =RTM!HT13 -> 0 | DW13: =RTM!HW13+'OA&GRIDCO'!MK13 -> 23.71 | DX13: =RTM!HX13 -> 0 | DY13: =RTM!IA13 -> 0 | DZ13: =RTM!IB13 -> 0 | EA13: =RTM!IC13 -> 0 | EB13: =RTM!ID13 -> 0 | EC13: ='OA&GRIDCO'!MQ13 -> 0 | ED13: ='OA&GRIDCO'!MR13 -> 0 | EE13: ='OA&GRIDCO'!MU13 -> 0 | EF13: ='OA&GRIDCO'!MV13 -> 0 | EG13: ='OA&GRIDCO'!MY13+'Day Ahead IEX PXIL'!IM13+GDAM!G13+RTM!II13 -> 0 | EH13: ='OA&GRIDCO'!MZ13+'Day Ahead IEX PXIL'!IN13+RTM!IJ13+GDAM!H13 -> 0 | EI13: ='Day Ahead IEX PXIL'!IQ13+RTM!IM13+'OA&GRIDCO'!NC13+GDAM!BO13 -> 0 | EJ13: ='Day Ahead IEX PXIL'!IR13+RTM!IN13+'OA&GRIDCO'!ND13 -> 0 | EK13: ='OA&GRIDCO'!NG13 -> 0 | EL13: ='OA&GRIDCO'!NH13 -> 0 | EM13: =RTM!IQ13 -> 0 | EN13: =RTM!IR13 -> 0 | EO13: =RTM!JC13 -> 0 | EP13: =RTM!JD13 -> 0 | EQ13: ='OA&GRIDCO'!NK13 -> 0 | ER13: ='OA&GRIDCO'!NL13 -> 0 | ES13: ='OA&GRIDCO'!NM13+RTM!HC13+'Day Ahead IEX PXIL'!IY13 -> 0 | ET13: ='OA&GRIDCO'!NP13+RTM!HD13+'Day Ahead IEX PXIL'!IZ13 -> 0 | EU13: =RTM!JG13 -> 1.55 | EV13: =RTM!JH13 -> 0 | EW13: =RTM!JK13 -> 0 | EX13: =RTM!JL13 -> 0 | EY13: =GDAM!S13+'OA&GRIDCO'!OM13+RTM!JO13 -> 0 | EZ13: =GDAM!T13+'OA&GRIDCO'!OD13+RTM!JP13 -> 0 | FA13: =GDAM!Y13+RTM!JS13 -> 0 | FB13: =GDAM!Z13+RTM!JT13 -> 0 | FC13: =RTM!JW13 -> 0 | FD13: =RTM!JX13 -> 0 | FE13: =GDAM!AE13+'OA&GRIDCO'!OU13 -> 0 | FF13: =GDAM!AF13+'OA&GRIDCO'!OV13 -> 0 | FG13: =GDAM!AK13 -> 0 | FH13: =GDAM!AL13 -> 0 | FI13: =GDAM!AQ13 -> 0 | FJ13: =GDAM!AR13 -> 0 | FK13: =GDAM!AW13 -> 0 | FL13: =GDAM!AX13 -> 0 | FM13: =GDAM!BC13 -> 0 | FN13: =GDAM!BD13 -> 0 | FO13: =GDAM!BI13 -> 0 | FP13: =GDAM!BJ13 -> 0 | FQ13: =C13+E13+G13+I13+K13+M13+O13+Q13+W13+Y13+AA13+AC13+AE13+AG13+AI13+AK13+AM13+AO13+AQ13+AS13+AU13+AW13+AY13+BA13+BC13+BE13+BG13+BI13+BK13+BM13+BO13+BQ13+BS13+BU13+BW13+BY13+CA13+CC13+CE13+CG13+CI13+CK13+CM13+CQ13+CS13+CU13+CW13+CY13+DA13+DC13+DE13+DG13+DI13+DK13+DM13+DO13+DQ13+DS13+DU13+DW13+DY13+EA13+EC13+EE13+EG13+EI13+EK13+CO13+EM13+EO13+EQ13+ES13+EU13+EW13+EY13+FA13+FC13+FE13+FG13+FI13+FK13+FM13+FO13 -> 1703.3857 | FR13: =D13+F13+H13+J13+L13+N13+P13+R13+X13+Z13+AB13+AD13+AF13+AH13+AJ13+AL13+AN13+AP13+AR13+AT13+AV13+AX13+AZ13+BB13+BD13+BH13+BJ13+BL13+BN13+BP13+BF13+BR13+BT13+BV13+BX13+BZ13+CB13+CD13+CF13+CH13+CJ13+CL13+CN13+CR13+CT13+CV13+CX13+CZ13+DB13+DD13+DF13+DH13+DJ13+DL13+DN13+DP13+DR13+DT13+DV13+DX13+DZ13+EB13+ED13+EF13+EH13+EJ13+EL13+EN13+CP13+EP13+ER13+ET13+EV13+EX13+EZ13+FB13+FD13+FF13+FH13+FJ13+FL13+FN13+FP13 -> 186.785
A14: 0045-0100 | B14: 4 | G14: 24 | H14: 0.9 | O14: 0 | Q14: 9 | R14: 0.85 | S14: 25 | U14: 37 | W14: 0 | Y14: 0 | AA14: 0 | AC14: 0 | AE14: ='OA&GRIDCO'!W14+'Day Ahead IEX PXIL'!M14+RTM!M14 -> 10.3 | AF14: ='OA&GRIDCO'!X14+'Day Ahead IEX PXIL'!N14+RTM!N14 -> 1.03 | AG14: ='OA&GRIDCO'!AC14+'Day Ahead IEX PXIL'!S14+RTM!S14 -> 1.86 | AH14: ='OA&GRIDCO'!AD14+'Day Ahead IEX PXIL'!T14+RTM!T14 -> 0 | AI14: ='OA&GRIDCO'!AU14+'Day Ahead IEX PXIL'!Y14+RTM!Y14 -> 115 | AJ14: ='OA&GRIDCO'!AV14+'Day Ahead IEX PXIL'!Z14+RTM!Z14 -> 34.5 | AK14: ='OA&GRIDCO'!BS14+'Day Ahead IEX PXIL'!AK14+RTM!AK14 -> 50 | AL14: ='OA&GRIDCO'!BT14+'Day Ahead IEX PXIL'!AL14+RTM!AL14 -> 7.12 | AM14: ='OA&GRIDCO'!BC14+'Day Ahead IEX PXIL'!AE14+RTM!AE14 -> 0 | AN14: ='OA&GRIDCO'!BD14+'Day Ahead IEX PXIL'!AF14+RTM!AF14 -> 0 | AO14: ='OA&GRIDCO'!CC14+'Day Ahead IEX PXIL'!AQ14+RTM!AQ14 -> 0 | AP14: ='OA&GRIDCO'!CD14+'Day Ahead IEX PXIL'!AR14+RTM!AR14 -> 0 | AQ14: ='OA&GRIDCO'!CO14+'Day Ahead IEX PXIL'!AW14+RTM!AW14 -> 45.08 | AR14: ='OA&GRIDCO'!CP14+'Day Ahead IEX PXIL'!AX14+RTM!AX14 -> 14 | AS14: ='OA&GRIDCO'!DA14+'Day Ahead IEX PXIL'!BC14+RTM!BC14 -> 163.81443 | AT14: ='OA&GRIDCO'!DB14+'Day Ahead IEX PXIL'!BD14+RTM!BD14 -> 0 | AU14: ='Day Ahead IEX PXIL'!BI14+RTM!BI14+'OA&GRIDCO'!OY14 -> 0 | AV14: ='Day Ahead IEX PXIL'!BJ14+RTM!BJ14+'OA&GRIDCO'!OZ14 -> 0 | AY14: 0 | AZ14: ='OA&GRIDCO'!DL14+'Day Ahead IEX PXIL'!BP14+RTM!BP14 -> 13.7 | BA14: ='OA&GRIDCO'!EC14+'Day Ahead IEX PXIL'!BU14+RTM!BU14 -> 0 | BB14: ='OA&GRIDCO'!ED14+'Day Ahead IEX PXIL'!BV14+RTM!BV14 -> 0 | BC14: ='OA&GRIDCO'!EQ14+'Day Ahead IEX PXIL'!CA14+RTM!CA14 -> 589.69 | BD14: ='OA&GRIDCO'!ER14+'Day Ahead IEX PXIL'!CB14+RTM!CB14 -> 103.61 | BE14: ='OA&GRIDCO'!OC14+GDAM!U14 -> 0 | BF14: ='OA&GRIDCO'!OD14+GDAM!V14 -> 0 | BI14: ='OA&GRIDCO'!EW14+'Day Ahead IEX PXIL'!CG14+RTM!CG14 -> 1.03 | BJ14: ='OA&GRIDCO'!EX14+'Day Ahead IEX PXIL'!CH14+RTM!CH14 -> 0 | BK14: ='OA&GRIDCO'!KY14+RTM!FG14+'Day Ahead IEX PXIL'!GW14 -> 0 | BL14: ='OA&GRIDCO'!KZ14+RTM!FH14+'Day Ahead IEX PXIL'!GX14 -> 0 | BM14: ='Day Ahead IEX PXIL'!CM14+RTM!CM14+'OA&GRIDCO'!FC14 -> 28 | BN14: ='OA&GRIDCO'!FD14+'Day Ahead IEX PXIL'!CN14+RTM!CN14 -> 0 | BQ14: ='OA&GRIDCO'!FQ14+'Day Ahead IEX PXIL'!CS14+RTM!CS14 -> 2.06 | BR14: ='OA&GRIDCO'!FR14+'Day Ahead IEX PXIL'!CT14+RTM!CT14 -> 0 | BS14: ='OA&GRIDCO'!JW14+'Day Ahead IEX PXIL'!FA14+RTM!EU14 -> 53.8863 | BT14: ='OA&GRIDCO'!JX14+'Day Ahead IEX PXIL'!FB14+RTM!EV14 -> 10 | BU14: ='OA&GRIDCO'!GG14+RTM!G14 -> 0 | BV14: ='OA&GRIDCO'!GH14 -> 0 | BW14: ='OA&GRIDCO'!HA14+'Day Ahead IEX PXIL'!DK14+RTM!DE14 -> 0 | BX14: ='OA&GRIDCO'!HB14 -> 0 | BY14: ='Day Ahead IEX PXIL'!GK14+RTM!FA14+'OA&GRIDCO'!LE14 -> 0 | BZ14: ='Day Ahead IEX PXIL'!GL14+RTM!FB14+'OA&GRIDCO'!LF14 -> 0 | CC14: =RTM!GI14+'Day Ahead IEX PXIL'!II14+GDAM!M14 -> 0 | CD14: =RTM!GJ14 -> 0 | CE14: ='OA&GRIDCO'!HI14+'Day Ahead IEX PXIL'!DQ14+RTM!DK14 -> 0 | CF14: ='OA&GRIDCO'!HJ14+'Day Ahead IEX PXIL'!DR14+RTM!DL14 -> 0 | CG14: ='OA&GRIDCO'!HO14+'Day Ahead IEX PXIL'!DW14+RTM!DQ14 -> 0 | CH14: ='OA&GRIDCO'!HP14+'Day Ahead IEX PXIL'!DX14+RTM!DR14 -> 0 | CI14: ='Day Ahead IEX PXIL'!HE14+'OA&GRIDCO'!DI14+RTM!GY14 -> 1.03 | CJ14: ='Day Ahead IEX PXIL'!HF14+'OA&GRIDCO'!DJ14 -> 0 | CK14: ='OA&GRIDCO'!KU14+'Day Ahead IEX PXIL'!DE14 -> 0 | CL14: ='OA&GRIDCO'!KV14+'Day Ahead IEX PXIL'!DF14 -> 0 | CM14: ='Day Ahead IEX PXIL'!FS14+RTM!FS14 -> 0 | CN14: ='Day Ahead IEX PXIL'!FT14 -> 0 | CO14: =RTM!IY14+'Day Ahead IEX PXIL'!IU14 -> 0 | CP14: =RTM!IZ14+'Day Ahead IEX PXIL'!IV14 -> 0 | CQ14: ='OA&GRIDCO'!KI14+'Day Ahead IEX PXIL'!FM14+RTM!GE14 -> 0 | CR14: ='OA&GRIDCO'!KJ14+'Day Ahead IEX PXIL'!FN14 -> 0 | CS14: ='OA&GRIDCO'!KO14+'Day Ahead IEX PXIL'!FY14+RTM!FY14 -> 0 | CT14: ='Day Ahead IEX PXIL'!FZ14 -> 0 | CU14: 0 | CV14: ='Day Ahead IEX PXIL'!GF14 -> 0 | CW14: ='OA&GRIDCO'!HU14+'Day Ahead IEX PXIL'!EC14+RTM!DW14 -> 445 | CX14: ='OA&GRIDCO'!HV14+'Day Ahead IEX PXIL'!ED14+RTM!DX14 -> 0 | CY14: ='OA&GRIDCO'!IG14+'Day Ahead IEX PXIL'!EI14+RTM!EC14 -> 4.3 | CZ14: ='OA&GRIDCO'!IH14+'Day Ahead IEX PXIL'!EJ14+RTM!ED14 -> 1.075 | DA14: ='OA&GRIDCO'!IU14+'Day Ahead IEX PXIL'!EO14+RTM!EI14 -> 0 | DB14: ='OA&GRIDCO'!IV14+'Day Ahead IEX PXIL'!EP14+RTM!EJ14 -> 0 | DE14: ='Day Ahead IEX PXIL'!FC14+'OA&GRIDCO'!KC14+RTM!GM14 -> 0 | DF14: ='Day Ahead IEX PXIL'!FD14+'OA&GRIDCO'!KD14 -> 0 | DG14: ='OA&GRIDCO'!JG14+'Day Ahead IEX PXIL'!EU14+RTM!EO14 -> 26.8 | DH14: ='OA&GRIDCO'!JH14+'Day Ahead IEX PXIL'!EV14+RTM!EP14 -> 0 | DI14: 0 | DJ14: 0 | DK14: =RTM!FM14 -> 0 | DL14: =RTM!FN14 -> 0 | DM14: ='OA&GRIDCO'!LH14+'Day Ahead IEX PXIL'!HU14+'Day Ahead IEX PXIL'!HU14 -> 0 | DN14: ='OA&GRIDCO'!LJ14+'Day Ahead IEX PXIL'!HV14+RTM!GV14 -> 0 | DO14: ='OA&GRIDCO'!LU14+'Day Ahead IEX PXIL'!HO14+RTM!IU14 -> 54.795 | DP14: ='OA&GRIDCO'!LV14+'Day Ahead IEX PXIL'!HP14+RTM!IV14 -> 0 | DQ14: =RTM!HK14 -> 1.86 | DR14: =RTM!HL14 -> 0 | DS14: =RTM!HO14 -> 0 | DT14: =RTM!HP14 -> 0 | DU14: =RTM!HS14 -> 0 | DV14: =RTM!HT14 -> 0 | DW14: =RTM!HW14+'OA&GRIDCO'!MK14 -> 23.71 | DX14: =RTM!HX14 -> 0 | DY14: =RTM!IA14 -> 0 | DZ14: =RTM!IB14 -> 0 | EA14: =RTM!IC14 -> 0 | EB14: =RTM!ID14 -> 0 | EC14: ='OA&GRIDCO'!MQ14 -> 0 | ED14: ='OA&GRIDCO'!MR14 -> 0 | EE14: ='OA&GRIDCO'!MU14 -> 0 | EF14: ='OA&GRIDCO'!MV14 -> 0 | EG14: ='OA&GRIDCO'!MY14+'Day Ahead IEX PXIL'!IM14+GDAM!G14+RTM!II14 -> 0 | EH14: ='OA&GRIDCO'!MZ14+'Day Ahead IEX PXIL'!IN14+RTM!IJ14+GDAM!H14 -> 0 | EI14: ='Day Ahead IEX PXIL'!IQ14+RTM!IM14+'OA&GRIDCO'!NC14+GDAM!BO14 -> 0 | EJ14: ='Day Ahead IEX PXIL'!IR14+RTM!IN14+'OA&GRIDCO'!ND14 -> 0 | EK14: ='OA&GRIDCO'!NG14 -> 0 | EL14: ='OA&GRIDCO'!NH14 -> 0 | EM14: =RTM!IQ14 -> 0 | EN14: =RTM!IR14 -> 0 | EO14: =RTM!JC14 -> 0 | EP14: =RTM!JD14 -> 0 | EQ14: ='OA&GRIDCO'!NK14 -> 0 | ER14: ='OA&GRIDCO'!NL14 -> 0 | ES14: ='OA&GRIDCO'!NM14+RTM!HC14+'Day Ahead IEX PXIL'!IY14 -> 0 | ET14: ='OA&GRIDCO'!NP14+RTM!HD14+'Day Ahead IEX PXIL'!IZ14 -> 0 | EU14: =RTM!JG14 -> 1.55 | EV14: =RTM!JH14 -> 0 | EW14: =RTM!JK14 -> 0 | EX14: =RTM!JL14 -> 0 | EY14: =GDAM!S14+'OA&GRIDCO'!OM14+RTM!JO14 -> 0 | EZ14: =GDAM!T14+'OA&GRIDCO'!OD14+RTM!JP14 -> 0 | FA14: =GDAM!Y14+RTM!JS14 -> 0 | FB14: =GDAM!Z14+RTM!JT14 -> 0 | FC14: =RTM!JW14 -> 0 | FD14: =RTM!JX14 -> 0 | FE14: =GDAM!AE14+'OA&GRIDCO'!OU14 -> 0 | FF14: =GDAM!AF14+'OA&GRIDCO'!OV14 -> 0 | FG14: =GDAM!AK14 -> 0 | FH14: =GDAM!AL14 -> 0 | FI14: =GDAM!AQ14 -> 0 | FJ14: =GDAM!AR14 -> 0 | FK14: =GDAM!AW14 -> 0 | FL14: =GDAM!AX14 -> 0 | FM14: =GDAM!BC14 -> 0 | FN14: =GDAM!BD14 -> 0 | FO14: =GDAM!BI14 -> 0 | FP14: =GDAM!BJ14 -> 0 | FQ14: =C14+E14+G14+I14+K14+M14+O14+Q14+W14+Y14+AA14+AC14+AE14+AG14+AI14+AK14+AM14+AO14+AQ14+AS14+AU14+AW14+AY14+BA14+BC14+BE14+BG14+BI14+BK14+BM14+BO14+BQ14+BS14+BU14+BW14+BY14+CA14+CC14+CE14+CG14+CI14+CK14+CM14+CQ14+CS14+CU14+CW14+CY14+DA14+DC14+DE14+DG14+DI14+DK14+DM14+DO14+DQ14+DS14+DU14+DW14+DY14+EA14+EC14+EE14+EG14+EI14+EK14+CO14+EM14+EO14+EQ14+ES14+EU14+EW14+EY14+FA14+FC14+FE14+FG14+FI14+FK14+FM14+FO14 -> 1652.7657 | FR14: =D14+F14+H14+J14+L14+N14+P14+R14+X14+Z14+AB14+AD14+AF14+AH14+AJ14+AL14+AN14+AP14+AR14+AT14+AV14+AX14+AZ14+BB14+BD14+BH14+BJ14+BL14+BN14+BP14+BF14+BR14+BT14+BV14+BX14+BZ14+CB14+CD14+CF14+CH14+CJ14+CL14+CN14+CR14+CT14+CV14+CX14+CZ14+DB14+DD14+DF14+DH14+DJ14+DL14+DN14+DP14+DR14+DT14+DV14+DX14+DZ14+EB14+ED14+EF14+EH14+EJ14+EL14+EN14+CP14+EP14+ER14+ET14+EV14+EX14+EZ14+FB14+FD14+FF14+FH14+FJ14+FL14+FN14+FP14 -> 186.785
A15: 0100-0115 | B15: 5 | G15: 24 | H15: 0.9 | O15: 0 | Q15: 9 | R15: 0.85 | S15: 25 | U15: 37 | W15: 0 | Y15: 0 | AA15: 0 | AC15: 0 | AE15: ='OA&GRIDCO'!W15+'Day Ahead IEX PXIL'!M15+RTM!M15 -> 21.64 | AF15: ='OA&GRIDCO'!X15+'Day Ahead IEX PXIL'!N15+RTM!N15 -> 1.03 | AG15: ='OA&GRIDCO'!AC15+'Day Ahead IEX PXIL'!S15+RTM!S15 -> 1.86 | AH15: ='OA&GRIDCO'!AD15+'Day Ahead IEX PXIL'!T15+RTM!T15 -> 0 | AI15: ='OA&GRIDCO'!AU15+'Day Ahead IEX PXIL'!Y15+RTM!Y15 -> 115 | AJ15: ='OA&GRIDCO'!AV15+'Day Ahead IEX PXIL'!Z15+RTM!Z15 -> 34.5 | AK15: ='OA&GRIDCO'!BS15+'Day Ahead IEX PXIL'!AK15+RTM!AK15 -> 101.55 | AL15: ='OA&GRIDCO'!BT15+'Day Ahead IEX PXIL'!AL15+RTM!AL15 -> 7.12 | AM15: ='OA&GRIDCO'!BC15+'Day Ahead IEX PXIL'!AE15+RTM!AE15 -> 0 | AN15: ='OA&GRIDCO'!BD15+'Day Ahead IEX PXIL'!AF15+RTM!AF15 -> 0 | AO15: ='OA&GRIDCO'!CC15+'Day Ahead IEX PXIL'!AQ15+RTM!AQ15 -> 0 | AP15: ='OA&GRIDCO'!CD15+'Day Ahead IEX PXIL'!AR15+RTM!AR15 -> 0 | AQ15: ='OA&GRIDCO'!CO15+'Day Ahead IEX PXIL'!AW15+RTM!AW15 -> 45.08 | AR15: ='OA&GRIDCO'!CP15+'Day Ahead IEX PXIL'!AX15+RTM!AX15 -> 14 | AS15: ='OA&GRIDCO'!DA15+'Day Ahead IEX PXIL'!BC15+RTM!BC15 -> 193.81443 | AT15: ='OA&GRIDCO'!DB15+'Day Ahead IEX PXIL'!BD15+RTM!BD15 -> 0 | AU15: ='Day Ahead IEX PXIL'!BI15+RTM!BI15+'OA&GRIDCO'!OY15 -> 0 | AV15: ='Day Ahead IEX PXIL'!BJ15+RTM!BJ15+'OA&GRIDCO'!OZ15 -> 0 | AY15: 0 | AZ15: ='OA&GRIDCO'!DL15+'Day Ahead IEX PXIL'!BP15+RTM!BP15 -> 13.7 | BA15: ='OA&GRIDCO'!EC15+'Day Ahead IEX PXIL'!BU15+RTM!BU15 -> 0 | BB15: ='OA&GRIDCO'!ED15+'Day Ahead IEX PXIL'!BV15+RTM!BV15 -> 0 | BC15: ='OA&GRIDCO'!EQ15+'Day Ahead IEX PXIL'!CA15+RTM!CA15 -> 600 | BD15: ='OA&GRIDCO'!ER15+'Day Ahead IEX PXIL'!CB15+RTM!CB15 -> 103.61 | BE15: ='OA&GRIDCO'!OC15+GDAM!U15 -> 0 | BF15: ='OA&GRIDCO'!OD15+GDAM!V15 -> 0 | BI15: ='OA&GRIDCO'!EW15+'Day Ahead IEX PXIL'!CG15+RTM!CG15 -> 1.03 | BJ15: ='OA&GRIDCO'!EX15+'Day Ahead IEX PXIL'!CH15+RTM!CH15 -> 0 | BK15: ='OA&GRIDCO'!KY15+RTM!FG15+'Day Ahead IEX PXIL'!GW15 -> 0 | BL15: ='OA&GRIDCO'!KZ15+RTM!FH15+'Day Ahead IEX PXIL'!GX15 -> 0 | BM15: ='Day Ahead IEX PXIL'!CM15+RTM!CM15+'OA&GRIDCO'!FC15 -> 28 | BN15: ='OA&GRIDCO'!FD15+'Day Ahead IEX PXIL'!CN15+RTM!CN15 -> 0 | BQ15: ='OA&GRIDCO'!FQ15+'Day Ahead IEX PXIL'!CS15+RTM!CS15 -> 2.06 | BR15: ='OA&GRIDCO'!FR15+'Day Ahead IEX PXIL'!CT15+RTM!CT15 -> 0 | BS15: ='OA&GRIDCO'!JW15+'Day Ahead IEX PXIL'!FA15+RTM!EU15 -> 53.8863 | BT15: ='OA&GRIDCO'!JX15+'Day Ahead IEX PXIL'!FB15+RTM!EV15 -> 10 | BU15: ='OA&GRIDCO'!GG15+RTM!G15 -> 0 | BV15: ='OA&GRIDCO'!GH15 -> 0 | BW15: ='OA&GRIDCO'!HA15+'Day Ahead IEX PXIL'!DK15+RTM!DE15 -> 0 | BX15: ='OA&GRIDCO'!HB15 -> 0 | BY15: ='Day Ahead IEX PXIL'!GK15+RTM!FA15+'OA&GRIDCO'!LE15 -> 0 | BZ15: ='Day Ahead IEX PXIL'!GL15+RTM!FB15+'OA&GRIDCO'!LF15 -> 0 | CC15: =RTM!GI15+'Day Ahead IEX PXIL'!II15+GDAM!M15 -> 0 | CD15: =RTM!GJ15 -> 0 | CE15: ='OA&GRIDCO'!HI15+'Day Ahead IEX PXIL'!DQ15+RTM!DK15 -> 0 | CF15: ='OA&GRIDCO'!HJ15+'Day Ahead IEX PXIL'!DR15+RTM!DL15 -> 0 | CG15: ='OA&GRIDCO'!HO15+'Day Ahead IEX PXIL'!DW15+RTM!DQ15 -> 5.15 | CH15: ='OA&GRIDCO'!HP15+'Day Ahead IEX PXIL'!DX15+RTM!DR15 -> 0 | CI15: ='Day Ahead IEX PXIL'!HE15+'OA&GRIDCO'!DI15+RTM!GY15 -> 1.03 | CJ15: ='Day Ahead IEX PXIL'!HF15+'OA&GRIDCO'!DJ15 -> 0 | CK15: ='OA&GRIDCO'!KU15+'Day Ahead IEX PXIL'!DE15 -> 0 | CL15: ='OA&GRIDCO'!KV15+'Day Ahead IEX PXIL'!DF15 -> 0 | CM15: ='Day Ahead IEX PXIL'!FS15+RTM!FS15 -> 0 | CN15: ='Day Ahead IEX PXIL'!FT15 -> 0 | CO15: =RTM!IY15+'Day Ahead IEX PXIL'!IU15 -> 0 | CP15: =RTM!IZ15+'Day Ahead IEX PXIL'!IV15 -> 0 | CQ15: ='OA&GRIDCO'!KI15+'Day Ahead IEX PXIL'!FM15+RTM!GE15 -> 0 | CR15: ='OA&GRIDCO'!KJ15+'Day Ahead IEX PXIL'!FN15 -> 0 | CS15: ='OA&GRIDCO'!KO15+'Day Ahead IEX PXIL'!FY15+RTM!FY15 -> 0 | CT15: ='Day Ahead IEX PXIL'!FZ15 -> 0 | CU15: 0 | CV15: ='Day Ahead IEX PXIL'!GF15 -> 0 | CW15: ='OA&GRIDCO'!HU15+'Day Ahead IEX PXIL'!EC15+RTM!DW15 -> 415 | CX15: ='OA&GRIDCO'!HV15+'Day Ahead IEX PXIL'!ED15+RTM!DX15 -> 0 | CY15: ='OA&GRIDCO'!IG15+'Day Ahead IEX PXIL'!EI15+RTM!EC15 -> 4.3 | CZ15: ='OA&GRIDCO'!IH15+'Day Ahead IEX PXIL'!EJ15+RTM!ED15 -> 1.075 | DA15: ='OA&GRIDCO'!IU15+'Day Ahead IEX PXIL'!EO15+RTM!EI15 -> 0 | DB15: ='OA&GRIDCO'!IV15+'Day Ahead IEX PXIL'!EP15+RTM!EJ15 -> 0 | DE15: ='Day Ahead IEX PXIL'!FC15+'OA&GRIDCO'!KC15+RTM!GM15 -> 0 | DF15: ='Day Ahead IEX PXIL'!FD15+'OA&GRIDCO'!KD15 -> 0 | DG15: ='OA&GRIDCO'!JG15+'Day Ahead IEX PXIL'!EU15+RTM!EO15 -> 26.8 | DH15: ='OA&GRIDCO'!JH15+'Day Ahead IEX PXIL'!EV15+RTM!EP15 -> 0 | DI15: 0 | DJ15: 0 | DK15: =RTM!FM15 -> 0 | DL15: =RTM!FN15 -> 0 | DM15: ='OA&GRIDCO'!LH15+'Day Ahead IEX PXIL'!HU15+'Day Ahead IEX PXIL'!HU15 -> 0 | DN15: ='OA&GRIDCO'!LJ15+'Day Ahead IEX PXIL'!HV15+RTM!GV15 -> 0 | DO15: ='OA&GRIDCO'!LU15+'Day Ahead IEX PXIL'!HO15+RTM!IU15 -> 54.795 | DP15: ='OA&GRIDCO'!LV15+'Day Ahead IEX PXIL'!HP15+RTM!IV15 -> 0 | DQ15: =RTM!HK15 -> 1.24 | DR15: =RTM!HL15 -> 0 | DS15: =RTM!HO15 -> 0 | DT15: =RTM!HP15 -> 0 | DU15: =RTM!HS15 -> 0 | DV15: =RTM!HT15 -> 0 | DW15: =RTM!HW15+'OA&GRIDCO'!MK15 -> 23.71 | DX15: =RTM!HX15 -> 0 | DY15: =RTM!IA15 -> 0 | DZ15: =RTM!IB15 -> 0 | EA15: =RTM!IC15 -> 0 | EB15: =RTM!ID15 -> 0 | EC15: ='OA&GRIDCO'!MQ15 -> 0 | ED15: ='OA&GRIDCO'!MR15 -> 0 | EE15: ='OA&GRIDCO'!MU15 -> 0 | EF15: ='OA&GRIDCO'!MV15 -> 0 | EG15: ='OA&GRIDCO'!MY15+'Day Ahead IEX PXIL'!IM15+GDAM!G15+RTM!II15 -> 0 | EH15: ='OA&GRIDCO'!MZ15+'Day Ahead IEX PXIL'!IN15+RTM!IJ15+GDAM!H15 -> 0 | EI15: ='Day Ahead IEX PXIL'!IQ15+RTM!IM15+'OA&GRIDCO'!NC15+GDAM!BO15 -> 0 | EJ15: ='Day Ahead IEX PXIL'!IR15+RTM!IN15+'OA&GRIDCO'!ND15 -> 0 | EK15: ='OA&GRIDCO'!NG15 -> 0 | EL15: ='OA&GRIDCO'!NH15 -> 0 | EM15: =RTM!IQ15 -> 0 | EN15: =RTM!IR15 -> 0 | EO15: =RTM!JC15 -> 0 | EP15: =RTM!JD15 -> 0 | EQ15: ='OA&GRIDCO'!NK15 -> 0 | ER15: ='OA&GRIDCO'!NL15 -> 0 | ES15: ='OA&GRIDCO'!NM15+RTM!HC15+'Day Ahead IEX PXIL'!IY15 -> 0 | ET15: ='OA&GRIDCO'!NP15+RTM!HD15+'Day Ahead IEX PXIL'!IZ15 -> 0 | EU15: =RTM!JG15 -> 1.55 | EV15: =RTM!JH15 -> 0 | EW15: =RTM!JK15 -> 0 | EX15: =RTM!JL15 -> 0 | EY15: =GDAM!S15+'OA&GRIDCO'!OM15+RTM!JO15 -> 0 | EZ15: =GDAM!T15+'OA&GRIDCO'!OD15+RTM!JP15 -> 0 | FA15: =GDAM!Y15+RTM!JS15 -> 0 | FB15: =GDAM!Z15+RTM!JT15 -> 0 | FC15: =RTM!JW15 -> 0 | FD15: =RTM!JX15 -> 0 | FE15: =GDAM!AE15+'OA&GRIDCO'!OU15 -> 0 | FF15: =GDAM!AF15+'OA&GRIDCO'!OV15 -> 0 | FG15: =GDAM!AK15 -> 0 | FH15: =GDAM!AL15 -> 0 | FI15: =GDAM!AQ15 -> 0 | FJ15: =GDAM!AR15 -> 0 | FK15: =GDAM!AW15 -> 0 | FL15: =GDAM!AX15 -> 0 | FM15: =GDAM!BC15 -> 0 | FN15: =GDAM!BD15 -> 0 | FO15: =GDAM!BI15 -> 0 | FP15: =GDAM!BJ15 -> 0 | FQ15: =C15+E15+G15+I15+K15+M15+O15+Q15+W15+Y15+AA15+AC15+AE15+AG15+AI15+AK15+AM15+AO15+AQ15+AS15+AU15+AW15+AY15+BA15+BC15+BE15+BG15+BI15+BK15+BM15+BO15+BQ15+BS15+BU15+BW15+BY15+CA15+CC15+CE15+CG15+CI15+CK15+CM15+CQ15+CS15+CU15+CW15+CY15+DA15+DC15+DE15+DG15+DI15+DK15+DM15+DO15+DQ15+DS15+DU15+DW15+DY15+EA15+EC15+EE15+EG15+EI15+EK15+CO15+EM15+EO15+EQ15+ES15+EU15+EW15+EY15+FA15+FC15+FE15+FG15+FI15+FK15+FM15+FO15 -> 1730.4957 | FR15: =D15+F15+H15+J15+L15+N15+P15+R15+X15+Z15+AB15+AD15+AF15+AH15+AJ15+AL15+AN15+AP15+AR15+AT15+AV15+AX15+AZ15+BB15+BD15+BH15+BJ15+BL15+BN15+BP15+BF15+BR15+BT15+BV15+BX15+BZ15+CB15+CD15+CF15+CH15+CJ15+CL15+CN15+CR15+CT15+CV15+CX15+CZ15+DB15+DD15+DF15+DH15+DJ15+DL15+DN15+DP15+DR15+DT15+DV15+DX15+DZ15+EB15+ED15+EF15+EH15+EJ15+EL15+EN15+CP15+EP15+ER15+ET15+EV15+EX15+EZ15+FB15+FD15+FF15+FH15+FJ15+FL15+FN15+FP15 -> 186.785
A16: 0115-0130 | B16: 6 | G16: 24 | H16: 0.9 | O16: 0 | Q16: 9 | R16: 0.85 | S16: 25 | U16: 37 | W16: 0 | Y16: 0 | AA16: 0 | AC16: 0 | AE16: ='OA&GRIDCO'!W16+'Day Ahead IEX PXIL'!M16+RTM!M16 -> 21.64 | AF16: ='OA&GRIDCO'!X16+'Day Ahead IEX PXIL'!N16+RTM!N16 -> 1.03 | AG16: ='OA&GRIDCO'!AC16+'Day Ahead IEX PXIL'!S16+RTM!S16 -> 1.86 | AH16: ='OA&GRIDCO'!AD16+'Day Ahead IEX PXIL'!T16+RTM!T16 -> 0 | AI16: ='OA&GRIDCO'!AU16+'Day Ahead IEX PXIL'!Y16+RTM!Y16 -> 115 | AJ16: ='OA&GRIDCO'!AV16+'Day Ahead IEX PXIL'!Z16+RTM!Z16 -> 34.5 | AK16: ='OA&GRIDCO'!BS16+'Day Ahead IEX PXIL'!AK16+RTM!AK16 -> 70.62 | AL16: ='OA&GRIDCO'!BT16+'Day Ahead IEX PXIL'!AL16+RTM!AL16 -> 7.12 | AM16: ='OA&GRIDCO'!BC16+'Day Ahead IEX PXIL'!AE16+RTM!AE16 -> 0 | AN16: ='OA&GRIDCO'!BD16+'Day Ahead IEX PXIL'!AF16+RTM!AF16 -> 0 | AO16: ='OA&GRIDCO'!CC16+'Day Ahead IEX PXIL'!AQ16+RTM!AQ16 -> 0 | AP16: ='OA&GRIDCO'!CD16+'Day Ahead IEX PXIL'!AR16+RTM!AR16 -> 0 | AQ16: ='OA&GRIDCO'!CO16+'Day Ahead IEX PXIL'!AW16+RTM!AW16 -> 45.08 | AR16: ='OA&GRIDCO'!CP16+'Day Ahead IEX PXIL'!AX16+RTM!AX16 -> 14 | AS16: ='OA&GRIDCO'!DA16+'Day Ahead IEX PXIL'!BC16+RTM!BC16 -> 193.81443 | AT16: ='OA&GRIDCO'!DB16+'Day Ahead IEX PXIL'!BD16+RTM!BD16 -> 0 | AU16: ='Day Ahead IEX PXIL'!BI16+RTM!BI16+'OA&GRIDCO'!OY16 -> 0 | AV16: ='Day Ahead IEX PXIL'!BJ16+RTM!BJ16+'OA&GRIDCO'!OZ16 -> 0 | AY16: 0 | AZ16: ='OA&GRIDCO'!DL16+'Day Ahead IEX PXIL'!BP16+RTM!BP16 -> 13.7 | BA16: ='OA&GRIDCO'!EC16+'Day Ahead IEX PXIL'!BU16+RTM!BU16 -> 0 | BB16: ='OA&GRIDCO'!ED16+'Day Ahead IEX PXIL'!BV16+RTM!BV16 -> 0 | BC16: ='OA&GRIDCO'!EQ16+'Day Ahead IEX PXIL'!CA16+RTM!CA16 -> 600 | BD16: ='OA&GRIDCO'!ER16+'Day Ahead IEX PXIL'!CB16+RTM!CB16 -> 103.61 | BE16: ='OA&GRIDCO'!OC16+GDAM!U16 -> 0 | BF16: ='OA&GRIDCO'!OD16+GDAM!V16 -> 0 | BI16: ='OA&GRIDCO'!EW16+'Day Ahead IEX PXIL'!CG16+RTM!CG16 -> 1.03 | BJ16: ='OA&GRIDCO'!EX16+'Day Ahead IEX PXIL'!CH16+RTM!CH16 -> 0 | BK16: ='OA&GRIDCO'!KY16+RTM!FG16+'Day Ahead IEX PXIL'!GW16 -> 0 | BL16: ='OA&GRIDCO'!KZ16+RTM!FH16+'Day Ahead IEX PXIL'!GX16 -> 0 | BM16: ='Day Ahead IEX PXIL'!CM16+RTM!CM16+'OA&GRIDCO'!FC16 -> 28 | BN16: ='OA&GRIDCO'!FD16+'Day Ahead IEX PXIL'!CN16+RTM!CN16 -> 0 | BQ16: ='OA&GRIDCO'!FQ16+'Day Ahead IEX PXIL'!CS16+RTM!CS16 -> 2.06 | BR16: ='OA&GRIDCO'!FR16+'Day Ahead IEX PXIL'!CT16+RTM!CT16 -> 0 | BS16: ='OA&GRIDCO'!JW16+'Day Ahead IEX PXIL'!FA16+RTM!EU16 -> 53.8863 | BT16: ='OA&GRIDCO'!JX16+'Day Ahead IEX PXIL'!FB16+RTM!EV16 -> 10 | BU16: ='OA&GRIDCO'!GG16+RTM!G16 -> 0 | BV16: ='OA&GRIDCO'!GH16 -> 0 | BW16: ='OA&GRIDCO'!HA16+'Day Ahead IEX PXIL'!DK16+RTM!DE16 -> 0 | BX16: ='OA&GRIDCO'!HB16 -> 0 | BY16: ='Day Ahead IEX PXIL'!GK16+RTM!FA16+'OA&GRIDCO'!LE16 -> 0 | BZ16: ='Day Ahead IEX PXIL'!GL16+RTM!FB16+'OA&GRIDCO'!LF16 -> 0 | CC16: =RTM!GI16+'Day Ahead IEX PXIL'!II16+GDAM!M16 -> 0 | CD16: =RTM!GJ16 -> 0 | CE16: ='OA&GRIDCO'!HI16+'Day Ahead IEX PXIL'!DQ16+RTM!DK16 -> 0 | CF16: ='OA&GRIDCO'!HJ16+'Day Ahead IEX PXIL'!DR16+RTM!DL16 -> 0 | CG16: ='OA&GRIDCO'!HO16+'Day Ahead IEX PXIL'!DW16+RTM!DQ16 -> 5.15 | CH16: ='OA&GRIDCO'!HP16+'Day Ahead IEX PXIL'!DX16+RTM!DR16 -> 0 | CI16: ='Day Ahead IEX PXIL'!HE16+'OA&GRIDCO'!DI16+RTM!GY16 -> 1.03 | CJ16: ='Day Ahead IEX PXIL'!HF16+'OA&GRIDCO'!DJ16 -> 0 | CK16: ='OA&GRIDCO'!KU16+'Day Ahead IEX PXIL'!DE16 -> 0 | CL16: ='OA&GRIDCO'!KV16+'Day Ahead IEX PXIL'!DF16 -> 0 | CM16: ='Day Ahead IEX PXIL'!FS16+RTM!FS16 -> 0 | CN16: ='Day Ahead IEX PXIL'!FT16 -> 0 | CO16: =RTM!IY16+'Day Ahead IEX PXIL'!IU16 -> 0 | CP16: =RTM!IZ16+'Day Ahead IEX PXIL'!IV16 -> 0 | CQ16: ='OA&GRIDCO'!KI16+'Day Ahead IEX PXIL'!FM16+RTM!GE16 -> 0 | CR16: ='OA&GRIDCO'!KJ16+'Day Ahead IEX PXIL'!FN16 -> 0 | CS16: ='OA&GRIDCO'!KO16+'Day Ahead IEX PXIL'!FY16+RTM!FY16 -> 0 | CT16: ='Day Ahead IEX PXIL'!FZ16 -> 0 | CU16: 0 | CV16: ='Day Ahead IEX PXIL'!GF16 -> 0 | CW16: ='OA&GRIDCO'!HU16+'Day Ahead IEX PXIL'!EC16+RTM!DW16 -> 400 | CX16: ='OA&GRIDCO'!HV16+'Day Ahead IEX PXIL'!ED16+RTM!DX16 -> 0 | CY16: ='OA&GRIDCO'!IG16+'Day Ahead IEX PXIL'!EI16+RTM!EC16 -> 4.3 | CZ16: ='OA&GRIDCO'!IH16+'Day Ahead IEX PXIL'!EJ16+RTM!ED16 -> 1.075 | DA16: ='OA&GRIDCO'!IU16+'Day Ahead IEX PXIL'!EO16+RTM!EI16 -> 0 | DB16: ='OA&GRIDCO'!IV16+'Day Ahead IEX PXIL'!EP16+RTM!EJ16 -> 0 | DE16: ='Day Ahead IEX PXIL'!FC16+'OA&GRIDCO'!KC16+RTM!GM16 -> 0 | DF16: ='Day Ahead IEX PXIL'!FD16+'OA&GRIDCO'!KD16 -> 0 | DG16: ='OA&GRIDCO'!JG16+'Day Ahead IEX PXIL'!EU16+RTM!EO16 -> 26.8 | DH16: ='OA&GRIDCO'!JH16+'Day Ahead IEX PXIL'!EV16+RTM!EP16 -> 0 | DI16: 0 | DJ16: 0 | DK16: =RTM!FM16 -> 0 | DL16: =RTM!FN16 -> 0 | DM16: ='OA&GRIDCO'!LH16+'Day Ahead IEX PXIL'!HU16+'Day Ahead IEX PXIL'!HU16 -> 0 | DN16: ='OA&GRIDCO'!LJ16+'Day Ahead IEX PXIL'!HV16+RTM!GV16 -> 0 | DO16: ='OA&GRIDCO'!LU16+'Day Ahead IEX PXIL'!HO16+RTM!IU16 -> 54.795 | DP16: ='OA&GRIDCO'!LV16+'Day Ahead IEX PXIL'!HP16+RTM!IV16 -> 0 | DQ16: =RTM!HK16 -> 1.24 | DR16: =RTM!HL16 -> 0 | DS16: =RTM!HO16 -> 0 | DT16: =RTM!HP16 -> 0 | DU16: =RTM!HS16 -> 0 | DV16: =RTM!HT16 -> 0 | DW16: =RTM!HW16+'OA&GRIDCO'!MK16 -> 23.71 | DX16: =RTM!HX16 -> 0 | DY16: =RTM!IA16 -> 0 | DZ16: =RTM!IB16 -> 0 | EA16: =RTM!IC16 -> 0 | EB16: =RTM!ID16 -> 0 | EC16: ='OA&GRIDCO'!MQ16 -> 0 | ED16: ='OA&GRIDCO'!MR16 -> 0 | EE16: ='OA&GRIDCO'!MU16 -> 0 | EF16: ='OA&GRIDCO'!MV16 -> 0 | EG16: ='OA&GRIDCO'!MY16+'Day Ahead IEX PXIL'!IM16+GDAM!G16+RTM!II16 -> 0 | EH16: ='OA&GRIDCO'!MZ16+'Day Ahead IEX PXIL'!IN16+RTM!IJ16+GDAM!H16 -> 0 | EI16: ='Day Ahead IEX PXIL'!IQ16+RTM!IM16+'OA&GRIDCO'!NC16+GDAM!BO16 -> 0 | EJ16: ='Day Ahead IEX PXIL'!IR16+RTM!IN16+'OA&GRIDCO'!ND16 -> 0 | EK16: ='OA&GRIDCO'!NG16 -> 0 | EL16: ='OA&GRIDCO'!NH16 -> 0 | EM16: =RTM!IQ16 -> 0 | EN16: =RTM!IR16 -> 0 | EO16: =RTM!JC16 -> 0 | EP16: =RTM!JD16 -> 0 | EQ16: ='OA&GRIDCO'!NK16 -> 0 | ER16: ='OA&GRIDCO'!NL16 -> 0 | ES16: ='OA&GRIDCO'!NM16+RTM!HC16+'Day Ahead IEX PXIL'!IY16 -> 0 | ET16: ='OA&GRIDCO'!NP16+RTM!HD16+'Day Ahead IEX PXIL'!IZ16 -> 0 | EU16: =RTM!JG16 -> 1.55 | EV16: =RTM!JH16 -> 0 | EW16: =RTM!JK16 -> 0 | EX16: =RTM!JL16 -> 0 | EY16: =GDAM!S16+'OA&GRIDCO'!OM16+RTM!JO16 -> 0 | EZ16: =GDAM!T16+'OA&GRIDCO'!OD16+RTM!JP16 -> 0 | FA16: =GDAM!Y16+RTM!JS16 -> 0 | FB16: =GDAM!Z16+RTM!JT16 -> 0 | FC16: =RTM!JW16 -> 0 | FD16: =RTM!JX16 -> 0 | FE16: =GDAM!AE16+'OA&GRIDCO'!OU16 -> 0 | FF16: =GDAM!AF16+'OA&GRIDCO'!OV16 -> 0 | FG16: =GDAM!AK16 -> 0 | FH16: =GDAM!AL16 -> 0 | FI16: =GDAM!AQ16 -> 0 | FJ16: =GDAM!AR16 -> 0 | FK16: =GDAM!AW16 -> 0 | FL16: =GDAM!AX16 -> 0 | FM16: =GDAM!BC16 -> 0 | FN16: =GDAM!BD16 -> 0 | FO16: =GDAM!BI16 -> 0 | FP16: =GDAM!BJ16 -> 0 | FQ16: =C16+E16+G16+I16+K16+M16+O16+Q16+W16+Y16+AA16+AC16+AE16+AG16+AI16+AK16+AM16+AO16+AQ16+AS16+AU16+AW16+AY16+BA16+BC16+BE16+BG16+BI16+BK16+BM16+BO16+BQ16+BS16+BU16+BW16+BY16+CA16+CC16+CE16+CG16+CI16+CK16+CM16+CQ16+CS16+CU16+CW16+CY16+DA16+DC16+DE16+DG16+DI16+DK16+DM16+DO16+DQ16+DS16+DU16+DW16+DY16+EA16+EC16+EE16+EG16+EI16+EK16+CO16+EM16+EO16+EQ16+ES16+EU16+EW16+EY16+FA16+FC16+FE16+FG16+FI16+FK16+FM16+FO16 -> 1684.5657 | FR16: =D16+F16+H16+J16+L16+N16+P16+R16+X16+Z16+AB16+AD16+AF16+AH16+AJ16+AL16+AN16+AP16+AR16+AT16+AV16+AX16+AZ16+BB16+BD16+BH16+BJ16+BL16+BN16+BP16+BF16+BR16+BT16+BV16+BX16+BZ16+CB16+CD16+CF16+CH16+CJ16+CL16+CN16+CR16+CT16+CV16+CX16+CZ16+DB16+DD16+DF16+DH16+DJ16+DL16+DN16+DP16+DR16+DT16+DV16+DX16+DZ16+EB16+ED16+EF16+EH16+EJ16+EL16+EN16+CP16+EP16+ER16+ET16+EV16+EX16+EZ16+FB16+FD16+FF16+FH16+FJ16+FL16+FN16+FP16 -> 186.785
A17: 0130-0145 | B17: 7 | G17: 24 | H17: 0.9 | O17: 0 | Q17: 9 | R17: 0.85 | S17: 25 | U17: 37 | W17: 0 | Y17: 0 | AA17: 0 | AC17: 0 | AE17: ='OA&GRIDCO'!W17+'Day Ahead IEX PXIL'!M17+RTM!M17 -> 10.3 | AF17: ='OA&GRIDCO'!X17+'Day Ahead IEX PXIL'!N17+RTM!N17 -> 1.03 | AG17: ='OA&GRIDCO'!AC17+'Day Ahead IEX PXIL'!S17+RTM!S17 -> 1.86 | AH17: ='OA&GRIDCO'!AD17+'Day Ahead IEX PXIL'!T17+RTM!T17 -> 0 | AI17: ='OA&GRIDCO'!AU17+'Day Ahead IEX PXIL'!Y17+RTM!Y17 -> 115 | AJ17: ='OA&GRIDCO'!AV17+'Day Ahead IEX PXIL'!Z17+RTM!Z17 -> 34.5 | AK17: ='OA&GRIDCO'!BS17+'Day Ahead IEX PXIL'!AK17+RTM!AK17 -> 50 | AL17: ='OA&GRIDCO'!BT17+'Day Ahead IEX PXIL'!AL17+RTM!AL17 -> 7.12 | AM17: ='OA&GRIDCO'!BC17+'Day Ahead IEX PXIL'!AE17+RTM!AE17 -> 0 | AN17: ='OA&GRIDCO'!BD17+'Day Ahead IEX PXIL'!AF17+RTM!AF17 -> 0 | AO17: ='OA&GRIDCO'!CC17+'Day Ahead IEX PXIL'!AQ17+RTM!AQ17 -> 0 | AP17: ='OA&GRIDCO'!CD17+'Day Ahead IEX PXIL'!AR17+RTM!AR17 -> 0 | AQ17: ='OA&GRIDCO'!CO17+'Day Ahead IEX PXIL'!AW17+RTM!AW17 -> 45.08 | AR17: ='OA&GRIDCO'!CP17+'Day Ahead IEX PXIL'!AX17+RTM!AX17 -> 14 | AS17: ='OA&GRIDCO'!DA17+'Day Ahead IEX PXIL'!BC17+RTM!BC17 -> 223.81443 | AT17: ='OA&GRIDCO'!DB17+'Day Ahead IEX PXIL'!BD17+RTM!BD17 -> 0 | AU17: ='Day Ahead IEX PXIL'!BI17+RTM!BI17+'OA&GRIDCO'!OY17 -> 0 | AV17: ='Day Ahead IEX PXIL'!BJ17+RTM!BJ17+'OA&GRIDCO'!OZ17 -> 0 | AY17: 0 | AZ17: ='OA&GRIDCO'!DL17+'Day Ahead IEX PXIL'!BP17+RTM!BP17 -> 13.7 | BA17: ='OA&GRIDCO'!EC17+'Day Ahead IEX PXIL'!BU17+RTM!BU17 -> 0 | BB17: ='OA&GRIDCO'!ED17+'Day Ahead IEX PXIL'!BV17+RTM!BV17 -> 0 | BC17: ='OA&GRIDCO'!EQ17+'Day Ahead IEX PXIL'!CA17+RTM!CA17 -> 600 | BD17: ='OA&GRIDCO'!ER17+'Day Ahead IEX PXIL'!CB17+RTM!CB17 -> 103.61 | BE17: ='OA&GRIDCO'!OC17+GDAM!U17 -> 0 | BF17: ='OA&GRIDCO'!OD17+GDAM!V17 -> 0 | BI17: ='OA&GRIDCO'!EW17+'Day Ahead IEX PXIL'!CG17+RTM!CG17 -> 1.03 | BJ17: ='OA&GRIDCO'!EX17+'Day Ahead IEX PXIL'!CH17+RTM!CH17 -> 0 | BK17: ='OA&GRIDCO'!KY17+RTM!FG17+'Day Ahead IEX PXIL'!GW17 -> 0 | BL17: ='OA&GRIDCO'!KZ17+RTM!FH17+'Day Ahead IEX PXIL'!GX17 -> 0 | BM17: ='Day Ahead IEX PXIL'!CM17+RTM!CM17+'OA&GRIDCO'!FC17 -> 28 | BN17: ='OA&GRIDCO'!FD17+'Day Ahead IEX PXIL'!CN17+RTM!CN17 -> 0 | BQ17: ='OA&GRIDCO'!FQ17+'Day Ahead IEX PXIL'!CS17+RTM!CS17 -> 2.06 | BR17: ='OA&GRIDCO'!FR17+'Day Ahead IEX PXIL'!CT17+RTM!CT17 -> 0 | BS17: ='OA&GRIDCO'!JW17+'Day Ahead IEX PXIL'!FA17+RTM!EU17 -> 53.8863 | BT17: ='OA&GRIDCO'!JX17+'Day Ahead IEX PXIL'!FB17+RTM!EV17 -> 10 | BU17: ='OA&GRIDCO'!GG17+RTM!G17 -> 0 | BV17: ='OA&GRIDCO'!GH17 -> 0 | BW17: ='OA&GRIDCO'!HA17+'Day Ahead IEX PXIL'!DK17+RTM!DE17 -> 0 | BX17: ='OA&GRIDCO'!HB17 -> 0 | BY17: ='Day Ahead IEX PXIL'!GK17+RTM!FA17+'OA&GRIDCO'!LE17 -> 0 | BZ17: ='Day Ahead IEX PXIL'!GL17+RTM!FB17+'OA&GRIDCO'!LF17 -> 0 | CC17: =RTM!GI17+'Day Ahead IEX PXIL'!II17+GDAM!M17 -> 0 | CD17: =RTM!GJ17 -> 0 | CE17: ='OA&GRIDCO'!HI17+'Day Ahead IEX PXIL'!DQ17+RTM!DK17 -> 0 | CF17: ='OA&GRIDCO'!HJ17+'Day Ahead IEX PXIL'!DR17+RTM!DL17 -> 0 | CG17: ='OA&GRIDCO'!HO17+'Day Ahead IEX PXIL'!DW17+RTM!DQ17 -> 5.15 | CH17: ='OA&GRIDCO'!HP17+'Day Ahead IEX PXIL'!DX17+RTM!DR17 -> 0 | CI17: ='Day Ahead IEX PXIL'!HE17+'OA&GRIDCO'!DI17+RTM!GY17 -> 1.03 | CJ17: ='Day Ahead IEX PXIL'!HF17+'OA&GRIDCO'!DJ17 -> 0 | CK17: ='OA&GRIDCO'!KU17+'Day Ahead IEX PXIL'!DE17 -> 0 | CL17: ='OA&GRIDCO'!KV17+'Day Ahead IEX PXIL'!DF17 -> 0 | CM17: ='Day Ahead IEX PXIL'!FS17+RTM!FS17 -> 0 | CN17: ='Day Ahead IEX PXIL'!FT17 -> 0 | CO17: =RTM!IY17+'Day Ahead IEX PXIL'!IU17 -> 0 | CP17: =RTM!IZ17+'Day Ahead IEX PXIL'!IV17 -> 0 | CQ17: ='OA&GRIDCO'!KI17+'Day Ahead IEX PXIL'!FM17+RTM!GE17 -> 0 | CR17: ='OA&GRIDCO'!KJ17+'Day Ahead IEX PXIL'!FN17 -> 0 | CS17: ='OA&GRIDCO'!KO17+'Day Ahead IEX PXIL'!FY17+RTM!FY17 -> 0 | CT17: ='Day Ahead IEX PXIL'!FZ17 -> 0 | CU17: 0 | CV17: ='Day Ahead IEX PXIL'!GF17 -> 0 | CW17: ='OA&GRIDCO'!HU17+'Day Ahead IEX PXIL'!EC17+RTM!DW17 -> 400 | CX17: ='OA&GRIDCO'!HV17+'Day Ahead IEX PXIL'!ED17+RTM!DX17 -> 0 | CY17: ='OA&GRIDCO'!IG17+'Day Ahead IEX PXIL'!EI17+RTM!EC17 -> 4.3 | CZ17: ='OA&GRIDCO'!IH17+'Day Ahead IEX PXIL'!EJ17+RTM!ED17 -> 1.075 | DA17: ='OA&GRIDCO'!IU17+'Day Ahead IEX PXIL'!EO17+RTM!EI17 -> 0 | DB17: ='OA&GRIDCO'!IV17+'Day Ahead IEX PXIL'!EP17+RTM!EJ17 -> 0 | DE17: ='Day Ahead IEX PXIL'!FC17+'OA&GRIDCO'!KC17+RTM!GM17 -> 0 | DF17: ='Day Ahead IEX PXIL'!FD17+'OA&GRIDCO'!KD17 -> 0 | DG17: ='OA&GRIDCO'!JG17+'Day Ahead IEX PXIL'!EU17+RTM!EO17 -> 26.8 | DH17: ='OA&GRIDCO'!JH17+'Day Ahead IEX PXIL'!EV17+RTM!EP17 -> 0 | DI17: 0 | DJ17: 0 | DK17: =RTM!FM17 -> 0 | DL17: =RTM!FN17 -> 0 | DM17: ='OA&GRIDCO'!LH17+'Day Ahead IEX PXIL'!HU17+'Day Ahead IEX PXIL'!HU17 -> 0 | DN17: ='OA&GRIDCO'!LJ17+'Day Ahead IEX PXIL'!HV17+RTM!GV17 -> 0 | DO17: ='OA&GRIDCO'!LU17+'Day Ahead IEX PXIL'!HO17+RTM!IU17 -> 54.795 | DP17: ='OA&GRIDCO'!LV17+'Day Ahead IEX PXIL'!HP17+RTM!IV17 -> 0 | DQ17: =RTM!HK17 -> 1.24 | DR17: =RTM!HL17 -> 0 | DS17: =RTM!HO17 -> 0 | DT17: =RTM!HP17 -> 0 | DU17: =RTM!HS17 -> 0 | DV17: =RTM!HT17 -> 0 | DW17: =RTM!HW17+'OA&GRIDCO'!MK17 -> 23.71 | DX17: =RTM!HX17 -> 0 | DY17: =RTM!IA17 -> 0 | DZ17: =RTM!IB17 -> 0 | EA17: =RTM!IC17 -> 0 | EB17: =RTM!ID17 -> 0 | EC17: ='OA&GRIDCO'!MQ17 -> 0 | ED17: ='OA&GRIDCO'!MR17 -> 0 | EE17: ='OA&GRIDCO'!MU17 -> 0 | EF17: ='OA&GRIDCO'!MV17 -> 0 | EG17: ='OA&GRIDCO'!MY17+'Day Ahead IEX PXIL'!IM17+GDAM!G17+RTM!II17 -> 0 | EH17: ='OA&GRIDCO'!MZ17+'Day Ahead IEX PXIL'!IN17+RTM!IJ17+GDAM!H17 -> 0 | EI17: ='Day Ahead IEX PXIL'!IQ17+RTM!IM17+'OA&GRIDCO'!NC17+GDAM!BO17 -> 0 | EJ17: ='Day Ahead IEX PXIL'!IR17+RTM!IN17+'OA&GRIDCO'!ND17 -> 0 | EK17: ='OA&GRIDCO'!NG17 -> 0 | EL17: ='OA&GRIDCO'!NH17 -> 0 | EM17: =RTM!IQ17 -> 0 | EN17: =RTM!IR17 -> 0 | EO17: =RTM!JC17 -> 0 | EP17: =RTM!JD17 -> 0 | EQ17: ='OA&GRIDCO'!NK17 -> 0 | ER17: ='OA&GRIDCO'!NL17 -> 0 | ES17: ='OA&GRIDCO'!NM17+RTM!HC17+'Day Ahead IEX PXIL'!IY17 -> 0 | ET17: ='OA&GRIDCO'!NP17+RTM!HD17+'Day Ahead IEX PXIL'!IZ17 -> 0 | EU17: =RTM!JG17 -> 1.55 | EV17: =RTM!JH17 -> 0 | EW17: =RTM!JK17 -> 0 | EX17: =RTM!JL17 -> 0 | EY17: =GDAM!S17+'OA&GRIDCO'!OM17+RTM!JO17 -> 0 | EZ17: =GDAM!T17+'OA&GRIDCO'!OD17+RTM!JP17 -> 0 | FA17: =GDAM!Y17+RTM!JS17 -> 0 | FB17: =GDAM!Z17+RTM!JT17 -> 0 | FC17: =RTM!JW17 -> 0 | FD17: =RTM!JX17 -> 0 | FE17: =GDAM!AE17+'OA&GRIDCO'!OU17 -> 0 | FF17: =GDAM!AF17+'OA&GRIDCO'!OV17 -> 0 | FG17: =GDAM!AK17 -> 0 | FH17: =GDAM!AL17 -> 0 | FI17: =GDAM!AQ17 -> 0 | FJ17: =GDAM!AR17 -> 0 | FK17: =GDAM!AW17 -> 0 | FL17: =GDAM!AX17 -> 0 | FM17: =GDAM!BC17 -> 0 | FN17: =GDAM!BD17 -> 0 | FO17: =GDAM!BI17 -> 0 | FP17: =GDAM!BJ17 -> 0 | FQ17: =C17+E17+G17+I17+K17+M17+O17+Q17+W17+Y17+AA17+AC17+AE17+AG17+AI17+AK17+AM17+AO17+AQ17+AS17+AU17+AW17+AY17+BA17+BC17+BE17+BG17+BI17+BK17+BM17+BO17+BQ17+BS17+BU17+BW17+BY17+CA17+CC17+CE17+CG17+CI17+CK17+CM17+CQ17+CS17+CU17+CW17+CY17+DA17+DC17+DE17+DG17+DI17+DK17+DM17+DO17+DQ17+DS17+DU17+DW17+DY17+EA17+EC17+EE17+EG17+EI17+EK17+CO17+EM17+EO17+EQ17+ES17+EU17+EW17+EY17+FA17+FC17+FE17+FG17+FI17+FK17+FM17+FO17 -> 1682.6057 | FR17: =D17+F17+H17+J17+L17+N17+P17+R17+X17+Z17+AB17+AD17+AF17+AH17+AJ17+AL17+AN17+AP17+AR17+AT17+AV17+AX17+AZ17+BB17+BD17+BH17+BJ17+BL17+BN17+BP17+BF17+BR17+BT17+BV17+BX17+BZ17+CB17+CD17+CF17+CH17+CJ17+CL17+CN17+CR17+CT17+CV17+CX17+CZ17+DB17+DD17+DF17+DH17+DJ17+DL17+DN17+DP17+DR17+DT17+DV17+DX17+DZ17+EB17+ED17+EF17+EH17+EJ17+EL17+EN17+CP17+EP17+ER17+ET17+EV17+EX17+EZ17+FB17+FD17+FF17+FH17+FJ17+FL17+FN17+FP17 -> 186.785
